BEGIN:VCALENDAR
VERSION:2.0
PRODID:-//Open Up - ECPv6.15.20//NONSGML v1.0//EN
CALSCALE:GREGORIAN
METHOD:PUBLISH
X-WR-CALNAME:Open Up
X-ORIGINAL-URL:https://open-up.ie
X-WR-CALDESC:Events for Open Up
REFRESH-INTERVAL;VALUE=DURATION:PT1H
X-Robots-Tag:noindex
X-PUBLISHED-TTL:PT1H
BEGIN:VTIMEZONE
TZID:UTC
BEGIN:STANDARD
TZOFFSETFROM:+0000
TZOFFSETTO:+0000
TZNAME:UTC
DTSTART:20230101T000000
END:STANDARD
END:VTIMEZONE
BEGIN:VEVENT
DTSTART;TZID=UTC:20240115T080000
DTEND;TZID=UTC:20240115T170000
DTSTAMP:20260421T122529
CREATED:20240109T142631Z
LAST-MODIFIED:20240109T143537Z
UID:10000106-1705305600-1705338000@open-up.ie
SUMMARY:Self-harm and Suicide prevention training HSE
DESCRIPTION:To access free online and face to face self harm\, suicide prevention and bereavement support training\, see link \nhttps://bookwhen.com/suicidepreventiontrainingmidlands \nThese trainings take place throughout the year monthly in different locations so please refer to the link above for each month’s events \nThis link lists the range of support trainings that can be done online\, in person from 1/2 days to longer trainings in person \nFor informal enquiries and details on the range of courses please contact Josephine Rigney \nÈ:  086-8157850.  :: josephine.rigney@hse.ie \n 
URL:https://open-up.ie/calendar-listing/self-harm-and-suicide-prevention-training-hse/2024-01-15/2/
END:VEVENT
END:VCALENDAR