BEGIN:VCALENDAR
VERSION:2.0
PRODID:-//Open Up - ECPv6.15.20//NONSGML v1.0//EN
CALSCALE:GREGORIAN
METHOD:PUBLISH
X-ORIGINAL-URL:https://open-up.ie
X-WR-CALDESC:Events for Open Up
REFRESH-INTERVAL;VALUE=DURATION:PT1H
X-Robots-Tag:noindex
X-PUBLISHED-TTL:PT1H
BEGIN:VTIMEZONE
TZID:UTC
BEGIN:STANDARD
TZOFFSETFROM:+0000
TZOFFSETTO:+0000
TZNAME:UTC
DTSTART:20230101T000000
END:STANDARD
END:VTIMEZONE
BEGIN:VEVENT
DTSTART;TZID=UTC:20240314T080000
DTEND;TZID=UTC:20240314T170000
DTSTAMP:20260419T204828
CREATED:20240222T101457Z
LAST-MODIFIED:20240222T101457Z
UID:10000133-1710403200-1710435600@open-up.ie
SUMMARY:Parent's Workshop Series
DESCRIPTION:
URL:https://open-up.ie/calendar-listing/parents-workshop-series/2024-03-14/1/
LOCATION:Portlaoise Family Resource Centre\, Portlaoise Family Resource Center\, Harpur's Ln\, Portlaoise\, Co. Laois\, Ireland
END:VEVENT
BEGIN:VEVENT
DTSTART;TZID=UTC:20240314T093000
DTEND;TZID=UTC:20240314T113000
DTSTAMP:20260419T204828
CREATED:20240109T135157Z
LAST-MODIFIED:20240213T113428Z
UID:10000129-1710408600-1710415800@open-up.ie
SUMMARY:Own My Life Course for Adult females
DESCRIPTION:This course has temporarily been paused due to low participation. Please contact Sheila on 057 86 71100 to register your interest and you will be notified when the course resumes.
URL:https://open-up.ie/calendar-listing/own-my-life-course-for-adult-females/2024-03-14/
END:VEVENT
BEGIN:VEVENT
DTSTART;TZID=UTC:20240314T103000
DTEND;TZID=UTC:20240314T120000
DTSTAMP:20260419T204828
CREATED:20240222T101457Z
LAST-MODIFIED:20240222T101457Z
UID:10000134-1710412200-1710417600@open-up.ie
SUMMARY:Parent's Workshop Series
DESCRIPTION:
URL:https://open-up.ie/calendar-listing/parents-workshop-series/2024-03-14/2/
LOCATION:Portlaoise Family Resource Centre\, Portlaoise Family Resource Center\, Harpur's Ln\, Portlaoise\, Co. Laois\, Ireland
END:VEVENT
END:VCALENDAR