BEGIN:VCALENDAR
VERSION:2.0
PRODID:-//Open Up - ECPv6.15.20//NONSGML v1.0//EN
CALSCALE:GREGORIAN
METHOD:PUBLISH
X-ORIGINAL-URL:https://open-up.ie
X-WR-CALDESC:Events for Open Up
REFRESH-INTERVAL;VALUE=DURATION:PT1H
X-Robots-Tag:noindex
X-PUBLISHED-TTL:PT1H
BEGIN:VTIMEZONE
TZID:UTC
BEGIN:STANDARD
TZOFFSETFROM:+0000
TZOFFSETTO:+0000
TZNAME:UTC
DTSTART:20230101T000000
END:STANDARD
END:VTIMEZONE
BEGIN:VEVENT
DTSTART;TZID=UTC:20240321T093000
DTEND;TZID=UTC:20240321T113000
DTSTAMP:20260419T204821
CREATED:20240109T135157Z
LAST-MODIFIED:20240213T113428Z
UID:10000130-1711013400-1711020600@open-up.ie
SUMMARY:Own My Life Course for Adult females
DESCRIPTION:This course has temporarily been paused due to low participation. Please contact Sheila on 057 86 71100 to register your interest and you will be notified when the course resumes.
URL:https://open-up.ie/calendar-listing/own-my-life-course-for-adult-females/2024-03-21/
END:VEVENT
END:VCALENDAR