BEGIN:VCALENDAR
VERSION:2.0
PRODID:-//Open Up - ECPv6.15.20//NONSGML v1.0//EN
CALSCALE:GREGORIAN
METHOD:PUBLISH
X-ORIGINAL-URL:https://open-up.ie
X-WR-CALDESC:Events for Open Up
REFRESH-INTERVAL;VALUE=DURATION:PT1H
X-Robots-Tag:noindex
X-PUBLISHED-TTL:PT1H
BEGIN:VTIMEZONE
TZID:UTC
BEGIN:STANDARD
TZOFFSETFROM:+0000
TZOFFSETTO:+0000
TZNAME:UTC
DTSTART:20230101T000000
END:STANDARD
END:VTIMEZONE
BEGIN:VEVENT
DTSTART;TZID=UTC:20240425T110000
DTEND;TZID=UTC:20240425T120000
DTSTAMP:20260419T185816
CREATED:20240404T092943Z
LAST-MODIFIED:20240404T092943Z
UID:10000261-1714042800-1714046400@open-up.ie
SUMMARY:Drug Related Intimidation Reporting Online Programme
DESCRIPTION:This briefing session will provide workers with information about the structured intervention for individuals and families that are experiencing drug related intimidation. \nThis information may help build confidence and enhance capacity of workers responding to this issue. \nPresenting at this session on the 25th April will be Ms Siobhan Maher\, DRIVE Co-ordinator and a representative from An Garda Síochána. \n  \nTo register click on the Eventbrite link below.  After you register the zoom link will be emailed to you just before the event.                https://www.eventbrite.ie/e/online-drug-related-intimidation-reporting-programme-briefing-tickets-872490020137
URL:https://open-up.ie/calendar-listing/drug-related-intimidation-reporting-online-programme/
END:VEVENT
END:VCALENDAR