BEGIN:VCALENDAR
VERSION:2.0
PRODID:-//Open Up - ECPv6.15.20//NONSGML v1.0//EN
CALSCALE:GREGORIAN
METHOD:PUBLISH
X-WR-CALNAME:Open Up
X-ORIGINAL-URL:https://open-up.ie
X-WR-CALDESC:Events for Open Up
REFRESH-INTERVAL;VALUE=DURATION:PT1H
X-Robots-Tag:noindex
X-PUBLISHED-TTL:PT1H
BEGIN:VTIMEZONE
TZID:Europe/Dublin
BEGIN:STANDARD
TZOFFSETFROM:+0000
TZOFFSETTO:+0100
TZNAME:IST
DTSTART:20240331T010000
END:STANDARD
BEGIN:DAYLIGHT
TZOFFSETFROM:+0100
TZOFFSETTO:+0000
TZNAME:GMT
DTSTART:20241027T010000
END:DAYLIGHT
BEGIN:STANDARD
TZOFFSETFROM:+0000
TZOFFSETTO:+0100
TZNAME:IST
DTSTART:20250330T010000
END:STANDARD
BEGIN:DAYLIGHT
TZOFFSETFROM:+0100
TZOFFSETTO:+0000
TZNAME:GMT
DTSTART:20251026T010000
END:DAYLIGHT
BEGIN:STANDARD
TZOFFSETFROM:+0000
TZOFFSETTO:+0100
TZNAME:IST
DTSTART:20260329T010000
END:STANDARD
BEGIN:DAYLIGHT
TZOFFSETFROM:+0100
TZOFFSETTO:+0000
TZNAME:GMT
DTSTART:20261025T010000
END:DAYLIGHT
END:VTIMEZONE
BEGIN:VEVENT
DTSTART;TZID=Europe/Dublin:20250225T100000
DTEND;TZID=Europe/Dublin:20250225T130000
DTSTAMP:20260420T114312
CREATED:20250127T105543Z
LAST-MODIFIED:20250127T105543Z
UID:10001115-1740477600-1740488400@open-up.ie
SUMMARY:Finding Focus
DESCRIPTION:‘Finding Focus Programme’  is a one morning a week for 6 weeks course\, looking at building confidence to explore returning to work \nFor more information contact Niamh on 0877413249 0r email Niamh  nreilly@offalyldc.ie
URL:https://open-up.ie/calendar-listing/finding-focus/2025-02-25/
LOCATION:Tullamore
END:VEVENT
BEGIN:VEVENT
DTSTART;TZID=Europe/Dublin:20250225T190000
DTEND;TZID=Europe/Dublin:20250225T200000
DTSTAMP:20260420T114312
CREATED:20250224T110437Z
LAST-MODIFIED:20250224T110606Z
UID:10001141-1740510000-1740513600@open-up.ie
SUMMARY:ESKER COMMUNITY - Kulele Orchestra
DESCRIPTION:Esker Community ‘kulele Orchestra is a community music group based in Esker Arts in Tullamore and is open to all\, young and old\, and we are always looking for new members who would like to come along and join in the fun of making music together. All instruments and singers are welcome. \n 
URL:https://open-up.ie/calendar-listing/esker-community-kulele-orchestra/2025-02-25/
LOCATION:Tullamore
END:VEVENT
END:VCALENDAR