BEGIN:VCALENDAR
VERSION:2.0
PRODID:-//Open Up - ECPv6.15.20//NONSGML v1.0//EN
CALSCALE:GREGORIAN
METHOD:PUBLISH
X-WR-CALNAME:Open Up
X-ORIGINAL-URL:https://open-up.ie
X-WR-CALDESC:Events for Open Up
REFRESH-INTERVAL;VALUE=DURATION:PT1H
X-Robots-Tag:noindex
X-PUBLISHED-TTL:PT1H
BEGIN:VTIMEZONE
TZID:Europe/Dublin
BEGIN:STANDARD
TZOFFSETFROM:+0000
TZOFFSETTO:+0100
TZNAME:IST
DTSTART:20290325T010000
END:STANDARD
BEGIN:DAYLIGHT
TZOFFSETFROM:+0100
TZOFFSETTO:+0000
TZNAME:GMT
DTSTART:20291028T010000
END:DAYLIGHT
BEGIN:STANDARD
TZOFFSETFROM:+0000
TZOFFSETTO:+0100
TZNAME:IST
DTSTART:20300331T010000
END:STANDARD
BEGIN:DAYLIGHT
TZOFFSETFROM:+0100
TZOFFSETTO:+0000
TZNAME:GMT
DTSTART:20301027T010000
END:DAYLIGHT
BEGIN:STANDARD
TZOFFSETFROM:+0000
TZOFFSETTO:+0100
TZNAME:IST
DTSTART:20310330T010000
END:STANDARD
BEGIN:DAYLIGHT
TZOFFSETFROM:+0100
TZOFFSETTO:+0000
TZNAME:GMT
DTSTART:20311026T010000
END:DAYLIGHT
END:VTIMEZONE
BEGIN:VEVENT
DTSTART;TZID=Europe/Dublin:20300305T093000
DTEND;TZID=Europe/Dublin:20300305T113000
DTSTAMP:20260424T173236
CREATED:20250408T094756Z
LAST-MODIFIED:20250408T124106Z
UID:10001773-1898933400-1898940600@open-up.ie
SUMMARY:Speech and Language Therapy Drop In Clinic Tullamore
DESCRIPTION:Speech and Language Therapy Drop In Clinic Tullamore \n1st TUESDAY OF EVERY MONTH \nThis Drop In Clinic operates from the Tullamore Family Resource Centre\, Arden View and not the Health Centre\, Tullamore. \nThe day has changed from a Friday to a Tuesday morning from 9:30-11:30. \nQueries with regard to the Drop in Clinic should be made to Tullamore Primary Care\, Church Avenue\, Tullamore on 057 93 19599/19598 and not Tullamore Health Centre 057 93 41301. \nDrop In Clinic Offaly Speech and Language \n 
URL:https://open-up.ie/calendar-listing/speech-and-language-therapy-drop-in-clinic-tullamore/2030-03-05/
LOCATION:Arden View Family Resource Centre
END:VEVENT
END:VCALENDAR