BEGIN:VCALENDAR
VERSION:2.0
PRODID:-//Open Up - ECPv6.15.20//NONSGML v1.0//EN
CALSCALE:GREGORIAN
METHOD:PUBLISH
X-ORIGINAL-URL:https://open-up.ie
X-WR-CALDESC:Events for Open Up
REFRESH-INTERVAL;VALUE=DURATION:PT1H
X-Robots-Tag:noindex
X-PUBLISHED-TTL:PT1H
BEGIN:VTIMEZONE
TZID:Europe/Dublin
BEGIN:STANDARD
TZOFFSETFROM:+0000
TZOFFSETTO:+0100
TZNAME:IST
DTSTART:20270328T010000
END:STANDARD
BEGIN:DAYLIGHT
TZOFFSETFROM:+0100
TZOFFSETTO:+0000
TZNAME:GMT
DTSTART:20271031T010000
END:DAYLIGHT
BEGIN:STANDARD
TZOFFSETFROM:+0000
TZOFFSETTO:+0100
TZNAME:IST
DTSTART:20280326T010000
END:STANDARD
BEGIN:DAYLIGHT
TZOFFSETFROM:+0100
TZOFFSETTO:+0000
TZNAME:GMT
DTSTART:20281029T010000
END:DAYLIGHT
BEGIN:STANDARD
TZOFFSETFROM:+0000
TZOFFSETTO:+0100
TZNAME:IST
DTSTART:20290325T010000
END:STANDARD
BEGIN:DAYLIGHT
TZOFFSETFROM:+0100
TZOFFSETTO:+0000
TZNAME:GMT
DTSTART:20291028T010000
END:DAYLIGHT
END:VTIMEZONE
BEGIN:VEVENT
DTSTART;TZID=Europe/Dublin:20280519T100000
DTEND;TZID=Europe/Dublin:20280519T123000
DTSTAMP:20260420T082626
CREATED:20260210T160005Z
LAST-MODIFIED:20260210T160022Z
UID:10004342-1842343200-1842352200@open-up.ie
SUMMARY:Little Twinkles Parent Toddler Group Tullamore FRC
DESCRIPTION:Little Twinkles Parent and Toddler Group meet every Wednesday and Friday in Tullamore FRC at 10am. \nAll Welcome. \nFor more information contact Marie on 0579320598
URL:https://open-up.ie/calendar-listing/little-twinkles-parent-toddler-group-tullamore-frc/2028-05-19/
LOCATION:Arden View Family Resource Centre
CATEGORIES:Offaly
END:VEVENT
BEGIN:VEVENT
DTSTART;TZID=Europe/Dublin:20280523T100000
DTEND;TZID=Europe/Dublin:20280523T130000
DTSTAMP:20260420T082626
CREATED:20260302T164418Z
LAST-MODIFIED:20260302T164418Z
UID:10004682-1842688800-1842699600@open-up.ie
SUMMARY:Primary Care - Social Work Drop in Service
DESCRIPTION:Primary Care  Social Work Drop in Service \nVenue: Community Room in the Library\, JKL St\, Edenderry\, Co Offaly. \nDate(s): 3rd Tuesday of Every Month in 2026 \nTuesday 20th January\,       Tuesday 17th February\,     Tuesday 24th March\, \nTuesday 21st April\,             Tuesday 19th May\,             Tuesday 16th June\, \nTuesday 21st July\,               Tuesday 18th August\,        Tuesday 15th September\, \nTuesday 20th October\,      Tuesday 17th November\, Tuesday 15th December \nTime: 10am – 1pm \nDrop in or Book an appointment for this free and confidential service to see a Primary Care Social Worker in person \n(Booking in advance is advised) \nTo Book an appointment: \nCall 057-8697537 \nHow can a Primary Care Social Worker help? \n\nSupport in navigating the health service.\nSignposting to appropriate community supports.\nAdvocacy re: benefits & entitlements.\nAssist with any other queries or worries.\nEnsure your voice is heard and understood.\n\nDrop In Service Leaflet Edenderry 2026 (003)
URL:https://open-up.ie/calendar-listing/primary-care-social-work-drop-in-service/2028-05-23/
CATEGORIES:Offaly
END:VEVENT
BEGIN:VEVENT
DTSTART;TZID=Europe/Dublin:20280524T100000
DTEND;TZID=Europe/Dublin:20280524T123000
DTSTAMP:20260420T082626
CREATED:20260210T160005Z
LAST-MODIFIED:20260210T160022Z
UID:10004343-1842775200-1842784200@open-up.ie
SUMMARY:Little Twinkles Parent Toddler Group Tullamore FRC
DESCRIPTION:Little Twinkles Parent and Toddler Group meet every Wednesday and Friday in Tullamore FRC at 10am. \nAll Welcome. \nFor more information contact Marie on 0579320598
URL:https://open-up.ie/calendar-listing/little-twinkles-parent-toddler-group-tullamore-frc/2028-05-24/
LOCATION:Arden View Family Resource Centre
CATEGORIES:Offaly
END:VEVENT
BEGIN:VEVENT
DTSTART;TZID=Europe/Dublin:20280526T100000
DTEND;TZID=Europe/Dublin:20280526T123000
DTSTAMP:20260420T082626
CREATED:20260210T160005Z
LAST-MODIFIED:20260210T160022Z
UID:10004344-1842948000-1842957000@open-up.ie
SUMMARY:Little Twinkles Parent Toddler Group Tullamore FRC
DESCRIPTION:Little Twinkles Parent and Toddler Group meet every Wednesday and Friday in Tullamore FRC at 10am. \nAll Welcome. \nFor more information contact Marie on 0579320598
URL:https://open-up.ie/calendar-listing/little-twinkles-parent-toddler-group-tullamore-frc/2028-05-26/
LOCATION:Arden View Family Resource Centre
CATEGORIES:Offaly
END:VEVENT
BEGIN:VEVENT
DTSTART;TZID=Europe/Dublin:20280531T100000
DTEND;TZID=Europe/Dublin:20280531T123000
DTSTAMP:20260420T082626
CREATED:20260210T160005Z
LAST-MODIFIED:20260210T160022Z
UID:10004345-1843380000-1843389000@open-up.ie
SUMMARY:Little Twinkles Parent Toddler Group Tullamore FRC
DESCRIPTION:Little Twinkles Parent and Toddler Group meet every Wednesday and Friday in Tullamore FRC at 10am. \nAll Welcome. \nFor more information contact Marie on 0579320598
URL:https://open-up.ie/calendar-listing/little-twinkles-parent-toddler-group-tullamore-frc/2028-05-31/
LOCATION:Arden View Family Resource Centre
CATEGORIES:Offaly
END:VEVENT
BEGIN:VEVENT
DTSTART;TZID=Europe/Dublin:20280602T100000
DTEND;TZID=Europe/Dublin:20280602T123000
DTSTAMP:20260420T082626
CREATED:20260210T160005Z
LAST-MODIFIED:20260210T160022Z
UID:10004346-1843552800-1843561800@open-up.ie
SUMMARY:Little Twinkles Parent Toddler Group Tullamore FRC
DESCRIPTION:Little Twinkles Parent and Toddler Group meet every Wednesday and Friday in Tullamore FRC at 10am. \nAll Welcome. \nFor more information contact Marie on 0579320598
URL:https://open-up.ie/calendar-listing/little-twinkles-parent-toddler-group-tullamore-frc/2028-06-02/
LOCATION:Arden View Family Resource Centre
CATEGORIES:Offaly
END:VEVENT
BEGIN:VEVENT
DTSTART;TZID=Europe/Dublin:20280607T100000
DTEND;TZID=Europe/Dublin:20280607T123000
DTSTAMP:20260420T082626
CREATED:20260210T160005Z
LAST-MODIFIED:20260210T160022Z
UID:10004347-1843984800-1843993800@open-up.ie
SUMMARY:Little Twinkles Parent Toddler Group Tullamore FRC
DESCRIPTION:Little Twinkles Parent and Toddler Group meet every Wednesday and Friday in Tullamore FRC at 10am. \nAll Welcome. \nFor more information contact Marie on 0579320598
URL:https://open-up.ie/calendar-listing/little-twinkles-parent-toddler-group-tullamore-frc/2028-06-07/
LOCATION:Arden View Family Resource Centre
CATEGORIES:Offaly
END:VEVENT
BEGIN:VEVENT
DTSTART;TZID=Europe/Dublin:20280609T100000
DTEND;TZID=Europe/Dublin:20280609T123000
DTSTAMP:20260420T082626
CREATED:20260210T160005Z
LAST-MODIFIED:20260210T160022Z
UID:10004348-1844157600-1844166600@open-up.ie
SUMMARY:Little Twinkles Parent Toddler Group Tullamore FRC
DESCRIPTION:Little Twinkles Parent and Toddler Group meet every Wednesday and Friday in Tullamore FRC at 10am. \nAll Welcome. \nFor more information contact Marie on 0579320598
URL:https://open-up.ie/calendar-listing/little-twinkles-parent-toddler-group-tullamore-frc/2028-06-09/
LOCATION:Arden View Family Resource Centre
CATEGORIES:Offaly
END:VEVENT
BEGIN:VEVENT
DTSTART;TZID=Europe/Dublin:20280614T100000
DTEND;TZID=Europe/Dublin:20280614T123000
DTSTAMP:20260420T082626
CREATED:20260210T160005Z
LAST-MODIFIED:20260210T160022Z
UID:10004349-1844589600-1844598600@open-up.ie
SUMMARY:Little Twinkles Parent Toddler Group Tullamore FRC
DESCRIPTION:Little Twinkles Parent and Toddler Group meet every Wednesday and Friday in Tullamore FRC at 10am. \nAll Welcome. \nFor more information contact Marie on 0579320598
URL:https://open-up.ie/calendar-listing/little-twinkles-parent-toddler-group-tullamore-frc/2028-06-14/
LOCATION:Arden View Family Resource Centre
CATEGORIES:Offaly
END:VEVENT
BEGIN:VEVENT
DTSTART;TZID=Europe/Dublin:20280616T100000
DTEND;TZID=Europe/Dublin:20280616T123000
DTSTAMP:20260420T082626
CREATED:20260210T160005Z
LAST-MODIFIED:20260210T160022Z
UID:10004350-1844762400-1844771400@open-up.ie
SUMMARY:Little Twinkles Parent Toddler Group Tullamore FRC
DESCRIPTION:Little Twinkles Parent and Toddler Group meet every Wednesday and Friday in Tullamore FRC at 10am. \nAll Welcome. \nFor more information contact Marie on 0579320598
URL:https://open-up.ie/calendar-listing/little-twinkles-parent-toddler-group-tullamore-frc/2028-06-16/
LOCATION:Arden View Family Resource Centre
CATEGORIES:Offaly
END:VEVENT
BEGIN:VEVENT
DTSTART;TZID=Europe/Dublin:20280621T100000
DTEND;TZID=Europe/Dublin:20280621T123000
DTSTAMP:20260420T082626
CREATED:20260210T160005Z
LAST-MODIFIED:20260210T160022Z
UID:10004351-1845194400-1845203400@open-up.ie
SUMMARY:Little Twinkles Parent Toddler Group Tullamore FRC
DESCRIPTION:Little Twinkles Parent and Toddler Group meet every Wednesday and Friday in Tullamore FRC at 10am. \nAll Welcome. \nFor more information contact Marie on 0579320598
URL:https://open-up.ie/calendar-listing/little-twinkles-parent-toddler-group-tullamore-frc/2028-06-21/
LOCATION:Arden View Family Resource Centre
CATEGORIES:Offaly
END:VEVENT
BEGIN:VEVENT
DTSTART;TZID=Europe/Dublin:20280623T100000
DTEND;TZID=Europe/Dublin:20280623T123000
DTSTAMP:20260420T082626
CREATED:20260210T160005Z
LAST-MODIFIED:20260210T160022Z
UID:10004352-1845367200-1845376200@open-up.ie
SUMMARY:Little Twinkles Parent Toddler Group Tullamore FRC
DESCRIPTION:Little Twinkles Parent and Toddler Group meet every Wednesday and Friday in Tullamore FRC at 10am. \nAll Welcome. \nFor more information contact Marie on 0579320598
URL:https://open-up.ie/calendar-listing/little-twinkles-parent-toddler-group-tullamore-frc/2028-06-23/
LOCATION:Arden View Family Resource Centre
CATEGORIES:Offaly
END:VEVENT
BEGIN:VEVENT
DTSTART;TZID=Europe/Dublin:20280627T100000
DTEND;TZID=Europe/Dublin:20280627T130000
DTSTAMP:20260420T082626
CREATED:20260302T164418Z
LAST-MODIFIED:20260302T164418Z
UID:10004683-1845712800-1845723600@open-up.ie
SUMMARY:Primary Care - Social Work Drop in Service
DESCRIPTION:Primary Care  Social Work Drop in Service \nVenue: Community Room in the Library\, JKL St\, Edenderry\, Co Offaly. \nDate(s): 3rd Tuesday of Every Month in 2026 \nTuesday 20th January\,       Tuesday 17th February\,     Tuesday 24th March\, \nTuesday 21st April\,             Tuesday 19th May\,             Tuesday 16th June\, \nTuesday 21st July\,               Tuesday 18th August\,        Tuesday 15th September\, \nTuesday 20th October\,      Tuesday 17th November\, Tuesday 15th December \nTime: 10am – 1pm \nDrop in or Book an appointment for this free and confidential service to see a Primary Care Social Worker in person \n(Booking in advance is advised) \nTo Book an appointment: \nCall 057-8697537 \nHow can a Primary Care Social Worker help? \n\nSupport in navigating the health service.\nSignposting to appropriate community supports.\nAdvocacy re: benefits & entitlements.\nAssist with any other queries or worries.\nEnsure your voice is heard and understood.\n\nDrop In Service Leaflet Edenderry 2026 (003)
URL:https://open-up.ie/calendar-listing/primary-care-social-work-drop-in-service/2028-06-27/
CATEGORIES:Offaly
END:VEVENT
BEGIN:VEVENT
DTSTART;TZID=Europe/Dublin:20280628T100000
DTEND;TZID=Europe/Dublin:20280628T123000
DTSTAMP:20260420T082626
CREATED:20260210T160005Z
LAST-MODIFIED:20260210T160022Z
UID:10004353-1845799200-1845808200@open-up.ie
SUMMARY:Little Twinkles Parent Toddler Group Tullamore FRC
DESCRIPTION:Little Twinkles Parent and Toddler Group meet every Wednesday and Friday in Tullamore FRC at 10am. \nAll Welcome. \nFor more information contact Marie on 0579320598
URL:https://open-up.ie/calendar-listing/little-twinkles-parent-toddler-group-tullamore-frc/2028-06-28/
LOCATION:Arden View Family Resource Centre
CATEGORIES:Offaly
END:VEVENT
BEGIN:VEVENT
DTSTART;TZID=Europe/Dublin:20280630T100000
DTEND;TZID=Europe/Dublin:20280630T123000
DTSTAMP:20260420T082626
CREATED:20260210T160005Z
LAST-MODIFIED:20260210T160022Z
UID:10004354-1845972000-1845981000@open-up.ie
SUMMARY:Little Twinkles Parent Toddler Group Tullamore FRC
DESCRIPTION:Little Twinkles Parent and Toddler Group meet every Wednesday and Friday in Tullamore FRC at 10am. \nAll Welcome. \nFor more information contact Marie on 0579320598
URL:https://open-up.ie/calendar-listing/little-twinkles-parent-toddler-group-tullamore-frc/2028-06-30/
LOCATION:Arden View Family Resource Centre
CATEGORIES:Offaly
END:VEVENT
BEGIN:VEVENT
DTSTART;TZID=Europe/Dublin:20280705T100000
DTEND;TZID=Europe/Dublin:20280705T123000
DTSTAMP:20260420T082626
CREATED:20260210T160005Z
LAST-MODIFIED:20260210T160022Z
UID:10004355-1846404000-1846413000@open-up.ie
SUMMARY:Little Twinkles Parent Toddler Group Tullamore FRC
DESCRIPTION:Little Twinkles Parent and Toddler Group meet every Wednesday and Friday in Tullamore FRC at 10am. \nAll Welcome. \nFor more information contact Marie on 0579320598
URL:https://open-up.ie/calendar-listing/little-twinkles-parent-toddler-group-tullamore-frc/2028-07-05/
LOCATION:Arden View Family Resource Centre
CATEGORIES:Offaly
END:VEVENT
BEGIN:VEVENT
DTSTART;TZID=Europe/Dublin:20280707T100000
DTEND;TZID=Europe/Dublin:20280707T123000
DTSTAMP:20260420T082626
CREATED:20260210T160005Z
LAST-MODIFIED:20260210T160022Z
UID:10004356-1846576800-1846585800@open-up.ie
SUMMARY:Little Twinkles Parent Toddler Group Tullamore FRC
DESCRIPTION:Little Twinkles Parent and Toddler Group meet every Wednesday and Friday in Tullamore FRC at 10am. \nAll Welcome. \nFor more information contact Marie on 0579320598
URL:https://open-up.ie/calendar-listing/little-twinkles-parent-toddler-group-tullamore-frc/2028-07-07/
LOCATION:Arden View Family Resource Centre
CATEGORIES:Offaly
END:VEVENT
BEGIN:VEVENT
DTSTART;TZID=Europe/Dublin:20280712T100000
DTEND;TZID=Europe/Dublin:20280712T123000
DTSTAMP:20260420T082626
CREATED:20260210T160005Z
LAST-MODIFIED:20260210T160022Z
UID:10004357-1847008800-1847017800@open-up.ie
SUMMARY:Little Twinkles Parent Toddler Group Tullamore FRC
DESCRIPTION:Little Twinkles Parent and Toddler Group meet every Wednesday and Friday in Tullamore FRC at 10am. \nAll Welcome. \nFor more information contact Marie on 0579320598
URL:https://open-up.ie/calendar-listing/little-twinkles-parent-toddler-group-tullamore-frc/2028-07-12/
LOCATION:Arden View Family Resource Centre
CATEGORIES:Offaly
END:VEVENT
BEGIN:VEVENT
DTSTART;TZID=Europe/Dublin:20280714T100000
DTEND;TZID=Europe/Dublin:20280714T123000
DTSTAMP:20260420T082626
CREATED:20260210T160005Z
LAST-MODIFIED:20260210T160022Z
UID:10004358-1847181600-1847190600@open-up.ie
SUMMARY:Little Twinkles Parent Toddler Group Tullamore FRC
DESCRIPTION:Little Twinkles Parent and Toddler Group meet every Wednesday and Friday in Tullamore FRC at 10am. \nAll Welcome. \nFor more information contact Marie on 0579320598
URL:https://open-up.ie/calendar-listing/little-twinkles-parent-toddler-group-tullamore-frc/2028-07-14/
LOCATION:Arden View Family Resource Centre
CATEGORIES:Offaly
END:VEVENT
BEGIN:VEVENT
DTSTART;TZID=Europe/Dublin:20280719T100000
DTEND;TZID=Europe/Dublin:20280719T123000
DTSTAMP:20260420T082626
CREATED:20260210T160005Z
LAST-MODIFIED:20260210T160022Z
UID:10004359-1847613600-1847622600@open-up.ie
SUMMARY:Little Twinkles Parent Toddler Group Tullamore FRC
DESCRIPTION:Little Twinkles Parent and Toddler Group meet every Wednesday and Friday in Tullamore FRC at 10am. \nAll Welcome. \nFor more information contact Marie on 0579320598
URL:https://open-up.ie/calendar-listing/little-twinkles-parent-toddler-group-tullamore-frc/2028-07-19/
LOCATION:Arden View Family Resource Centre
CATEGORIES:Offaly
END:VEVENT
BEGIN:VEVENT
DTSTART;TZID=Europe/Dublin:20280721T100000
DTEND;TZID=Europe/Dublin:20280721T123000
DTSTAMP:20260420T082626
CREATED:20260210T160005Z
LAST-MODIFIED:20260210T160022Z
UID:10004360-1847786400-1847795400@open-up.ie
SUMMARY:Little Twinkles Parent Toddler Group Tullamore FRC
DESCRIPTION:Little Twinkles Parent and Toddler Group meet every Wednesday and Friday in Tullamore FRC at 10am. \nAll Welcome. \nFor more information contact Marie on 0579320598
URL:https://open-up.ie/calendar-listing/little-twinkles-parent-toddler-group-tullamore-frc/2028-07-21/
LOCATION:Arden View Family Resource Centre
CATEGORIES:Offaly
END:VEVENT
BEGIN:VEVENT
DTSTART;TZID=Europe/Dublin:20280725T100000
DTEND;TZID=Europe/Dublin:20280725T130000
DTSTAMP:20260420T082626
CREATED:20260302T164418Z
LAST-MODIFIED:20260302T164418Z
UID:10004684-1848132000-1848142800@open-up.ie
SUMMARY:Primary Care - Social Work Drop in Service
DESCRIPTION:Primary Care  Social Work Drop in Service \nVenue: Community Room in the Library\, JKL St\, Edenderry\, Co Offaly. \nDate(s): 3rd Tuesday of Every Month in 2026 \nTuesday 20th January\,       Tuesday 17th February\,     Tuesday 24th March\, \nTuesday 21st April\,             Tuesday 19th May\,             Tuesday 16th June\, \nTuesday 21st July\,               Tuesday 18th August\,        Tuesday 15th September\, \nTuesday 20th October\,      Tuesday 17th November\, Tuesday 15th December \nTime: 10am – 1pm \nDrop in or Book an appointment for this free and confidential service to see a Primary Care Social Worker in person \n(Booking in advance is advised) \nTo Book an appointment: \nCall 057-8697537 \nHow can a Primary Care Social Worker help? \n\nSupport in navigating the health service.\nSignposting to appropriate community supports.\nAdvocacy re: benefits & entitlements.\nAssist with any other queries or worries.\nEnsure your voice is heard and understood.\n\nDrop In Service Leaflet Edenderry 2026 (003)
URL:https://open-up.ie/calendar-listing/primary-care-social-work-drop-in-service/2028-07-25/
CATEGORIES:Offaly
END:VEVENT
BEGIN:VEVENT
DTSTART;TZID=Europe/Dublin:20280726T100000
DTEND;TZID=Europe/Dublin:20280726T123000
DTSTAMP:20260420T082626
CREATED:20260210T160005Z
LAST-MODIFIED:20260210T160022Z
UID:10004361-1848218400-1848227400@open-up.ie
SUMMARY:Little Twinkles Parent Toddler Group Tullamore FRC
DESCRIPTION:Little Twinkles Parent and Toddler Group meet every Wednesday and Friday in Tullamore FRC at 10am. \nAll Welcome. \nFor more information contact Marie on 0579320598
URL:https://open-up.ie/calendar-listing/little-twinkles-parent-toddler-group-tullamore-frc/2028-07-26/
LOCATION:Arden View Family Resource Centre
CATEGORIES:Offaly
END:VEVENT
BEGIN:VEVENT
DTSTART;TZID=Europe/Dublin:20280728T100000
DTEND;TZID=Europe/Dublin:20280728T123000
DTSTAMP:20260420T082626
CREATED:20260210T160005Z
LAST-MODIFIED:20260210T160022Z
UID:10004362-1848391200-1848400200@open-up.ie
SUMMARY:Little Twinkles Parent Toddler Group Tullamore FRC
DESCRIPTION:Little Twinkles Parent and Toddler Group meet every Wednesday and Friday in Tullamore FRC at 10am. \nAll Welcome. \nFor more information contact Marie on 0579320598
URL:https://open-up.ie/calendar-listing/little-twinkles-parent-toddler-group-tullamore-frc/2028-07-28/
LOCATION:Arden View Family Resource Centre
CATEGORIES:Offaly
END:VEVENT
BEGIN:VEVENT
DTSTART;TZID=Europe/Dublin:20280802T100000
DTEND;TZID=Europe/Dublin:20280802T123000
DTSTAMP:20260420T082626
CREATED:20260210T160005Z
LAST-MODIFIED:20260210T160022Z
UID:10004363-1848823200-1848832200@open-up.ie
SUMMARY:Little Twinkles Parent Toddler Group Tullamore FRC
DESCRIPTION:Little Twinkles Parent and Toddler Group meet every Wednesday and Friday in Tullamore FRC at 10am. \nAll Welcome. \nFor more information contact Marie on 0579320598
URL:https://open-up.ie/calendar-listing/little-twinkles-parent-toddler-group-tullamore-frc/2028-08-02/
LOCATION:Arden View Family Resource Centre
CATEGORIES:Offaly
END:VEVENT
BEGIN:VEVENT
DTSTART;TZID=Europe/Dublin:20280804T100000
DTEND;TZID=Europe/Dublin:20280804T123000
DTSTAMP:20260420T082626
CREATED:20260210T160005Z
LAST-MODIFIED:20260210T160022Z
UID:10004364-1848996000-1849005000@open-up.ie
SUMMARY:Little Twinkles Parent Toddler Group Tullamore FRC
DESCRIPTION:Little Twinkles Parent and Toddler Group meet every Wednesday and Friday in Tullamore FRC at 10am. \nAll Welcome. \nFor more information contact Marie on 0579320598
URL:https://open-up.ie/calendar-listing/little-twinkles-parent-toddler-group-tullamore-frc/2028-08-04/
LOCATION:Arden View Family Resource Centre
CATEGORIES:Offaly
END:VEVENT
BEGIN:VEVENT
DTSTART;TZID=Europe/Dublin:20280809T100000
DTEND;TZID=Europe/Dublin:20280809T123000
DTSTAMP:20260420T082626
CREATED:20260210T160005Z
LAST-MODIFIED:20260210T160022Z
UID:10004365-1849428000-1849437000@open-up.ie
SUMMARY:Little Twinkles Parent Toddler Group Tullamore FRC
DESCRIPTION:Little Twinkles Parent and Toddler Group meet every Wednesday and Friday in Tullamore FRC at 10am. \nAll Welcome. \nFor more information contact Marie on 0579320598
URL:https://open-up.ie/calendar-listing/little-twinkles-parent-toddler-group-tullamore-frc/2028-08-09/
LOCATION:Arden View Family Resource Centre
CATEGORIES:Offaly
END:VEVENT
BEGIN:VEVENT
DTSTART;TZID=Europe/Dublin:20280811T100000
DTEND;TZID=Europe/Dublin:20280811T123000
DTSTAMP:20260420T082626
CREATED:20260210T160005Z
LAST-MODIFIED:20260210T160022Z
UID:10004366-1849600800-1849609800@open-up.ie
SUMMARY:Little Twinkles Parent Toddler Group Tullamore FRC
DESCRIPTION:Little Twinkles Parent and Toddler Group meet every Wednesday and Friday in Tullamore FRC at 10am. \nAll Welcome. \nFor more information contact Marie on 0579320598
URL:https://open-up.ie/calendar-listing/little-twinkles-parent-toddler-group-tullamore-frc/2028-08-11/
LOCATION:Arden View Family Resource Centre
CATEGORIES:Offaly
END:VEVENT
BEGIN:VEVENT
DTSTART;TZID=Europe/Dublin:20280816T100000
DTEND;TZID=Europe/Dublin:20280816T123000
DTSTAMP:20260420T082626
CREATED:20260210T160005Z
LAST-MODIFIED:20260210T160022Z
UID:10004367-1850032800-1850041800@open-up.ie
SUMMARY:Little Twinkles Parent Toddler Group Tullamore FRC
DESCRIPTION:Little Twinkles Parent and Toddler Group meet every Wednesday and Friday in Tullamore FRC at 10am. \nAll Welcome. \nFor more information contact Marie on 0579320598
URL:https://open-up.ie/calendar-listing/little-twinkles-parent-toddler-group-tullamore-frc/2028-08-16/
LOCATION:Arden View Family Resource Centre
CATEGORIES:Offaly
END:VEVENT
BEGIN:VEVENT
DTSTART;TZID=Europe/Dublin:20280818T100000
DTEND;TZID=Europe/Dublin:20280818T123000
DTSTAMP:20260420T082626
CREATED:20260210T160005Z
LAST-MODIFIED:20260210T160022Z
UID:10004368-1850205600-1850214600@open-up.ie
SUMMARY:Little Twinkles Parent Toddler Group Tullamore FRC
DESCRIPTION:Little Twinkles Parent and Toddler Group meet every Wednesday and Friday in Tullamore FRC at 10am. \nAll Welcome. \nFor more information contact Marie on 0579320598
URL:https://open-up.ie/calendar-listing/little-twinkles-parent-toddler-group-tullamore-frc/2028-08-18/
LOCATION:Arden View Family Resource Centre
CATEGORIES:Offaly
END:VEVENT
END:VCALENDAR