BEGIN:VCALENDAR
VERSION:2.0
PRODID:-//Open Up - ECPv6.15.20//NONSGML v1.0//EN
CALSCALE:GREGORIAN
METHOD:PUBLISH
X-WR-CALNAME:Open Up
X-ORIGINAL-URL:https://open-up.ie
X-WR-CALDESC:Events for Open Up
REFRESH-INTERVAL;VALUE=DURATION:PT1H
X-Robots-Tag:noindex
X-PUBLISHED-TTL:PT1H
BEGIN:VTIMEZONE
TZID:Europe/Dublin
BEGIN:STANDARD
TZOFFSETFROM:+0000
TZOFFSETTO:+0100
TZNAME:IST
DTSTART:20280326T010000
END:STANDARD
BEGIN:DAYLIGHT
TZOFFSETFROM:+0100
TZOFFSETTO:+0000
TZNAME:GMT
DTSTART:20281029T010000
END:DAYLIGHT
BEGIN:STANDARD
TZOFFSETFROM:+0000
TZOFFSETTO:+0100
TZNAME:IST
DTSTART:20290325T010000
END:STANDARD
BEGIN:DAYLIGHT
TZOFFSETFROM:+0100
TZOFFSETTO:+0000
TZNAME:GMT
DTSTART:20291028T010000
END:DAYLIGHT
BEGIN:STANDARD
TZOFFSETFROM:+0000
TZOFFSETTO:+0100
TZNAME:IST
DTSTART:20300331T010000
END:STANDARD
BEGIN:DAYLIGHT
TZOFFSETFROM:+0100
TZOFFSETTO:+0000
TZNAME:GMT
DTSTART:20301027T010000
END:DAYLIGHT
BEGIN:STANDARD
TZOFFSETFROM:+0000
TZOFFSETTO:+0100
TZNAME:IST
DTSTART:20310330T010000
END:STANDARD
BEGIN:DAYLIGHT
TZOFFSETFROM:+0100
TZOFFSETTO:+0000
TZNAME:GMT
DTSTART:20311026T010000
END:DAYLIGHT
END:VTIMEZONE
BEGIN:VEVENT
DTSTART;TZID=Europe/Dublin:20291205T100000
DTEND;TZID=Europe/Dublin:20291205T123000
DTSTAMP:20260421T092503
CREATED:20260210T160005Z
LAST-MODIFIED:20260210T160022Z
UID:10004503-1891159200-1891168200@open-up.ie
SUMMARY:Little Twinkles Parent Toddler Group Tullamore FRC
DESCRIPTION:Little Twinkles Parent and Toddler Group meet every Wednesday and Friday in Tullamore FRC at 10am. \nAll Welcome. \nFor more information contact Marie on 0579320598
URL:https://open-up.ie/calendar-listing/little-twinkles-parent-toddler-group-tullamore-frc/2029-12-05/
LOCATION:Arden View Family Resource Centre
CATEGORIES:Offaly
END:VEVENT
BEGIN:VEVENT
DTSTART;TZID=Europe/Dublin:20291207T100000
DTEND;TZID=Europe/Dublin:20291207T123000
DTSTAMP:20260421T092503
CREATED:20260210T160005Z
LAST-MODIFIED:20260210T160022Z
UID:10004504-1891332000-1891341000@open-up.ie
SUMMARY:Little Twinkles Parent Toddler Group Tullamore FRC
DESCRIPTION:Little Twinkles Parent and Toddler Group meet every Wednesday and Friday in Tullamore FRC at 10am. \nAll Welcome. \nFor more information contact Marie on 0579320598
URL:https://open-up.ie/calendar-listing/little-twinkles-parent-toddler-group-tullamore-frc/2029-12-07/
LOCATION:Arden View Family Resource Centre
CATEGORIES:Offaly
END:VEVENT
BEGIN:VEVENT
DTSTART;TZID=Europe/Dublin:20291212T100000
DTEND;TZID=Europe/Dublin:20291212T123000
DTSTAMP:20260421T092503
CREATED:20260210T160005Z
LAST-MODIFIED:20260210T160022Z
UID:10004505-1891764000-1891773000@open-up.ie
SUMMARY:Little Twinkles Parent Toddler Group Tullamore FRC
DESCRIPTION:Little Twinkles Parent and Toddler Group meet every Wednesday and Friday in Tullamore FRC at 10am. \nAll Welcome. \nFor more information contact Marie on 0579320598
URL:https://open-up.ie/calendar-listing/little-twinkles-parent-toddler-group-tullamore-frc/2029-12-12/
LOCATION:Arden View Family Resource Centre
CATEGORIES:Offaly
END:VEVENT
BEGIN:VEVENT
DTSTART;TZID=Europe/Dublin:20291214T100000
DTEND;TZID=Europe/Dublin:20291214T123000
DTSTAMP:20260421T092503
CREATED:20260210T160005Z
LAST-MODIFIED:20260210T160022Z
UID:10004506-1891936800-1891945800@open-up.ie
SUMMARY:Little Twinkles Parent Toddler Group Tullamore FRC
DESCRIPTION:Little Twinkles Parent and Toddler Group meet every Wednesday and Friday in Tullamore FRC at 10am. \nAll Welcome. \nFor more information contact Marie on 0579320598
URL:https://open-up.ie/calendar-listing/little-twinkles-parent-toddler-group-tullamore-frc/2029-12-14/
LOCATION:Arden View Family Resource Centre
CATEGORIES:Offaly
END:VEVENT
BEGIN:VEVENT
DTSTART;TZID=Europe/Dublin:20291219T100000
DTEND;TZID=Europe/Dublin:20291219T123000
DTSTAMP:20260421T092503
CREATED:20260210T160005Z
LAST-MODIFIED:20260210T160022Z
UID:10004507-1892368800-1892377800@open-up.ie
SUMMARY:Little Twinkles Parent Toddler Group Tullamore FRC
DESCRIPTION:Little Twinkles Parent and Toddler Group meet every Wednesday and Friday in Tullamore FRC at 10am. \nAll Welcome. \nFor more information contact Marie on 0579320598
URL:https://open-up.ie/calendar-listing/little-twinkles-parent-toddler-group-tullamore-frc/2029-12-19/
LOCATION:Arden View Family Resource Centre
CATEGORIES:Offaly
END:VEVENT
BEGIN:VEVENT
DTSTART;TZID=Europe/Dublin:20291221T100000
DTEND;TZID=Europe/Dublin:20291221T123000
DTSTAMP:20260421T092503
CREATED:20260210T160005Z
LAST-MODIFIED:20260210T160022Z
UID:10004508-1892541600-1892550600@open-up.ie
SUMMARY:Little Twinkles Parent Toddler Group Tullamore FRC
DESCRIPTION:Little Twinkles Parent and Toddler Group meet every Wednesday and Friday in Tullamore FRC at 10am. \nAll Welcome. \nFor more information contact Marie on 0579320598
URL:https://open-up.ie/calendar-listing/little-twinkles-parent-toddler-group-tullamore-frc/2029-12-21/
LOCATION:Arden View Family Resource Centre
CATEGORIES:Offaly
END:VEVENT
BEGIN:VEVENT
DTSTART;TZID=Europe/Dublin:20291225T100000
DTEND;TZID=Europe/Dublin:20291225T130000
DTSTAMP:20260421T092503
CREATED:20260302T164418Z
LAST-MODIFIED:20260302T164418Z
UID:10004701-1892887200-1892898000@open-up.ie
SUMMARY:Primary Care - Social Work Drop in Service
DESCRIPTION:Primary Care  Social Work Drop in Service \nVenue: Community Room in the Library\, JKL St\, Edenderry\, Co Offaly. \nDate(s): 3rd Tuesday of Every Month in 2026 \nTuesday 20th January\,       Tuesday 17th February\,     Tuesday 24th March\, \nTuesday 21st April\,             Tuesday 19th May\,             Tuesday 16th June\, \nTuesday 21st July\,               Tuesday 18th August\,        Tuesday 15th September\, \nTuesday 20th October\,      Tuesday 17th November\, Tuesday 15th December \nTime: 10am – 1pm \nDrop in or Book an appointment for this free and confidential service to see a Primary Care Social Worker in person \n(Booking in advance is advised) \nTo Book an appointment: \nCall 057-8697537 \nHow can a Primary Care Social Worker help? \n\nSupport in navigating the health service.\nSignposting to appropriate community supports.\nAdvocacy re: benefits & entitlements.\nAssist with any other queries or worries.\nEnsure your voice is heard and understood.\n\nDrop In Service Leaflet Edenderry 2026 (003)
URL:https://open-up.ie/calendar-listing/primary-care-social-work-drop-in-service/2029-12-25/
CATEGORIES:Offaly
END:VEVENT
BEGIN:VEVENT
DTSTART;TZID=Europe/Dublin:20291226T100000
DTEND;TZID=Europe/Dublin:20291226T123000
DTSTAMP:20260421T092504
CREATED:20260210T160005Z
LAST-MODIFIED:20260210T160022Z
UID:10004509-1892973600-1892982600@open-up.ie
SUMMARY:Little Twinkles Parent Toddler Group Tullamore FRC
DESCRIPTION:Little Twinkles Parent and Toddler Group meet every Wednesday and Friday in Tullamore FRC at 10am. \nAll Welcome. \nFor more information contact Marie on 0579320598
URL:https://open-up.ie/calendar-listing/little-twinkles-parent-toddler-group-tullamore-frc/2029-12-26/
LOCATION:Arden View Family Resource Centre
CATEGORIES:Offaly
END:VEVENT
BEGIN:VEVENT
DTSTART;TZID=Europe/Dublin:20291228T100000
DTEND;TZID=Europe/Dublin:20291228T123000
DTSTAMP:20260421T092504
CREATED:20260210T160005Z
LAST-MODIFIED:20260210T160022Z
UID:10004510-1893146400-1893155400@open-up.ie
SUMMARY:Little Twinkles Parent Toddler Group Tullamore FRC
DESCRIPTION:Little Twinkles Parent and Toddler Group meet every Wednesday and Friday in Tullamore FRC at 10am. \nAll Welcome. \nFor more information contact Marie on 0579320598
URL:https://open-up.ie/calendar-listing/little-twinkles-parent-toddler-group-tullamore-frc/2029-12-28/
LOCATION:Arden View Family Resource Centre
CATEGORIES:Offaly
END:VEVENT
BEGIN:VEVENT
DTSTART;TZID=Europe/Dublin:20300102T100000
DTEND;TZID=Europe/Dublin:20300102T123000
DTSTAMP:20260421T092504
CREATED:20260210T160005Z
LAST-MODIFIED:20260210T160022Z
UID:10004511-1893578400-1893587400@open-up.ie
SUMMARY:Little Twinkles Parent Toddler Group Tullamore FRC
DESCRIPTION:Little Twinkles Parent and Toddler Group meet every Wednesday and Friday in Tullamore FRC at 10am. \nAll Welcome. \nFor more information contact Marie on 0579320598
URL:https://open-up.ie/calendar-listing/little-twinkles-parent-toddler-group-tullamore-frc/2030-01-02/
LOCATION:Arden View Family Resource Centre
CATEGORIES:Offaly
END:VEVENT
BEGIN:VEVENT
DTSTART;TZID=Europe/Dublin:20300104T100000
DTEND;TZID=Europe/Dublin:20300104T123000
DTSTAMP:20260421T092504
CREATED:20260210T160005Z
LAST-MODIFIED:20260210T160022Z
UID:10004512-1893751200-1893760200@open-up.ie
SUMMARY:Little Twinkles Parent Toddler Group Tullamore FRC
DESCRIPTION:Little Twinkles Parent and Toddler Group meet every Wednesday and Friday in Tullamore FRC at 10am. \nAll Welcome. \nFor more information contact Marie on 0579320598
URL:https://open-up.ie/calendar-listing/little-twinkles-parent-toddler-group-tullamore-frc/2030-01-04/
LOCATION:Arden View Family Resource Centre
CATEGORIES:Offaly
END:VEVENT
BEGIN:VEVENT
DTSTART;TZID=Europe/Dublin:20300109T100000
DTEND;TZID=Europe/Dublin:20300109T123000
DTSTAMP:20260421T092504
CREATED:20260210T160005Z
LAST-MODIFIED:20260210T160022Z
UID:10004513-1894183200-1894192200@open-up.ie
SUMMARY:Little Twinkles Parent Toddler Group Tullamore FRC
DESCRIPTION:Little Twinkles Parent and Toddler Group meet every Wednesday and Friday in Tullamore FRC at 10am. \nAll Welcome. \nFor more information contact Marie on 0579320598
URL:https://open-up.ie/calendar-listing/little-twinkles-parent-toddler-group-tullamore-frc/2030-01-09/
LOCATION:Arden View Family Resource Centre
CATEGORIES:Offaly
END:VEVENT
BEGIN:VEVENT
DTSTART;TZID=Europe/Dublin:20300111T100000
DTEND;TZID=Europe/Dublin:20300111T123000
DTSTAMP:20260421T092504
CREATED:20260210T160005Z
LAST-MODIFIED:20260210T160022Z
UID:10004514-1894356000-1894365000@open-up.ie
SUMMARY:Little Twinkles Parent Toddler Group Tullamore FRC
DESCRIPTION:Little Twinkles Parent and Toddler Group meet every Wednesday and Friday in Tullamore FRC at 10am. \nAll Welcome. \nFor more information contact Marie on 0579320598
URL:https://open-up.ie/calendar-listing/little-twinkles-parent-toddler-group-tullamore-frc/2030-01-11/
LOCATION:Arden View Family Resource Centre
CATEGORIES:Offaly
END:VEVENT
BEGIN:VEVENT
DTSTART;TZID=Europe/Dublin:20300116T100000
DTEND;TZID=Europe/Dublin:20300116T123000
DTSTAMP:20260421T092504
CREATED:20260210T160005Z
LAST-MODIFIED:20260210T160022Z
UID:10004515-1894788000-1894797000@open-up.ie
SUMMARY:Little Twinkles Parent Toddler Group Tullamore FRC
DESCRIPTION:Little Twinkles Parent and Toddler Group meet every Wednesday and Friday in Tullamore FRC at 10am. \nAll Welcome. \nFor more information contact Marie on 0579320598
URL:https://open-up.ie/calendar-listing/little-twinkles-parent-toddler-group-tullamore-frc/2030-01-16/
LOCATION:Arden View Family Resource Centre
CATEGORIES:Offaly
END:VEVENT
BEGIN:VEVENT
DTSTART;TZID=Europe/Dublin:20300118T100000
DTEND;TZID=Europe/Dublin:20300118T123000
DTSTAMP:20260421T092504
CREATED:20260210T160005Z
LAST-MODIFIED:20260210T160022Z
UID:10004516-1894960800-1894969800@open-up.ie
SUMMARY:Little Twinkles Parent Toddler Group Tullamore FRC
DESCRIPTION:Little Twinkles Parent and Toddler Group meet every Wednesday and Friday in Tullamore FRC at 10am. \nAll Welcome. \nFor more information contact Marie on 0579320598
URL:https://open-up.ie/calendar-listing/little-twinkles-parent-toddler-group-tullamore-frc/2030-01-18/
LOCATION:Arden View Family Resource Centre
CATEGORIES:Offaly
END:VEVENT
BEGIN:VEVENT
DTSTART;TZID=Europe/Dublin:20300122T100000
DTEND;TZID=Europe/Dublin:20300122T130000
DTSTAMP:20260421T092504
CREATED:20260302T164418Z
LAST-MODIFIED:20260302T164418Z
UID:10004702-1895306400-1895317200@open-up.ie
SUMMARY:Primary Care - Social Work Drop in Service
DESCRIPTION:Primary Care  Social Work Drop in Service \nVenue: Community Room in the Library\, JKL St\, Edenderry\, Co Offaly. \nDate(s): 3rd Tuesday of Every Month in 2026 \nTuesday 20th January\,       Tuesday 17th February\,     Tuesday 24th March\, \nTuesday 21st April\,             Tuesday 19th May\,             Tuesday 16th June\, \nTuesday 21st July\,               Tuesday 18th August\,        Tuesday 15th September\, \nTuesday 20th October\,      Tuesday 17th November\, Tuesday 15th December \nTime: 10am – 1pm \nDrop in or Book an appointment for this free and confidential service to see a Primary Care Social Worker in person \n(Booking in advance is advised) \nTo Book an appointment: \nCall 057-8697537 \nHow can a Primary Care Social Worker help? \n\nSupport in navigating the health service.\nSignposting to appropriate community supports.\nAdvocacy re: benefits & entitlements.\nAssist with any other queries or worries.\nEnsure your voice is heard and understood.\n\nDrop In Service Leaflet Edenderry 2026 (003)
URL:https://open-up.ie/calendar-listing/primary-care-social-work-drop-in-service/2030-01-22/
CATEGORIES:Offaly
END:VEVENT
BEGIN:VEVENT
DTSTART;TZID=Europe/Dublin:20300123T100000
DTEND;TZID=Europe/Dublin:20300123T123000
DTSTAMP:20260421T092504
CREATED:20260210T160005Z
LAST-MODIFIED:20260210T160022Z
UID:10004517-1895392800-1895401800@open-up.ie
SUMMARY:Little Twinkles Parent Toddler Group Tullamore FRC
DESCRIPTION:Little Twinkles Parent and Toddler Group meet every Wednesday and Friday in Tullamore FRC at 10am. \nAll Welcome. \nFor more information contact Marie on 0579320598
URL:https://open-up.ie/calendar-listing/little-twinkles-parent-toddler-group-tullamore-frc/2030-01-23/
LOCATION:Arden View Family Resource Centre
CATEGORIES:Offaly
END:VEVENT
BEGIN:VEVENT
DTSTART;TZID=Europe/Dublin:20300125T100000
DTEND;TZID=Europe/Dublin:20300125T123000
DTSTAMP:20260421T092504
CREATED:20260210T160005Z
LAST-MODIFIED:20260210T160022Z
UID:10004518-1895565600-1895574600@open-up.ie
SUMMARY:Little Twinkles Parent Toddler Group Tullamore FRC
DESCRIPTION:Little Twinkles Parent and Toddler Group meet every Wednesday and Friday in Tullamore FRC at 10am. \nAll Welcome. \nFor more information contact Marie on 0579320598
URL:https://open-up.ie/calendar-listing/little-twinkles-parent-toddler-group-tullamore-frc/2030-01-25/
LOCATION:Arden View Family Resource Centre
CATEGORIES:Offaly
END:VEVENT
BEGIN:VEVENT
DTSTART;TZID=Europe/Dublin:20300130T100000
DTEND;TZID=Europe/Dublin:20300130T123000
DTSTAMP:20260421T092504
CREATED:20260210T160005Z
LAST-MODIFIED:20260210T160022Z
UID:10004519-1895997600-1896006600@open-up.ie
SUMMARY:Little Twinkles Parent Toddler Group Tullamore FRC
DESCRIPTION:Little Twinkles Parent and Toddler Group meet every Wednesday and Friday in Tullamore FRC at 10am. \nAll Welcome. \nFor more information contact Marie on 0579320598
URL:https://open-up.ie/calendar-listing/little-twinkles-parent-toddler-group-tullamore-frc/2030-01-30/
LOCATION:Arden View Family Resource Centre
CATEGORIES:Offaly
END:VEVENT
BEGIN:VEVENT
DTSTART;TZID=Europe/Dublin:20300201T100000
DTEND;TZID=Europe/Dublin:20300201T123000
DTSTAMP:20260421T092504
CREATED:20260210T160005Z
LAST-MODIFIED:20260210T160022Z
UID:10004520-1896170400-1896179400@open-up.ie
SUMMARY:Little Twinkles Parent Toddler Group Tullamore FRC
DESCRIPTION:Little Twinkles Parent and Toddler Group meet every Wednesday and Friday in Tullamore FRC at 10am. \nAll Welcome. \nFor more information contact Marie on 0579320598
URL:https://open-up.ie/calendar-listing/little-twinkles-parent-toddler-group-tullamore-frc/2030-02-01/
LOCATION:Arden View Family Resource Centre
CATEGORIES:Offaly
END:VEVENT
BEGIN:VEVENT
DTSTART;TZID=Europe/Dublin:20300206T100000
DTEND;TZID=Europe/Dublin:20300206T123000
DTSTAMP:20260421T092504
CREATED:20260210T160005Z
LAST-MODIFIED:20260210T160022Z
UID:10004521-1896602400-1896611400@open-up.ie
SUMMARY:Little Twinkles Parent Toddler Group Tullamore FRC
DESCRIPTION:Little Twinkles Parent and Toddler Group meet every Wednesday and Friday in Tullamore FRC at 10am. \nAll Welcome. \nFor more information contact Marie on 0579320598
URL:https://open-up.ie/calendar-listing/little-twinkles-parent-toddler-group-tullamore-frc/2030-02-06/
LOCATION:Arden View Family Resource Centre
CATEGORIES:Offaly
END:VEVENT
BEGIN:VEVENT
DTSTART;TZID=Europe/Dublin:20300208T100000
DTEND;TZID=Europe/Dublin:20300208T123000
DTSTAMP:20260421T092504
CREATED:20260210T160005Z
LAST-MODIFIED:20260210T160022Z
UID:10004522-1896775200-1896784200@open-up.ie
SUMMARY:Little Twinkles Parent Toddler Group Tullamore FRC
DESCRIPTION:Little Twinkles Parent and Toddler Group meet every Wednesday and Friday in Tullamore FRC at 10am. \nAll Welcome. \nFor more information contact Marie on 0579320598
URL:https://open-up.ie/calendar-listing/little-twinkles-parent-toddler-group-tullamore-frc/2030-02-08/
LOCATION:Arden View Family Resource Centre
CATEGORIES:Offaly
END:VEVENT
BEGIN:VEVENT
DTSTART;TZID=Europe/Dublin:20300213T100000
DTEND;TZID=Europe/Dublin:20300213T123000
DTSTAMP:20260421T092504
CREATED:20260210T160005Z
LAST-MODIFIED:20260210T160022Z
UID:10004523-1897207200-1897216200@open-up.ie
SUMMARY:Little Twinkles Parent Toddler Group Tullamore FRC
DESCRIPTION:Little Twinkles Parent and Toddler Group meet every Wednesday and Friday in Tullamore FRC at 10am. \nAll Welcome. \nFor more information contact Marie on 0579320598
URL:https://open-up.ie/calendar-listing/little-twinkles-parent-toddler-group-tullamore-frc/2030-02-13/
LOCATION:Arden View Family Resource Centre
CATEGORIES:Offaly
END:VEVENT
BEGIN:VEVENT
DTSTART;TZID=Europe/Dublin:20300215T100000
DTEND;TZID=Europe/Dublin:20300215T123000
DTSTAMP:20260421T092504
CREATED:20260210T160005Z
LAST-MODIFIED:20260210T160022Z
UID:10004524-1897380000-1897389000@open-up.ie
SUMMARY:Little Twinkles Parent Toddler Group Tullamore FRC
DESCRIPTION:Little Twinkles Parent and Toddler Group meet every Wednesday and Friday in Tullamore FRC at 10am. \nAll Welcome. \nFor more information contact Marie on 0579320598
URL:https://open-up.ie/calendar-listing/little-twinkles-parent-toddler-group-tullamore-frc/2030-02-15/
LOCATION:Arden View Family Resource Centre
CATEGORIES:Offaly
END:VEVENT
BEGIN:VEVENT
DTSTART;TZID=Europe/Dublin:20300220T100000
DTEND;TZID=Europe/Dublin:20300220T123000
DTSTAMP:20260421T092505
CREATED:20260210T160005Z
LAST-MODIFIED:20260210T160022Z
UID:10004525-1897812000-1897821000@open-up.ie
SUMMARY:Little Twinkles Parent Toddler Group Tullamore FRC
DESCRIPTION:Little Twinkles Parent and Toddler Group meet every Wednesday and Friday in Tullamore FRC at 10am. \nAll Welcome. \nFor more information contact Marie on 0579320598
URL:https://open-up.ie/calendar-listing/little-twinkles-parent-toddler-group-tullamore-frc/2030-02-20/
LOCATION:Arden View Family Resource Centre
CATEGORIES:Offaly
END:VEVENT
BEGIN:VEVENT
DTSTART;TZID=Europe/Dublin:20300222T100000
DTEND;TZID=Europe/Dublin:20300222T123000
DTSTAMP:20260421T092505
CREATED:20260210T160005Z
LAST-MODIFIED:20260210T160022Z
UID:10004526-1897984800-1897993800@open-up.ie
SUMMARY:Little Twinkles Parent Toddler Group Tullamore FRC
DESCRIPTION:Little Twinkles Parent and Toddler Group meet every Wednesday and Friday in Tullamore FRC at 10am. \nAll Welcome. \nFor more information contact Marie on 0579320598
URL:https://open-up.ie/calendar-listing/little-twinkles-parent-toddler-group-tullamore-frc/2030-02-22/
LOCATION:Arden View Family Resource Centre
CATEGORIES:Offaly
END:VEVENT
BEGIN:VEVENT
DTSTART;TZID=Europe/Dublin:20300226T100000
DTEND;TZID=Europe/Dublin:20300226T130000
DTSTAMP:20260421T092505
CREATED:20260302T164418Z
LAST-MODIFIED:20260302T164418Z
UID:10004703-1898330400-1898341200@open-up.ie
SUMMARY:Primary Care - Social Work Drop in Service
DESCRIPTION:Primary Care  Social Work Drop in Service \nVenue: Community Room in the Library\, JKL St\, Edenderry\, Co Offaly. \nDate(s): 3rd Tuesday of Every Month in 2026 \nTuesday 20th January\,       Tuesday 17th February\,     Tuesday 24th March\, \nTuesday 21st April\,             Tuesday 19th May\,             Tuesday 16th June\, \nTuesday 21st July\,               Tuesday 18th August\,        Tuesday 15th September\, \nTuesday 20th October\,      Tuesday 17th November\, Tuesday 15th December \nTime: 10am – 1pm \nDrop in or Book an appointment for this free and confidential service to see a Primary Care Social Worker in person \n(Booking in advance is advised) \nTo Book an appointment: \nCall 057-8697537 \nHow can a Primary Care Social Worker help? \n\nSupport in navigating the health service.\nSignposting to appropriate community supports.\nAdvocacy re: benefits & entitlements.\nAssist with any other queries or worries.\nEnsure your voice is heard and understood.\n\nDrop In Service Leaflet Edenderry 2026 (003)
URL:https://open-up.ie/calendar-listing/primary-care-social-work-drop-in-service/2030-02-26/
CATEGORIES:Offaly
END:VEVENT
BEGIN:VEVENT
DTSTART;TZID=Europe/Dublin:20300227T100000
DTEND;TZID=Europe/Dublin:20300227T123000
DTSTAMP:20260421T092505
CREATED:20260210T160005Z
LAST-MODIFIED:20260210T160022Z
UID:10004527-1898416800-1898425800@open-up.ie
SUMMARY:Little Twinkles Parent Toddler Group Tullamore FRC
DESCRIPTION:Little Twinkles Parent and Toddler Group meet every Wednesday and Friday in Tullamore FRC at 10am. \nAll Welcome. \nFor more information contact Marie on 0579320598
URL:https://open-up.ie/calendar-listing/little-twinkles-parent-toddler-group-tullamore-frc/2030-02-27/
LOCATION:Arden View Family Resource Centre
CATEGORIES:Offaly
END:VEVENT
BEGIN:VEVENT
DTSTART;TZID=Europe/Dublin:20300301T100000
DTEND;TZID=Europe/Dublin:20300301T123000
DTSTAMP:20260421T092505
CREATED:20260210T160005Z
LAST-MODIFIED:20260210T160022Z
UID:10004528-1898589600-1898598600@open-up.ie
SUMMARY:Little Twinkles Parent Toddler Group Tullamore FRC
DESCRIPTION:Little Twinkles Parent and Toddler Group meet every Wednesday and Friday in Tullamore FRC at 10am. \nAll Welcome. \nFor more information contact Marie on 0579320598
URL:https://open-up.ie/calendar-listing/little-twinkles-parent-toddler-group-tullamore-frc/2030-03-01/
LOCATION:Arden View Family Resource Centre
CATEGORIES:Offaly
END:VEVENT
BEGIN:VEVENT
DTSTART;TZID=Europe/Dublin:20300306T100000
DTEND;TZID=Europe/Dublin:20300306T123000
DTSTAMP:20260421T092505
CREATED:20260210T160005Z
LAST-MODIFIED:20260210T160022Z
UID:10004529-1899021600-1899030600@open-up.ie
SUMMARY:Little Twinkles Parent Toddler Group Tullamore FRC
DESCRIPTION:Little Twinkles Parent and Toddler Group meet every Wednesday and Friday in Tullamore FRC at 10am. \nAll Welcome. \nFor more information contact Marie on 0579320598
URL:https://open-up.ie/calendar-listing/little-twinkles-parent-toddler-group-tullamore-frc/2030-03-06/
LOCATION:Arden View Family Resource Centre
CATEGORIES:Offaly
END:VEVENT
END:VCALENDAR