BEGIN:VCALENDAR
VERSION:2.0
PRODID:-//Open Up - ECPv6.15.20//NONSGML v1.0//EN
CALSCALE:GREGORIAN
METHOD:PUBLISH
X-WR-CALNAME:Open Up
X-ORIGINAL-URL:https://open-up.ie
X-WR-CALDESC:Events for Open Up
REFRESH-INTERVAL;VALUE=DURATION:PT1H
X-Robots-Tag:noindex
X-PUBLISHED-TTL:PT1H
BEGIN:VTIMEZONE
TZID:Europe/Dublin
BEGIN:STANDARD
TZOFFSETFROM:+0000
TZOFFSETTO:+0100
TZNAME:IST
DTSTART:20290325T010000
END:STANDARD
BEGIN:DAYLIGHT
TZOFFSETFROM:+0100
TZOFFSETTO:+0000
TZNAME:GMT
DTSTART:20291028T010000
END:DAYLIGHT
BEGIN:STANDARD
TZOFFSETFROM:+0000
TZOFFSETTO:+0100
TZNAME:IST
DTSTART:20300331T010000
END:STANDARD
BEGIN:DAYLIGHT
TZOFFSETFROM:+0100
TZOFFSETTO:+0000
TZNAME:GMT
DTSTART:20301027T010000
END:DAYLIGHT
BEGIN:STANDARD
TZOFFSETFROM:+0000
TZOFFSETTO:+0100
TZNAME:IST
DTSTART:20310330T010000
END:STANDARD
BEGIN:DAYLIGHT
TZOFFSETFROM:+0100
TZOFFSETTO:+0000
TZNAME:GMT
DTSTART:20311026T010000
END:DAYLIGHT
END:VTIMEZONE
BEGIN:VEVENT
DTSTART;TZID=Europe/Dublin:20300827T100000
DTEND;TZID=Europe/Dublin:20300827T130000
DTSTAMP:20260421T224431
CREATED:20260302T164418Z
LAST-MODIFIED:20260302T164418Z
UID:10004709-1914055200-1914066000@open-up.ie
SUMMARY:Primary Care - Social Work Drop in Service
DESCRIPTION:Primary Care  Social Work Drop in Service \nVenue: Community Room in the Library\, JKL St\, Edenderry\, Co Offaly. \nDate(s): 3rd Tuesday of Every Month in 2026 \nTuesday 20th January\,       Tuesday 17th February\,     Tuesday 24th March\, \nTuesday 21st April\,             Tuesday 19th May\,             Tuesday 16th June\, \nTuesday 21st July\,               Tuesday 18th August\,        Tuesday 15th September\, \nTuesday 20th October\,      Tuesday 17th November\, Tuesday 15th December \nTime: 10am – 1pm \nDrop in or Book an appointment for this free and confidential service to see a Primary Care Social Worker in person \n(Booking in advance is advised) \nTo Book an appointment: \nCall 057-8697537 \nHow can a Primary Care Social Worker help? \n\nSupport in navigating the health service.\nSignposting to appropriate community supports.\nAdvocacy re: benefits & entitlements.\nAssist with any other queries or worries.\nEnsure your voice is heard and understood.\n\nDrop In Service Leaflet Edenderry 2026 (003)
URL:https://open-up.ie/calendar-listing/primary-care-social-work-drop-in-service/2030-08-27/
CATEGORIES:Offaly
END:VEVENT
BEGIN:VEVENT
DTSTART;TZID=Europe/Dublin:20300828T100000
DTEND;TZID=Europe/Dublin:20300828T123000
DTSTAMP:20260421T224431
CREATED:20260210T160005Z
LAST-MODIFIED:20260210T160022Z
UID:10004579-1914141600-1914150600@open-up.ie
SUMMARY:Little Twinkles Parent Toddler Group Tullamore FRC
DESCRIPTION:Little Twinkles Parent and Toddler Group meet every Wednesday and Friday in Tullamore FRC at 10am. \nAll Welcome. \nFor more information contact Marie on 0579320598
URL:https://open-up.ie/calendar-listing/little-twinkles-parent-toddler-group-tullamore-frc/2030-08-28/
LOCATION:Arden View Family Resource Centre
CATEGORIES:Offaly
END:VEVENT
BEGIN:VEVENT
DTSTART;TZID=Europe/Dublin:20300830T100000
DTEND;TZID=Europe/Dublin:20300830T123000
DTSTAMP:20260421T224431
CREATED:20260210T160005Z
LAST-MODIFIED:20260210T160022Z
UID:10004580-1914314400-1914323400@open-up.ie
SUMMARY:Little Twinkles Parent Toddler Group Tullamore FRC
DESCRIPTION:Little Twinkles Parent and Toddler Group meet every Wednesday and Friday in Tullamore FRC at 10am. \nAll Welcome. \nFor more information contact Marie on 0579320598
URL:https://open-up.ie/calendar-listing/little-twinkles-parent-toddler-group-tullamore-frc/2030-08-30/
LOCATION:Arden View Family Resource Centre
CATEGORIES:Offaly
END:VEVENT
BEGIN:VEVENT
DTSTART;TZID=Europe/Dublin:20300904T100000
DTEND;TZID=Europe/Dublin:20300904T123000
DTSTAMP:20260421T224431
CREATED:20260210T160005Z
LAST-MODIFIED:20260210T160022Z
UID:10004581-1914746400-1914755400@open-up.ie
SUMMARY:Little Twinkles Parent Toddler Group Tullamore FRC
DESCRIPTION:Little Twinkles Parent and Toddler Group meet every Wednesday and Friday in Tullamore FRC at 10am. \nAll Welcome. \nFor more information contact Marie on 0579320598
URL:https://open-up.ie/calendar-listing/little-twinkles-parent-toddler-group-tullamore-frc/2030-09-04/
LOCATION:Arden View Family Resource Centre
CATEGORIES:Offaly
END:VEVENT
BEGIN:VEVENT
DTSTART;TZID=Europe/Dublin:20300906T100000
DTEND;TZID=Europe/Dublin:20300906T123000
DTSTAMP:20260421T224431
CREATED:20260210T160005Z
LAST-MODIFIED:20260210T160022Z
UID:10004582-1914919200-1914928200@open-up.ie
SUMMARY:Little Twinkles Parent Toddler Group Tullamore FRC
DESCRIPTION:Little Twinkles Parent and Toddler Group meet every Wednesday and Friday in Tullamore FRC at 10am. \nAll Welcome. \nFor more information contact Marie on 0579320598
URL:https://open-up.ie/calendar-listing/little-twinkles-parent-toddler-group-tullamore-frc/2030-09-06/
LOCATION:Arden View Family Resource Centre
CATEGORIES:Offaly
END:VEVENT
BEGIN:VEVENT
DTSTART;TZID=Europe/Dublin:20300911T100000
DTEND;TZID=Europe/Dublin:20300911T123000
DTSTAMP:20260421T224431
CREATED:20260210T160005Z
LAST-MODIFIED:20260210T160022Z
UID:10004583-1915351200-1915360200@open-up.ie
SUMMARY:Little Twinkles Parent Toddler Group Tullamore FRC
DESCRIPTION:Little Twinkles Parent and Toddler Group meet every Wednesday and Friday in Tullamore FRC at 10am. \nAll Welcome. \nFor more information contact Marie on 0579320598
URL:https://open-up.ie/calendar-listing/little-twinkles-parent-toddler-group-tullamore-frc/2030-09-11/
LOCATION:Arden View Family Resource Centre
CATEGORIES:Offaly
END:VEVENT
BEGIN:VEVENT
DTSTART;TZID=Europe/Dublin:20300913T100000
DTEND;TZID=Europe/Dublin:20300913T123000
DTSTAMP:20260421T224431
CREATED:20260210T160005Z
LAST-MODIFIED:20260210T160022Z
UID:10004584-1915524000-1915533000@open-up.ie
SUMMARY:Little Twinkles Parent Toddler Group Tullamore FRC
DESCRIPTION:Little Twinkles Parent and Toddler Group meet every Wednesday and Friday in Tullamore FRC at 10am. \nAll Welcome. \nFor more information contact Marie on 0579320598
URL:https://open-up.ie/calendar-listing/little-twinkles-parent-toddler-group-tullamore-frc/2030-09-13/
LOCATION:Arden View Family Resource Centre
CATEGORIES:Offaly
END:VEVENT
BEGIN:VEVENT
DTSTART;TZID=Europe/Dublin:20300918T100000
DTEND;TZID=Europe/Dublin:20300918T123000
DTSTAMP:20260421T224431
CREATED:20260210T160005Z
LAST-MODIFIED:20260210T160022Z
UID:10004585-1915956000-1915965000@open-up.ie
SUMMARY:Little Twinkles Parent Toddler Group Tullamore FRC
DESCRIPTION:Little Twinkles Parent and Toddler Group meet every Wednesday and Friday in Tullamore FRC at 10am. \nAll Welcome. \nFor more information contact Marie on 0579320598
URL:https://open-up.ie/calendar-listing/little-twinkles-parent-toddler-group-tullamore-frc/2030-09-18/
LOCATION:Arden View Family Resource Centre
CATEGORIES:Offaly
END:VEVENT
BEGIN:VEVENT
DTSTART;TZID=Europe/Dublin:20300920T100000
DTEND;TZID=Europe/Dublin:20300920T123000
DTSTAMP:20260421T224431
CREATED:20260210T160005Z
LAST-MODIFIED:20260210T160022Z
UID:10004586-1916128800-1916137800@open-up.ie
SUMMARY:Little Twinkles Parent Toddler Group Tullamore FRC
DESCRIPTION:Little Twinkles Parent and Toddler Group meet every Wednesday and Friday in Tullamore FRC at 10am. \nAll Welcome. \nFor more information contact Marie on 0579320598
URL:https://open-up.ie/calendar-listing/little-twinkles-parent-toddler-group-tullamore-frc/2030-09-20/
LOCATION:Arden View Family Resource Centre
CATEGORIES:Offaly
END:VEVENT
BEGIN:VEVENT
DTSTART;TZID=Europe/Dublin:20300924T100000
DTEND;TZID=Europe/Dublin:20300924T130000
DTSTAMP:20260421T224431
CREATED:20260302T164418Z
LAST-MODIFIED:20260302T164418Z
UID:10004710-1916474400-1916485200@open-up.ie
SUMMARY:Primary Care - Social Work Drop in Service
DESCRIPTION:Primary Care  Social Work Drop in Service \nVenue: Community Room in the Library\, JKL St\, Edenderry\, Co Offaly. \nDate(s): 3rd Tuesday of Every Month in 2026 \nTuesday 20th January\,       Tuesday 17th February\,     Tuesday 24th March\, \nTuesday 21st April\,             Tuesday 19th May\,             Tuesday 16th June\, \nTuesday 21st July\,               Tuesday 18th August\,        Tuesday 15th September\, \nTuesday 20th October\,      Tuesday 17th November\, Tuesday 15th December \nTime: 10am – 1pm \nDrop in or Book an appointment for this free and confidential service to see a Primary Care Social Worker in person \n(Booking in advance is advised) \nTo Book an appointment: \nCall 057-8697537 \nHow can a Primary Care Social Worker help? \n\nSupport in navigating the health service.\nSignposting to appropriate community supports.\nAdvocacy re: benefits & entitlements.\nAssist with any other queries or worries.\nEnsure your voice is heard and understood.\n\nDrop In Service Leaflet Edenderry 2026 (003)
URL:https://open-up.ie/calendar-listing/primary-care-social-work-drop-in-service/2030-09-24/
CATEGORIES:Offaly
END:VEVENT
BEGIN:VEVENT
DTSTART;TZID=Europe/Dublin:20300925T100000
DTEND;TZID=Europe/Dublin:20300925T123000
DTSTAMP:20260421T224431
CREATED:20260210T160005Z
LAST-MODIFIED:20260210T160022Z
UID:10004587-1916560800-1916569800@open-up.ie
SUMMARY:Little Twinkles Parent Toddler Group Tullamore FRC
DESCRIPTION:Little Twinkles Parent and Toddler Group meet every Wednesday and Friday in Tullamore FRC at 10am. \nAll Welcome. \nFor more information contact Marie on 0579320598
URL:https://open-up.ie/calendar-listing/little-twinkles-parent-toddler-group-tullamore-frc/2030-09-25/
LOCATION:Arden View Family Resource Centre
CATEGORIES:Offaly
END:VEVENT
BEGIN:VEVENT
DTSTART;TZID=Europe/Dublin:20300927T100000
DTEND;TZID=Europe/Dublin:20300927T123000
DTSTAMP:20260421T224431
CREATED:20260210T160005Z
LAST-MODIFIED:20260210T160022Z
UID:10004588-1916733600-1916742600@open-up.ie
SUMMARY:Little Twinkles Parent Toddler Group Tullamore FRC
DESCRIPTION:Little Twinkles Parent and Toddler Group meet every Wednesday and Friday in Tullamore FRC at 10am. \nAll Welcome. \nFor more information contact Marie on 0579320598
URL:https://open-up.ie/calendar-listing/little-twinkles-parent-toddler-group-tullamore-frc/2030-09-27/
LOCATION:Arden View Family Resource Centre
CATEGORIES:Offaly
END:VEVENT
BEGIN:VEVENT
DTSTART;TZID=Europe/Dublin:20301002T100000
DTEND;TZID=Europe/Dublin:20301002T123000
DTSTAMP:20260421T224431
CREATED:20260210T160005Z
LAST-MODIFIED:20260210T160022Z
UID:10004589-1917165600-1917174600@open-up.ie
SUMMARY:Little Twinkles Parent Toddler Group Tullamore FRC
DESCRIPTION:Little Twinkles Parent and Toddler Group meet every Wednesday and Friday in Tullamore FRC at 10am. \nAll Welcome. \nFor more information contact Marie on 0579320598
URL:https://open-up.ie/calendar-listing/little-twinkles-parent-toddler-group-tullamore-frc/2030-10-02/
LOCATION:Arden View Family Resource Centre
CATEGORIES:Offaly
END:VEVENT
BEGIN:VEVENT
DTSTART;TZID=Europe/Dublin:20301004T100000
DTEND;TZID=Europe/Dublin:20301004T123000
DTSTAMP:20260421T224431
CREATED:20260210T160005Z
LAST-MODIFIED:20260210T160022Z
UID:10004590-1917338400-1917347400@open-up.ie
SUMMARY:Little Twinkles Parent Toddler Group Tullamore FRC
DESCRIPTION:Little Twinkles Parent and Toddler Group meet every Wednesday and Friday in Tullamore FRC at 10am. \nAll Welcome. \nFor more information contact Marie on 0579320598
URL:https://open-up.ie/calendar-listing/little-twinkles-parent-toddler-group-tullamore-frc/2030-10-04/
LOCATION:Arden View Family Resource Centre
CATEGORIES:Offaly
END:VEVENT
BEGIN:VEVENT
DTSTART;TZID=Europe/Dublin:20301009T100000
DTEND;TZID=Europe/Dublin:20301009T123000
DTSTAMP:20260421T224431
CREATED:20260210T160005Z
LAST-MODIFIED:20260210T160022Z
UID:10004591-1917770400-1917779400@open-up.ie
SUMMARY:Little Twinkles Parent Toddler Group Tullamore FRC
DESCRIPTION:Little Twinkles Parent and Toddler Group meet every Wednesday and Friday in Tullamore FRC at 10am. \nAll Welcome. \nFor more information contact Marie on 0579320598
URL:https://open-up.ie/calendar-listing/little-twinkles-parent-toddler-group-tullamore-frc/2030-10-09/
LOCATION:Arden View Family Resource Centre
CATEGORIES:Offaly
END:VEVENT
BEGIN:VEVENT
DTSTART;TZID=Europe/Dublin:20301011T100000
DTEND;TZID=Europe/Dublin:20301011T123000
DTSTAMP:20260421T224431
CREATED:20260210T160005Z
LAST-MODIFIED:20260210T160022Z
UID:10004592-1917943200-1917952200@open-up.ie
SUMMARY:Little Twinkles Parent Toddler Group Tullamore FRC
DESCRIPTION:Little Twinkles Parent and Toddler Group meet every Wednesday and Friday in Tullamore FRC at 10am. \nAll Welcome. \nFor more information contact Marie on 0579320598
URL:https://open-up.ie/calendar-listing/little-twinkles-parent-toddler-group-tullamore-frc/2030-10-11/
LOCATION:Arden View Family Resource Centre
CATEGORIES:Offaly
END:VEVENT
BEGIN:VEVENT
DTSTART;TZID=Europe/Dublin:20301016T100000
DTEND;TZID=Europe/Dublin:20301016T123000
DTSTAMP:20260421T224431
CREATED:20260210T160005Z
LAST-MODIFIED:20260210T160022Z
UID:10004593-1918375200-1918384200@open-up.ie
SUMMARY:Little Twinkles Parent Toddler Group Tullamore FRC
DESCRIPTION:Little Twinkles Parent and Toddler Group meet every Wednesday and Friday in Tullamore FRC at 10am. \nAll Welcome. \nFor more information contact Marie on 0579320598
URL:https://open-up.ie/calendar-listing/little-twinkles-parent-toddler-group-tullamore-frc/2030-10-16/
LOCATION:Arden View Family Resource Centre
CATEGORIES:Offaly
END:VEVENT
BEGIN:VEVENT
DTSTART;TZID=Europe/Dublin:20301018T100000
DTEND;TZID=Europe/Dublin:20301018T123000
DTSTAMP:20260421T224432
CREATED:20260210T160005Z
LAST-MODIFIED:20260210T160022Z
UID:10004594-1918548000-1918557000@open-up.ie
SUMMARY:Little Twinkles Parent Toddler Group Tullamore FRC
DESCRIPTION:Little Twinkles Parent and Toddler Group meet every Wednesday and Friday in Tullamore FRC at 10am. \nAll Welcome. \nFor more information contact Marie on 0579320598
URL:https://open-up.ie/calendar-listing/little-twinkles-parent-toddler-group-tullamore-frc/2030-10-18/
LOCATION:Arden View Family Resource Centre
CATEGORIES:Offaly
END:VEVENT
BEGIN:VEVENT
DTSTART;TZID=Europe/Dublin:20301022T100000
DTEND;TZID=Europe/Dublin:20301022T130000
DTSTAMP:20260421T224432
CREATED:20260302T164418Z
LAST-MODIFIED:20260302T164418Z
UID:10004711-1918893600-1918904400@open-up.ie
SUMMARY:Primary Care - Social Work Drop in Service
DESCRIPTION:Primary Care  Social Work Drop in Service \nVenue: Community Room in the Library\, JKL St\, Edenderry\, Co Offaly. \nDate(s): 3rd Tuesday of Every Month in 2026 \nTuesday 20th January\,       Tuesday 17th February\,     Tuesday 24th March\, \nTuesday 21st April\,             Tuesday 19th May\,             Tuesday 16th June\, \nTuesday 21st July\,               Tuesday 18th August\,        Tuesday 15th September\, \nTuesday 20th October\,      Tuesday 17th November\, Tuesday 15th December \nTime: 10am – 1pm \nDrop in or Book an appointment for this free and confidential service to see a Primary Care Social Worker in person \n(Booking in advance is advised) \nTo Book an appointment: \nCall 057-8697537 \nHow can a Primary Care Social Worker help? \n\nSupport in navigating the health service.\nSignposting to appropriate community supports.\nAdvocacy re: benefits & entitlements.\nAssist with any other queries or worries.\nEnsure your voice is heard and understood.\n\nDrop In Service Leaflet Edenderry 2026 (003)
URL:https://open-up.ie/calendar-listing/primary-care-social-work-drop-in-service/2030-10-22/
CATEGORIES:Offaly
END:VEVENT
BEGIN:VEVENT
DTSTART;TZID=Europe/Dublin:20301023T100000
DTEND;TZID=Europe/Dublin:20301023T123000
DTSTAMP:20260421T224432
CREATED:20260210T160005Z
LAST-MODIFIED:20260210T160022Z
UID:10004595-1918980000-1918989000@open-up.ie
SUMMARY:Little Twinkles Parent Toddler Group Tullamore FRC
DESCRIPTION:Little Twinkles Parent and Toddler Group meet every Wednesday and Friday in Tullamore FRC at 10am. \nAll Welcome. \nFor more information contact Marie on 0579320598
URL:https://open-up.ie/calendar-listing/little-twinkles-parent-toddler-group-tullamore-frc/2030-10-23/
LOCATION:Arden View Family Resource Centre
CATEGORIES:Offaly
END:VEVENT
BEGIN:VEVENT
DTSTART;TZID=Europe/Dublin:20301025T100000
DTEND;TZID=Europe/Dublin:20301025T123000
DTSTAMP:20260421T224432
CREATED:20260210T160005Z
LAST-MODIFIED:20260210T160022Z
UID:10004596-1919152800-1919161800@open-up.ie
SUMMARY:Little Twinkles Parent Toddler Group Tullamore FRC
DESCRIPTION:Little Twinkles Parent and Toddler Group meet every Wednesday and Friday in Tullamore FRC at 10am. \nAll Welcome. \nFor more information contact Marie on 0579320598
URL:https://open-up.ie/calendar-listing/little-twinkles-parent-toddler-group-tullamore-frc/2030-10-25/
LOCATION:Arden View Family Resource Centre
CATEGORIES:Offaly
END:VEVENT
BEGIN:VEVENT
DTSTART;TZID=Europe/Dublin:20301030T100000
DTEND;TZID=Europe/Dublin:20301030T123000
DTSTAMP:20260421T224432
CREATED:20260210T160005Z
LAST-MODIFIED:20260210T160022Z
UID:10004597-1919584800-1919593800@open-up.ie
SUMMARY:Little Twinkles Parent Toddler Group Tullamore FRC
DESCRIPTION:Little Twinkles Parent and Toddler Group meet every Wednesday and Friday in Tullamore FRC at 10am. \nAll Welcome. \nFor more information contact Marie on 0579320598
URL:https://open-up.ie/calendar-listing/little-twinkles-parent-toddler-group-tullamore-frc/2030-10-30/
LOCATION:Arden View Family Resource Centre
CATEGORIES:Offaly
END:VEVENT
BEGIN:VEVENT
DTSTART;TZID=Europe/Dublin:20301101T100000
DTEND;TZID=Europe/Dublin:20301101T123000
DTSTAMP:20260421T224432
CREATED:20260210T160005Z
LAST-MODIFIED:20260210T160022Z
UID:10004598-1919757600-1919766600@open-up.ie
SUMMARY:Little Twinkles Parent Toddler Group Tullamore FRC
DESCRIPTION:Little Twinkles Parent and Toddler Group meet every Wednesday and Friday in Tullamore FRC at 10am. \nAll Welcome. \nFor more information contact Marie on 0579320598
URL:https://open-up.ie/calendar-listing/little-twinkles-parent-toddler-group-tullamore-frc/2030-11-01/
LOCATION:Arden View Family Resource Centre
CATEGORIES:Offaly
END:VEVENT
BEGIN:VEVENT
DTSTART;TZID=Europe/Dublin:20301106T100000
DTEND;TZID=Europe/Dublin:20301106T123000
DTSTAMP:20260421T224432
CREATED:20260210T160005Z
LAST-MODIFIED:20260210T160022Z
UID:10004599-1920189600-1920198600@open-up.ie
SUMMARY:Little Twinkles Parent Toddler Group Tullamore FRC
DESCRIPTION:Little Twinkles Parent and Toddler Group meet every Wednesday and Friday in Tullamore FRC at 10am. \nAll Welcome. \nFor more information contact Marie on 0579320598
URL:https://open-up.ie/calendar-listing/little-twinkles-parent-toddler-group-tullamore-frc/2030-11-06/
LOCATION:Arden View Family Resource Centre
CATEGORIES:Offaly
END:VEVENT
BEGIN:VEVENT
DTSTART;TZID=Europe/Dublin:20301108T100000
DTEND;TZID=Europe/Dublin:20301108T123000
DTSTAMP:20260421T224432
CREATED:20260210T160005Z
LAST-MODIFIED:20260210T160022Z
UID:10004600-1920362400-1920371400@open-up.ie
SUMMARY:Little Twinkles Parent Toddler Group Tullamore FRC
DESCRIPTION:Little Twinkles Parent and Toddler Group meet every Wednesday and Friday in Tullamore FRC at 10am. \nAll Welcome. \nFor more information contact Marie on 0579320598
URL:https://open-up.ie/calendar-listing/little-twinkles-parent-toddler-group-tullamore-frc/2030-11-08/
LOCATION:Arden View Family Resource Centre
CATEGORIES:Offaly
END:VEVENT
BEGIN:VEVENT
DTSTART;TZID=Europe/Dublin:20301113T100000
DTEND;TZID=Europe/Dublin:20301113T123000
DTSTAMP:20260421T224432
CREATED:20260210T160005Z
LAST-MODIFIED:20260210T160022Z
UID:10004601-1920794400-1920803400@open-up.ie
SUMMARY:Little Twinkles Parent Toddler Group Tullamore FRC
DESCRIPTION:Little Twinkles Parent and Toddler Group meet every Wednesday and Friday in Tullamore FRC at 10am. \nAll Welcome. \nFor more information contact Marie on 0579320598
URL:https://open-up.ie/calendar-listing/little-twinkles-parent-toddler-group-tullamore-frc/2030-11-13/
LOCATION:Arden View Family Resource Centre
CATEGORIES:Offaly
END:VEVENT
BEGIN:VEVENT
DTSTART;TZID=Europe/Dublin:20301115T100000
DTEND;TZID=Europe/Dublin:20301115T123000
DTSTAMP:20260421T224432
CREATED:20260210T160005Z
LAST-MODIFIED:20260210T160022Z
UID:10004602-1920967200-1920976200@open-up.ie
SUMMARY:Little Twinkles Parent Toddler Group Tullamore FRC
DESCRIPTION:Little Twinkles Parent and Toddler Group meet every Wednesday and Friday in Tullamore FRC at 10am. \nAll Welcome. \nFor more information contact Marie on 0579320598
URL:https://open-up.ie/calendar-listing/little-twinkles-parent-toddler-group-tullamore-frc/2030-11-15/
LOCATION:Arden View Family Resource Centre
CATEGORIES:Offaly
END:VEVENT
BEGIN:VEVENT
DTSTART;TZID=Europe/Dublin:20301120T100000
DTEND;TZID=Europe/Dublin:20301120T123000
DTSTAMP:20260421T224432
CREATED:20260210T160005Z
LAST-MODIFIED:20260210T160022Z
UID:10004603-1921399200-1921408200@open-up.ie
SUMMARY:Little Twinkles Parent Toddler Group Tullamore FRC
DESCRIPTION:Little Twinkles Parent and Toddler Group meet every Wednesday and Friday in Tullamore FRC at 10am. \nAll Welcome. \nFor more information contact Marie on 0579320598
URL:https://open-up.ie/calendar-listing/little-twinkles-parent-toddler-group-tullamore-frc/2030-11-20/
LOCATION:Arden View Family Resource Centre
CATEGORIES:Offaly
END:VEVENT
BEGIN:VEVENT
DTSTART;TZID=Europe/Dublin:20301122T100000
DTEND;TZID=Europe/Dublin:20301122T123000
DTSTAMP:20260421T224432
CREATED:20260210T160005Z
LAST-MODIFIED:20260210T160022Z
UID:10004604-1921572000-1921581000@open-up.ie
SUMMARY:Little Twinkles Parent Toddler Group Tullamore FRC
DESCRIPTION:Little Twinkles Parent and Toddler Group meet every Wednesday and Friday in Tullamore FRC at 10am. \nAll Welcome. \nFor more information contact Marie on 0579320598
URL:https://open-up.ie/calendar-listing/little-twinkles-parent-toddler-group-tullamore-frc/2030-11-22/
LOCATION:Arden View Family Resource Centre
CATEGORIES:Offaly
END:VEVENT
BEGIN:VEVENT
DTSTART;TZID=Europe/Dublin:20301126T100000
DTEND;TZID=Europe/Dublin:20301126T130000
DTSTAMP:20260421T224432
CREATED:20260302T164418Z
LAST-MODIFIED:20260302T164418Z
UID:10004712-1921917600-1921928400@open-up.ie
SUMMARY:Primary Care - Social Work Drop in Service
DESCRIPTION:Primary Care  Social Work Drop in Service \nVenue: Community Room in the Library\, JKL St\, Edenderry\, Co Offaly. \nDate(s): 3rd Tuesday of Every Month in 2026 \nTuesday 20th January\,       Tuesday 17th February\,     Tuesday 24th March\, \nTuesday 21st April\,             Tuesday 19th May\,             Tuesday 16th June\, \nTuesday 21st July\,               Tuesday 18th August\,        Tuesday 15th September\, \nTuesday 20th October\,      Tuesday 17th November\, Tuesday 15th December \nTime: 10am – 1pm \nDrop in or Book an appointment for this free and confidential service to see a Primary Care Social Worker in person \n(Booking in advance is advised) \nTo Book an appointment: \nCall 057-8697537 \nHow can a Primary Care Social Worker help? \n\nSupport in navigating the health service.\nSignposting to appropriate community supports.\nAdvocacy re: benefits & entitlements.\nAssist with any other queries or worries.\nEnsure your voice is heard and understood.\n\nDrop In Service Leaflet Edenderry 2026 (003)
URL:https://open-up.ie/calendar-listing/primary-care-social-work-drop-in-service/2030-11-26/
CATEGORIES:Offaly
END:VEVENT
END:VCALENDAR