BEGIN:VCALENDAR
VERSION:2.0
PRODID:-//Open Up - ECPv6.15.20//NONSGML v1.0//EN
CALSCALE:GREGORIAN
METHOD:PUBLISH
X-WR-CALNAME:Open Up
X-ORIGINAL-URL:https://open-up.ie
X-WR-CALDESC:Events for Open Up
REFRESH-INTERVAL;VALUE=DURATION:PT1H
X-Robots-Tag:noindex
X-PUBLISHED-TTL:PT1H
BEGIN:VTIMEZONE
TZID:UTC
BEGIN:STANDARD
TZOFFSETFROM:+0000
TZOFFSETTO:+0000
TZNAME:UTC
DTSTART:20220101T000000
END:STANDARD
END:VTIMEZONE
BEGIN:VEVENT
DTSTART;TZID=UTC:20240118T093000
DTEND;TZID=UTC:20240118T113000
DTSTAMP:20260420T034049
CREATED:20240109T135157Z
LAST-MODIFIED:20240213T113428Z
UID:10000121-1705570200-1705577400@open-up.ie
SUMMARY:Own My Life Course for Adult females
DESCRIPTION:This course has temporarily been paused due to low participation. Please contact Sheila on 057 86 71100 to register your interest and you will be notified when the course resumes.
URL:https://open-up.ie/calendar-listing/own-my-life-course-for-adult-females/2024-01-18/
END:VEVENT
BEGIN:VEVENT
DTSTART;TZID=UTC:20240115T080000
DTEND;TZID=UTC:20240115T170000
DTSTAMP:20260420T034049
CREATED:20240109T142631Z
LAST-MODIFIED:20240109T143537Z
UID:10000106-1705305600-1705338000@open-up.ie
SUMMARY:Self-harm and Suicide prevention training HSE
DESCRIPTION:To access free online and face to face self harm\, suicide prevention and bereavement support training\, see link \nhttps://bookwhen.com/suicidepreventiontrainingmidlands \nThese trainings take place throughout the year monthly in different locations so please refer to the link above for each month’s events \nThis link lists the range of support trainings that can be done online\, in person from 1/2 days to longer trainings in person \nFor informal enquiries and details on the range of courses please contact Josephine Rigney \nÈ:  086-8157850.  :: josephine.rigney@hse.ie \n 
URL:https://open-up.ie/calendar-listing/self-harm-and-suicide-prevention-training-hse/2024-01-15/2/
END:VEVENT
BEGIN:VEVENT
DTSTART;TZID=UTC:20240115T000000
DTEND;TZID=UTC:20240115T000000
DTSTAMP:20260420T034049
CREATED:20240109T142631Z
LAST-MODIFIED:20240109T143537Z
UID:10000105-1705276800-1705276800@open-up.ie
SUMMARY:Self-harm and Suicide prevention training HSE
DESCRIPTION:To access free online and face to face self harm\, suicide prevention and bereavement support training\, see link \nhttps://bookwhen.com/suicidepreventiontrainingmidlands \nThese trainings take place throughout the year monthly in different locations so please refer to the link above for each month’s events \nThis link lists the range of support trainings that can be done online\, in person from 1/2 days to longer trainings in person \nFor informal enquiries and details on the range of courses please contact Josephine Rigney \nÈ:  086-8157850.  :: josephine.rigney@hse.ie \n 
URL:https://open-up.ie/calendar-listing/self-harm-and-suicide-prevention-training-hse/2024-01-15/1/
END:VEVENT
BEGIN:VEVENT
DTSTART;TZID=UTC:20240111T093000
DTEND;TZID=UTC:20240111T113000
DTSTAMP:20260420T034049
CREATED:20240109T135157Z
LAST-MODIFIED:20240213T113428Z
UID:10000094-1704965400-1704972600@open-up.ie
SUMMARY:Own My Life Course for Adult females
DESCRIPTION:This course has temporarily been paused due to low participation. Please contact Sheila on 057 86 71100 to register your interest and you will be notified when the course resumes.
URL:https://open-up.ie/calendar-listing/own-my-life-course-for-adult-females/2024-01-11/
END:VEVENT
BEGIN:VEVENT
DTSTART;TZID=UTC:20231226T190000
DTEND;TZID=UTC:20231226T210000
DTSTAMP:20260420T034049
CREATED:20230918T092724Z
LAST-MODIFIED:20240109T133533Z
UID:10000042-1703617200-1703624400@open-up.ie
SUMMARY:Start from the Heart 10 week x 2 hour programme for Parents - Mountmellick
DESCRIPTION:Introduction evening 19th September 2023
URL:https://open-up.ie/calendar-listing/start-from-the-heart-10-week-x-2-hour-programme-for-parents-mountmellick-3/2023-12-26/
LOCATION:Mountmellick Family Resource Centre
ATTACH;FMTTYPE=image/jpeg:https://open-up.ie/wp-content/uploads/2022/08/SFTH-Mountmellick-.jpg
ORGANIZER;CN="Mountmellick Family Resource Centre":MAILTO:manager@myfrc.ie
END:VEVENT
BEGIN:VEVENT
DTSTART;TZID=UTC:20231219T190000
DTEND;TZID=UTC:20231219T210000
DTSTAMP:20260420T034049
CREATED:20230918T092724Z
LAST-MODIFIED:20240109T133533Z
UID:10000041-1703012400-1703019600@open-up.ie
SUMMARY:Start from the Heart 10 week x 2 hour programme for Parents - Mountmellick
DESCRIPTION:Introduction evening 19th September 2023
URL:https://open-up.ie/calendar-listing/start-from-the-heart-10-week-x-2-hour-programme-for-parents-mountmellick-3/2023-12-19/
LOCATION:Mountmellick Family Resource Centre
ATTACH;FMTTYPE=image/jpeg:https://open-up.ie/wp-content/uploads/2022/08/SFTH-Mountmellick-.jpg
ORGANIZER;CN="Mountmellick Family Resource Centre":MAILTO:manager@myfrc.ie
END:VEVENT
BEGIN:VEVENT
DTSTART;TZID=UTC:20231212T190000
DTEND;TZID=UTC:20231212T210000
DTSTAMP:20260420T034049
CREATED:20230918T092724Z
LAST-MODIFIED:20240109T133533Z
UID:10000040-1702407600-1702414800@open-up.ie
SUMMARY:Start from the Heart 10 week x 2 hour programme for Parents - Mountmellick
DESCRIPTION:Introduction evening 19th September 2023
URL:https://open-up.ie/calendar-listing/start-from-the-heart-10-week-x-2-hour-programme-for-parents-mountmellick-3/2023-12-12/
LOCATION:Mountmellick Family Resource Centre
ATTACH;FMTTYPE=image/jpeg:https://open-up.ie/wp-content/uploads/2022/08/SFTH-Mountmellick-.jpg
ORGANIZER;CN="Mountmellick Family Resource Centre":MAILTO:manager@myfrc.ie
END:VEVENT
BEGIN:VEVENT
DTSTART;TZID=UTC:20231205T190000
DTEND;TZID=UTC:20231205T210000
DTSTAMP:20260420T034049
CREATED:20230918T092724Z
LAST-MODIFIED:20240109T133533Z
UID:10000039-1701802800-1701810000@open-up.ie
SUMMARY:Start from the Heart 10 week x 2 hour programme for Parents - Mountmellick
DESCRIPTION:Introduction evening 19th September 2023
URL:https://open-up.ie/calendar-listing/start-from-the-heart-10-week-x-2-hour-programme-for-parents-mountmellick-3/2023-12-05/
LOCATION:Mountmellick Family Resource Centre
ATTACH;FMTTYPE=image/jpeg:https://open-up.ie/wp-content/uploads/2022/08/SFTH-Mountmellick-.jpg
ORGANIZER;CN="Mountmellick Family Resource Centre":MAILTO:manager@myfrc.ie
END:VEVENT
BEGIN:VEVENT
DTSTART;TZID=UTC:20231204T100000
DTEND;TZID=UTC:20231204T100000
DTSTAMP:20260420T034049
CREATED:20230918T091631Z
LAST-MODIFIED:20230918T091631Z
UID:10000021-1701684000-1701684000@open-up.ie
SUMMARY:Start from the Heart 10 week x 2 hour programme for Parents - Tullamore
DESCRIPTION:Starts Monday 25th September 2023 \nSFTH Poster Tullamore
URL:https://open-up.ie/calendar-listing/start-from-the-heart-10-week-x-2-hour-programme-for-parents-tullamore/2023-12-04/
LOCATION:Arden View Family Resource Centre
ATTACH;FMTTYPE=image/jpeg:https://open-up.ie/wp-content/uploads/2023/09/SFTH-Tullamore.jpg
ORGANIZER;CN="Barnardos and Tusla":MAILTO:carol.faulkner@barnardos.ie
END:VEVENT
BEGIN:VEVENT
DTSTART;TZID=UTC:20231128T190000
DTEND;TZID=UTC:20231128T210000
DTSTAMP:20260420T034049
CREATED:20230918T092724Z
LAST-MODIFIED:20240109T133533Z
UID:10000038-1701198000-1701205200@open-up.ie
SUMMARY:Start from the Heart 10 week x 2 hour programme for Parents - Mountmellick
DESCRIPTION:Introduction evening 19th September 2023
URL:https://open-up.ie/calendar-listing/start-from-the-heart-10-week-x-2-hour-programme-for-parents-mountmellick-3/2023-11-28/
LOCATION:Mountmellick Family Resource Centre
ATTACH;FMTTYPE=image/jpeg:https://open-up.ie/wp-content/uploads/2022/08/SFTH-Mountmellick-.jpg
ORGANIZER;CN="Mountmellick Family Resource Centre":MAILTO:manager@myfrc.ie
END:VEVENT
BEGIN:VEVENT
DTSTART;TZID=UTC:20231127T100000
DTEND;TZID=UTC:20231127T100000
DTSTAMP:20260420T034049
CREATED:20230918T091631Z
LAST-MODIFIED:20230918T091631Z
UID:10000020-1701079200-1701079200@open-up.ie
SUMMARY:Start from the Heart 10 week x 2 hour programme for Parents - Tullamore
DESCRIPTION:Starts Monday 25th September 2023 \nSFTH Poster Tullamore
URL:https://open-up.ie/calendar-listing/start-from-the-heart-10-week-x-2-hour-programme-for-parents-tullamore/2023-11-27/
LOCATION:Arden View Family Resource Centre
ATTACH;FMTTYPE=image/jpeg:https://open-up.ie/wp-content/uploads/2023/09/SFTH-Tullamore.jpg
ORGANIZER;CN="Barnardos and Tusla":MAILTO:carol.faulkner@barnardos.ie
END:VEVENT
BEGIN:VEVENT
DTSTART;TZID=UTC:20231121T190000
DTEND;TZID=UTC:20231121T210000
DTSTAMP:20260420T034049
CREATED:20230918T092724Z
LAST-MODIFIED:20240109T133533Z
UID:10000037-1700593200-1700600400@open-up.ie
SUMMARY:Start from the Heart 10 week x 2 hour programme for Parents - Mountmellick
DESCRIPTION:Introduction evening 19th September 2023
URL:https://open-up.ie/calendar-listing/start-from-the-heart-10-week-x-2-hour-programme-for-parents-mountmellick-3/2023-11-21/
LOCATION:Mountmellick Family Resource Centre
ATTACH;FMTTYPE=image/jpeg:https://open-up.ie/wp-content/uploads/2022/08/SFTH-Mountmellick-.jpg
ORGANIZER;CN="Mountmellick Family Resource Centre":MAILTO:manager@myfrc.ie
END:VEVENT
BEGIN:VEVENT
DTSTART;TZID=UTC:20231120T100000
DTEND;TZID=UTC:20231120T100000
DTSTAMP:20260420T034049
CREATED:20230918T091631Z
LAST-MODIFIED:20230918T091631Z
UID:10000019-1700474400-1700474400@open-up.ie
SUMMARY:Start from the Heart 10 week x 2 hour programme for Parents - Tullamore
DESCRIPTION:Starts Monday 25th September 2023 \nSFTH Poster Tullamore
URL:https://open-up.ie/calendar-listing/start-from-the-heart-10-week-x-2-hour-programme-for-parents-tullamore/2023-11-20/
LOCATION:Arden View Family Resource Centre
ATTACH;FMTTYPE=image/jpeg:https://open-up.ie/wp-content/uploads/2023/09/SFTH-Tullamore.jpg
ORGANIZER;CN="Barnardos and Tusla":MAILTO:carol.faulkner@barnardos.ie
END:VEVENT
BEGIN:VEVENT
DTSTART;TZID=UTC:20231114T190000
DTEND;TZID=UTC:20231114T210000
DTSTAMP:20260420T034049
CREATED:20230918T092724Z
LAST-MODIFIED:20240109T133533Z
UID:10000036-1699988400-1699995600@open-up.ie
SUMMARY:Start from the Heart 10 week x 2 hour programme for Parents - Mountmellick
DESCRIPTION:Introduction evening 19th September 2023
URL:https://open-up.ie/calendar-listing/start-from-the-heart-10-week-x-2-hour-programme-for-parents-mountmellick-3/2023-11-14/
LOCATION:Mountmellick Family Resource Centre
ATTACH;FMTTYPE=image/jpeg:https://open-up.ie/wp-content/uploads/2022/08/SFTH-Mountmellick-.jpg
ORGANIZER;CN="Mountmellick Family Resource Centre":MAILTO:manager@myfrc.ie
END:VEVENT
BEGIN:VEVENT
DTSTART;TZID=UTC:20231113T100000
DTEND;TZID=UTC:20231113T100000
DTSTAMP:20260420T034049
CREATED:20230918T091631Z
LAST-MODIFIED:20230918T091631Z
UID:10000018-1699869600-1699869600@open-up.ie
SUMMARY:Start from the Heart 10 week x 2 hour programme for Parents - Tullamore
DESCRIPTION:Starts Monday 25th September 2023 \nSFTH Poster Tullamore
URL:https://open-up.ie/calendar-listing/start-from-the-heart-10-week-x-2-hour-programme-for-parents-tullamore/2023-11-13/
LOCATION:Arden View Family Resource Centre
ATTACH;FMTTYPE=image/jpeg:https://open-up.ie/wp-content/uploads/2023/09/SFTH-Tullamore.jpg
ORGANIZER;CN="Barnardos and Tusla":MAILTO:carol.faulkner@barnardos.ie
END:VEVENT
BEGIN:VEVENT
DTSTART;TZID=UTC:20231107T190000
DTEND;TZID=UTC:20231107T210000
DTSTAMP:20260420T034049
CREATED:20230918T092724Z
LAST-MODIFIED:20240109T133533Z
UID:10000035-1699383600-1699390800@open-up.ie
SUMMARY:Start from the Heart 10 week x 2 hour programme for Parents - Mountmellick
DESCRIPTION:Introduction evening 19th September 2023
URL:https://open-up.ie/calendar-listing/start-from-the-heart-10-week-x-2-hour-programme-for-parents-mountmellick-3/2023-11-07/
LOCATION:Mountmellick Family Resource Centre
ATTACH;FMTTYPE=image/jpeg:https://open-up.ie/wp-content/uploads/2022/08/SFTH-Mountmellick-.jpg
ORGANIZER;CN="Mountmellick Family Resource Centre":MAILTO:manager@myfrc.ie
END:VEVENT
BEGIN:VEVENT
DTSTART;TZID=UTC:20231106T100000
DTEND;TZID=UTC:20231106T100000
DTSTAMP:20260420T034049
CREATED:20230918T091631Z
LAST-MODIFIED:20230918T091631Z
UID:10000017-1699264800-1699264800@open-up.ie
SUMMARY:Start from the Heart 10 week x 2 hour programme for Parents - Tullamore
DESCRIPTION:Starts Monday 25th September 2023 \nSFTH Poster Tullamore
URL:https://open-up.ie/calendar-listing/start-from-the-heart-10-week-x-2-hour-programme-for-parents-tullamore/2023-11-06/
LOCATION:Arden View Family Resource Centre
ATTACH;FMTTYPE=image/jpeg:https://open-up.ie/wp-content/uploads/2023/09/SFTH-Tullamore.jpg
ORGANIZER;CN="Barnardos and Tusla":MAILTO:carol.faulkner@barnardos.ie
END:VEVENT
BEGIN:VEVENT
DTSTART;TZID=UTC:20231031T190000
DTEND;TZID=UTC:20231031T210000
DTSTAMP:20260420T034049
CREATED:20230918T092724Z
LAST-MODIFIED:20240109T133533Z
UID:10000034-1698778800-1698786000@open-up.ie
SUMMARY:Start from the Heart 10 week x 2 hour programme for Parents - Mountmellick
DESCRIPTION:Introduction evening 19th September 2023
URL:https://open-up.ie/calendar-listing/start-from-the-heart-10-week-x-2-hour-programme-for-parents-mountmellick-3/2023-10-31/
LOCATION:Mountmellick Family Resource Centre
ATTACH;FMTTYPE=image/jpeg:https://open-up.ie/wp-content/uploads/2022/08/SFTH-Mountmellick-.jpg
ORGANIZER;CN="Mountmellick Family Resource Centre":MAILTO:manager@myfrc.ie
END:VEVENT
BEGIN:VEVENT
DTSTART;TZID=UTC:20231030T100000
DTEND;TZID=UTC:20231030T100000
DTSTAMP:20260420T034049
CREATED:20230918T091631Z
LAST-MODIFIED:20230918T091631Z
UID:10000016-1698660000-1698660000@open-up.ie
SUMMARY:Start from the Heart 10 week x 2 hour programme for Parents - Tullamore
DESCRIPTION:Starts Monday 25th September 2023 \nSFTH Poster Tullamore
URL:https://open-up.ie/calendar-listing/start-from-the-heart-10-week-x-2-hour-programme-for-parents-tullamore/2023-10-30/
LOCATION:Arden View Family Resource Centre
ATTACH;FMTTYPE=image/jpeg:https://open-up.ie/wp-content/uploads/2023/09/SFTH-Tullamore.jpg
ORGANIZER;CN="Barnardos and Tusla":MAILTO:carol.faulkner@barnardos.ie
END:VEVENT
BEGIN:VEVENT
DTSTART;TZID=UTC:20231024T190000
DTEND;TZID=UTC:20231024T210000
DTSTAMP:20260420T034049
CREATED:20230918T092724Z
LAST-MODIFIED:20240109T133533Z
UID:10000033-1698174000-1698181200@open-up.ie
SUMMARY:Start from the Heart 10 week x 2 hour programme for Parents - Mountmellick
DESCRIPTION:Introduction evening 19th September 2023
URL:https://open-up.ie/calendar-listing/start-from-the-heart-10-week-x-2-hour-programme-for-parents-mountmellick-3/2023-10-24/
LOCATION:Mountmellick Family Resource Centre
ATTACH;FMTTYPE=image/jpeg:https://open-up.ie/wp-content/uploads/2022/08/SFTH-Mountmellick-.jpg
ORGANIZER;CN="Mountmellick Family Resource Centre":MAILTO:manager@myfrc.ie
END:VEVENT
BEGIN:VEVENT
DTSTART;TZID=UTC:20231023T100000
DTEND;TZID=UTC:20231023T120000
DTSTAMP:20260420T034049
CREATED:20230918T090711Z
LAST-MODIFIED:20230918T091750Z
UID:10000026-1698055200-1698062400@open-up.ie
SUMMARY:Sensory play and activity for 0-4 year olds - Portarlington
DESCRIPTION:Starting Monday September 18th for 6 weeks \nBuilding Blocks Poster Portarlington
URL:https://open-up.ie/calendar-listing/sensory-play-and-activity-for-0-4-year-olds-portarlington/2023-10-23/
LOCATION:Portarlington Primary Care Centre
ATTACH;FMTTYPE=image/jpeg:https://open-up.ie/wp-content/uploads/2023/09/building-blocks.jpg
ORGANIZER;CN="Parents First":MAILTO:dolores@parentsfirst.ie
END:VEVENT
BEGIN:VEVENT
DTSTART;TZID=UTC:20231023T100000
DTEND;TZID=UTC:20231023T100000
DTSTAMP:20260420T034049
CREATED:20230918T091631Z
LAST-MODIFIED:20230918T091631Z
UID:10000015-1698055200-1698055200@open-up.ie
SUMMARY:Start from the Heart 10 week x 2 hour programme for Parents - Tullamore
DESCRIPTION:Starts Monday 25th September 2023 \nSFTH Poster Tullamore
URL:https://open-up.ie/calendar-listing/start-from-the-heart-10-week-x-2-hour-programme-for-parents-tullamore/2023-10-23/
LOCATION:Arden View Family Resource Centre
ATTACH;FMTTYPE=image/jpeg:https://open-up.ie/wp-content/uploads/2023/09/SFTH-Tullamore.jpg
ORGANIZER;CN="Barnardos and Tusla":MAILTO:carol.faulkner@barnardos.ie
END:VEVENT
BEGIN:VEVENT
DTSTART;TZID=UTC:20231017T190000
DTEND;TZID=UTC:20231017T210000
DTSTAMP:20260420T034049
CREATED:20230918T092724Z
LAST-MODIFIED:20240109T133533Z
UID:10000032-1697569200-1697576400@open-up.ie
SUMMARY:Start from the Heart 10 week x 2 hour programme for Parents - Mountmellick
DESCRIPTION:Introduction evening 19th September 2023
URL:https://open-up.ie/calendar-listing/start-from-the-heart-10-week-x-2-hour-programme-for-parents-mountmellick-3/2023-10-17/
LOCATION:Mountmellick Family Resource Centre
ATTACH;FMTTYPE=image/jpeg:https://open-up.ie/wp-content/uploads/2022/08/SFTH-Mountmellick-.jpg
ORGANIZER;CN="Mountmellick Family Resource Centre":MAILTO:manager@myfrc.ie
END:VEVENT
BEGIN:VEVENT
DTSTART;TZID=UTC:20231016T100000
DTEND;TZID=UTC:20231016T120000
DTSTAMP:20260420T034049
CREATED:20230918T090711Z
LAST-MODIFIED:20230918T091750Z
UID:10000025-1697450400-1697457600@open-up.ie
SUMMARY:Sensory play and activity for 0-4 year olds - Portarlington
DESCRIPTION:Starting Monday September 18th for 6 weeks \nBuilding Blocks Poster Portarlington
URL:https://open-up.ie/calendar-listing/sensory-play-and-activity-for-0-4-year-olds-portarlington/2023-10-16/
LOCATION:Portarlington Primary Care Centre
ATTACH;FMTTYPE=image/jpeg:https://open-up.ie/wp-content/uploads/2023/09/building-blocks.jpg
ORGANIZER;CN="Parents First":MAILTO:dolores@parentsfirst.ie
END:VEVENT
BEGIN:VEVENT
DTSTART;TZID=UTC:20231016T100000
DTEND;TZID=UTC:20231016T100000
DTSTAMP:20260420T034049
CREATED:20230918T091631Z
LAST-MODIFIED:20230918T091631Z
UID:10000014-1697450400-1697450400@open-up.ie
SUMMARY:Start from the Heart 10 week x 2 hour programme for Parents - Tullamore
DESCRIPTION:Starts Monday 25th September 2023 \nSFTH Poster Tullamore
URL:https://open-up.ie/calendar-listing/start-from-the-heart-10-week-x-2-hour-programme-for-parents-tullamore/2023-10-16/
LOCATION:Arden View Family Resource Centre
ATTACH;FMTTYPE=image/jpeg:https://open-up.ie/wp-content/uploads/2023/09/SFTH-Tullamore.jpg
ORGANIZER;CN="Barnardos and Tusla":MAILTO:carol.faulkner@barnardos.ie
END:VEVENT
BEGIN:VEVENT
DTSTART;TZID=UTC:20231011T191500
DTEND;TZID=UTC:20231011T210000
DTSTAMP:20260420T034049
CREATED:20231003T112805Z
LAST-MODIFIED:20231003T113659Z
UID:10000093-1697051700-1697058000@open-up.ie
SUMMARY:Anam Cara Midlands- Parental Bereavement Support
DESCRIPTION:Face to Face meeting for the Midlands will be taking place on Wednesday 11th October at 7.15pm in the
URL:https://open-up.ie/calendar-listing/anam-cara-midlands-parental-bereavement-support/
LOCATION:Mullingar Park Hotel\, Mullingar\, N9184EP\, Ireland
ATTACH;FMTTYPE=image/jpeg:https://open-up.ie/wp-content/uploads/2023/10/Anam-Cara-Logo-Tag-1.jpg
END:VEVENT
BEGIN:VEVENT
DTSTART;TZID=UTC:20231010T190000
DTEND;TZID=UTC:20231010T210000
DTSTAMP:20260420T034049
CREATED:20230918T092724Z
LAST-MODIFIED:20240109T133533Z
UID:10000031-1696964400-1696971600@open-up.ie
SUMMARY:Start from the Heart 10 week x 2 hour programme for Parents - Mountmellick
DESCRIPTION:Introduction evening 19th September 2023
URL:https://open-up.ie/calendar-listing/start-from-the-heart-10-week-x-2-hour-programme-for-parents-mountmellick-3/2023-10-10/
LOCATION:Mountmellick Family Resource Centre
ATTACH;FMTTYPE=image/jpeg:https://open-up.ie/wp-content/uploads/2022/08/SFTH-Mountmellick-.jpg
ORGANIZER;CN="Mountmellick Family Resource Centre":MAILTO:manager@myfrc.ie
END:VEVENT
BEGIN:VEVENT
DTSTART;TZID=UTC:20231009T100000
DTEND;TZID=UTC:20231009T120000
DTSTAMP:20260420T034049
CREATED:20230918T090711Z
LAST-MODIFIED:20230918T091750Z
UID:10000024-1696845600-1696852800@open-up.ie
SUMMARY:Sensory play and activity for 0-4 year olds - Portarlington
DESCRIPTION:Starting Monday September 18th for 6 weeks \nBuilding Blocks Poster Portarlington
URL:https://open-up.ie/calendar-listing/sensory-play-and-activity-for-0-4-year-olds-portarlington/2023-10-09/
LOCATION:Portarlington Primary Care Centre
ATTACH;FMTTYPE=image/jpeg:https://open-up.ie/wp-content/uploads/2023/09/building-blocks.jpg
ORGANIZER;CN="Parents First":MAILTO:dolores@parentsfirst.ie
END:VEVENT
BEGIN:VEVENT
DTSTART;TZID=UTC:20231009T100000
DTEND;TZID=UTC:20231009T100000
DTSTAMP:20260420T034049
CREATED:20230918T091631Z
LAST-MODIFIED:20230918T091631Z
UID:10000013-1696845600-1696845600@open-up.ie
SUMMARY:Start from the Heart 10 week x 2 hour programme for Parents - Tullamore
DESCRIPTION:Starts Monday 25th September 2023 \nSFTH Poster Tullamore
URL:https://open-up.ie/calendar-listing/start-from-the-heart-10-week-x-2-hour-programme-for-parents-tullamore/2023-10-09/
LOCATION:Arden View Family Resource Centre
ATTACH;FMTTYPE=image/jpeg:https://open-up.ie/wp-content/uploads/2023/09/SFTH-Tullamore.jpg
ORGANIZER;CN="Barnardos and Tusla":MAILTO:carol.faulkner@barnardos.ie
END:VEVENT
BEGIN:VEVENT
DTSTART;TZID=UTC:20231003T190000
DTEND;TZID=UTC:20231003T210000
DTSTAMP:20260420T034049
CREATED:20230918T092724Z
LAST-MODIFIED:20240109T133533Z
UID:10000030-1696359600-1696366800@open-up.ie
SUMMARY:Start from the Heart 10 week x 2 hour programme for Parents - Mountmellick
DESCRIPTION:Introduction evening 19th September 2023
URL:https://open-up.ie/calendar-listing/start-from-the-heart-10-week-x-2-hour-programme-for-parents-mountmellick-3/2023-10-03/
LOCATION:Mountmellick Family Resource Centre
ATTACH;FMTTYPE=image/jpeg:https://open-up.ie/wp-content/uploads/2022/08/SFTH-Mountmellick-.jpg
ORGANIZER;CN="Mountmellick Family Resource Centre":MAILTO:manager@myfrc.ie
END:VEVENT
END:VCALENDAR