BEGIN:VCALENDAR
VERSION:2.0
PRODID:-//Open Up - ECPv6.15.20//NONSGML v1.0//EN
CALSCALE:GREGORIAN
METHOD:PUBLISH
X-WR-CALNAME:Open Up
X-ORIGINAL-URL:https://open-up.ie
X-WR-CALDESC:Events for Open Up
REFRESH-INTERVAL;VALUE=DURATION:PT1H
X-Robots-Tag:noindex
X-PUBLISHED-TTL:PT1H
BEGIN:VTIMEZONE
TZID:Europe/Dublin
BEGIN:STANDARD
TZOFFSETFROM:+0000
TZOFFSETTO:+0100
TZNAME:IST
DTSTART:20270328T010000
END:STANDARD
BEGIN:DAYLIGHT
TZOFFSETFROM:+0100
TZOFFSETTO:+0000
TZNAME:GMT
DTSTART:20271031T010000
END:DAYLIGHT
BEGIN:STANDARD
TZOFFSETFROM:+0000
TZOFFSETTO:+0100
TZNAME:IST
DTSTART:20280326T010000
END:STANDARD
BEGIN:DAYLIGHT
TZOFFSETFROM:+0100
TZOFFSETTO:+0000
TZNAME:GMT
DTSTART:20281029T010000
END:DAYLIGHT
BEGIN:STANDARD
TZOFFSETFROM:+0000
TZOFFSETTO:+0100
TZNAME:IST
DTSTART:20290325T010000
END:STANDARD
BEGIN:DAYLIGHT
TZOFFSETFROM:+0100
TZOFFSETTO:+0000
TZNAME:GMT
DTSTART:20291028T010000
END:DAYLIGHT
END:VTIMEZONE
BEGIN:VEVENT
DTSTART;TZID=Europe/Dublin:20280425T100000
DTEND;TZID=Europe/Dublin:20280425T130000
DTSTAMP:20260420T013800
CREATED:20260302T164418Z
LAST-MODIFIED:20260302T164418Z
UID:10004681-1840269600-1840280400@open-up.ie
SUMMARY:Primary Care - Social Work Drop in Service
DESCRIPTION:Primary Care  Social Work Drop in Service \nVenue: Community Room in the Library\, JKL St\, Edenderry\, Co Offaly. \nDate(s): 3rd Tuesday of Every Month in 2026 \nTuesday 20th January\,       Tuesday 17th February\,     Tuesday 24th March\, \nTuesday 21st April\,             Tuesday 19th May\,             Tuesday 16th June\, \nTuesday 21st July\,               Tuesday 18th August\,        Tuesday 15th September\, \nTuesday 20th October\,      Tuesday 17th November\, Tuesday 15th December \nTime: 10am – 1pm \nDrop in or Book an appointment for this free and confidential service to see a Primary Care Social Worker in person \n(Booking in advance is advised) \nTo Book an appointment: \nCall 057-8697537 \nHow can a Primary Care Social Worker help? \n\nSupport in navigating the health service.\nSignposting to appropriate community supports.\nAdvocacy re: benefits & entitlements.\nAssist with any other queries or worries.\nEnsure your voice is heard and understood.\n\nDrop In Service Leaflet Edenderry 2026 (003)
URL:https://open-up.ie/calendar-listing/primary-care-social-work-drop-in-service/2028-04-25/
CATEGORIES:Offaly
END:VEVENT
BEGIN:VEVENT
DTSTART;TZID=Europe/Dublin:20280425T190000
DTEND;TZID=Europe/Dublin:20280425T200000
DTSTAMP:20260420T013800
CREATED:20250224T110437Z
LAST-MODIFIED:20250224T110606Z
UID:10001306-1840302000-1840305600@open-up.ie
SUMMARY:ESKER COMMUNITY - Kulele Orchestra
DESCRIPTION:Esker Community ‘kulele Orchestra is a community music group based in Esker Arts in Tullamore and is open to all\, young and old\, and we are always looking for new members who would like to come along and join in the fun of making music together. All instruments and singers are welcome. \n 
URL:https://open-up.ie/calendar-listing/esker-community-kulele-orchestra/2028-04-25/
LOCATION:Tullamore
END:VEVENT
BEGIN:VEVENT
DTSTART;TZID=Europe/Dublin:20280426T100000
DTEND;TZID=Europe/Dublin:20280426T123000
DTSTAMP:20260420T013800
CREATED:20260210T160005Z
LAST-MODIFIED:20260210T160022Z
UID:10004335-1840356000-1840365000@open-up.ie
SUMMARY:Little Twinkles Parent Toddler Group Tullamore FRC
DESCRIPTION:Little Twinkles Parent and Toddler Group meet every Wednesday and Friday in Tullamore FRC at 10am. \nAll Welcome. \nFor more information contact Marie on 0579320598
URL:https://open-up.ie/calendar-listing/little-twinkles-parent-toddler-group-tullamore-frc/2028-04-26/
LOCATION:Arden View Family Resource Centre
CATEGORIES:Offaly
END:VEVENT
BEGIN:VEVENT
DTSTART;TZID=Europe/Dublin:20280428T100000
DTEND;TZID=Europe/Dublin:20280428T123000
DTSTAMP:20260420T013800
CREATED:20260210T160005Z
LAST-MODIFIED:20260210T160022Z
UID:10004336-1840528800-1840537800@open-up.ie
SUMMARY:Little Twinkles Parent Toddler Group Tullamore FRC
DESCRIPTION:Little Twinkles Parent and Toddler Group meet every Wednesday and Friday in Tullamore FRC at 10am. \nAll Welcome. \nFor more information contact Marie on 0579320598
URL:https://open-up.ie/calendar-listing/little-twinkles-parent-toddler-group-tullamore-frc/2028-04-28/
LOCATION:Arden View Family Resource Centre
CATEGORIES:Offaly
END:VEVENT
BEGIN:VEVENT
DTSTART;TZID=Europe/Dublin:20280428T113000
DTEND;TZID=Europe/Dublin:20280428T123000
DTSTAMP:20260420T013800
CREATED:20250428T092006Z
LAST-MODIFIED:20250428T092006Z
UID:10001840-1840534200-1840537800@open-up.ie
SUMMARY:Social Prescribing Drop In Service Tullamore
DESCRIPTION:Social Prescribing Drop In Service \nTullamore Library\, Last Friday of every month\, Friday 30th May\, 11.30am -12.30pm \nCall in to find out more about how Social Prescribing can help link you with activities and supports in your community. \nContact Michelle 087 7470562
URL:https://open-up.ie/calendar-listing/social-prescribing-drop-in-service-tullamore/2028-04-28/
END:VEVENT
BEGIN:VEVENT
DTSTART;TZID=Europe/Dublin:20280502T093000
DTEND;TZID=Europe/Dublin:20280502T113000
DTSTAMP:20260420T013800
CREATED:20250408T094756Z
LAST-MODIFIED:20250408T124106Z
UID:10001751-1840872600-1840879800@open-up.ie
SUMMARY:Speech and Language Therapy Drop In Clinic Tullamore
DESCRIPTION:Speech and Language Therapy Drop In Clinic Tullamore \n1st TUESDAY OF EVERY MONTH \nThis Drop In Clinic operates from the Tullamore Family Resource Centre\, Arden View and not the Health Centre\, Tullamore. \nThe day has changed from a Friday to a Tuesday morning from 9:30-11:30. \nQueries with regard to the Drop in Clinic should be made to Tullamore Primary Care\, Church Avenue\, Tullamore on 057 93 19599/19598 and not Tullamore Health Centre 057 93 41301. \nDrop In Clinic Offaly Speech and Language \n 
URL:https://open-up.ie/calendar-listing/speech-and-language-therapy-drop-in-clinic-tullamore/2028-05-02/
LOCATION:Arden View Family Resource Centre
END:VEVENT
BEGIN:VEVENT
DTSTART;TZID=Europe/Dublin:20280502T100000
DTEND;TZID=Europe/Dublin:20280502T120000
DTSTAMP:20260420T013800
CREATED:20241217T152824Z
LAST-MODIFIED:20241217T153216Z
UID:10000842-1840874400-1840881600@open-up.ie
SUMMARY:La Lech League Breastfeeding Group Portlaoise
DESCRIPTION:La Lech League Breastfeeding Group meets on the 1st Tuesday of every  month in Portlaoise Family Resource Centre. For more information please contact Portlaoise Family Resource Centre on 051-8686151 or 087-6978488. \nhttp://www.portlaoisefrc.ie
URL:https://open-up.ie/calendar-listing/la-lech-league-breast-portlaoise/2028-05-02/
END:VEVENT
BEGIN:VEVENT
DTSTART;TZID=Europe/Dublin:20280502T190000
DTEND;TZID=Europe/Dublin:20280502T200000
DTSTAMP:20260420T013800
CREATED:20250224T110437Z
LAST-MODIFIED:20250224T110606Z
UID:10001307-1840906800-1840910400@open-up.ie
SUMMARY:ESKER COMMUNITY - Kulele Orchestra
DESCRIPTION:Esker Community ‘kulele Orchestra is a community music group based in Esker Arts in Tullamore and is open to all\, young and old\, and we are always looking for new members who would like to come along and join in the fun of making music together. All instruments and singers are welcome. \n 
URL:https://open-up.ie/calendar-listing/esker-community-kulele-orchestra/2028-05-02/
LOCATION:Tullamore
END:VEVENT
BEGIN:VEVENT
DTSTART;TZID=Europe/Dublin:20280503T100000
DTEND;TZID=Europe/Dublin:20280503T123000
DTSTAMP:20260420T013800
CREATED:20260210T160005Z
LAST-MODIFIED:20260210T160022Z
UID:10004337-1840960800-1840969800@open-up.ie
SUMMARY:Little Twinkles Parent Toddler Group Tullamore FRC
DESCRIPTION:Little Twinkles Parent and Toddler Group meet every Wednesday and Friday in Tullamore FRC at 10am. \nAll Welcome. \nFor more information contact Marie on 0579320598
URL:https://open-up.ie/calendar-listing/little-twinkles-parent-toddler-group-tullamore-frc/2028-05-03/
LOCATION:Arden View Family Resource Centre
CATEGORIES:Offaly
END:VEVENT
BEGIN:VEVENT
DTSTART;TZID=Europe/Dublin:20280505T100000
DTEND;TZID=Europe/Dublin:20280505T123000
DTSTAMP:20260420T013800
CREATED:20260210T160005Z
LAST-MODIFIED:20260210T160022Z
UID:10004338-1841133600-1841142600@open-up.ie
SUMMARY:Little Twinkles Parent Toddler Group Tullamore FRC
DESCRIPTION:Little Twinkles Parent and Toddler Group meet every Wednesday and Friday in Tullamore FRC at 10am. \nAll Welcome. \nFor more information contact Marie on 0579320598
URL:https://open-up.ie/calendar-listing/little-twinkles-parent-toddler-group-tullamore-frc/2028-05-05/
LOCATION:Arden View Family Resource Centre
CATEGORIES:Offaly
END:VEVENT
BEGIN:VEVENT
DTSTART;TZID=Europe/Dublin:20280509T190000
DTEND;TZID=Europe/Dublin:20280509T200000
DTSTAMP:20260420T013800
CREATED:20250224T110437Z
LAST-MODIFIED:20250224T110606Z
UID:10001308-1841511600-1841515200@open-up.ie
SUMMARY:ESKER COMMUNITY - Kulele Orchestra
DESCRIPTION:Esker Community ‘kulele Orchestra is a community music group based in Esker Arts in Tullamore and is open to all\, young and old\, and we are always looking for new members who would like to come along and join in the fun of making music together. All instruments and singers are welcome. \n 
URL:https://open-up.ie/calendar-listing/esker-community-kulele-orchestra/2028-05-09/
LOCATION:Tullamore
END:VEVENT
BEGIN:VEVENT
DTSTART;TZID=Europe/Dublin:20280510T100000
DTEND;TZID=Europe/Dublin:20280510T123000
DTSTAMP:20260420T013800
CREATED:20260210T160005Z
LAST-MODIFIED:20260210T160022Z
UID:10004339-1841565600-1841574600@open-up.ie
SUMMARY:Little Twinkles Parent Toddler Group Tullamore FRC
DESCRIPTION:Little Twinkles Parent and Toddler Group meet every Wednesday and Friday in Tullamore FRC at 10am. \nAll Welcome. \nFor more information contact Marie on 0579320598
URL:https://open-up.ie/calendar-listing/little-twinkles-parent-toddler-group-tullamore-frc/2028-05-10/
LOCATION:Arden View Family Resource Centre
CATEGORIES:Offaly
END:VEVENT
BEGIN:VEVENT
DTSTART;TZID=Europe/Dublin:20280512T100000
DTEND;TZID=Europe/Dublin:20280512T123000
DTSTAMP:20260420T013800
CREATED:20260210T160005Z
LAST-MODIFIED:20260210T160022Z
UID:10004340-1841738400-1841747400@open-up.ie
SUMMARY:Little Twinkles Parent Toddler Group Tullamore FRC
DESCRIPTION:Little Twinkles Parent and Toddler Group meet every Wednesday and Friday in Tullamore FRC at 10am. \nAll Welcome. \nFor more information contact Marie on 0579320598
URL:https://open-up.ie/calendar-listing/little-twinkles-parent-toddler-group-tullamore-frc/2028-05-12/
LOCATION:Arden View Family Resource Centre
CATEGORIES:Offaly
END:VEVENT
BEGIN:VEVENT
DTSTART;TZID=Europe/Dublin:20280516T190000
DTEND;TZID=Europe/Dublin:20280516T200000
DTSTAMP:20260420T013800
CREATED:20250224T110437Z
LAST-MODIFIED:20250224T110606Z
UID:10001309-1842116400-1842120000@open-up.ie
SUMMARY:ESKER COMMUNITY - Kulele Orchestra
DESCRIPTION:Esker Community ‘kulele Orchestra is a community music group based in Esker Arts in Tullamore and is open to all\, young and old\, and we are always looking for new members who would like to come along and join in the fun of making music together. All instruments and singers are welcome. \n 
URL:https://open-up.ie/calendar-listing/esker-community-kulele-orchestra/2028-05-16/
LOCATION:Tullamore
END:VEVENT
BEGIN:VEVENT
DTSTART;TZID=Europe/Dublin:20280517T100000
DTEND;TZID=Europe/Dublin:20280517T123000
DTSTAMP:20260420T013800
CREATED:20260210T160005Z
LAST-MODIFIED:20260210T160022Z
UID:10004341-1842170400-1842179400@open-up.ie
SUMMARY:Little Twinkles Parent Toddler Group Tullamore FRC
DESCRIPTION:Little Twinkles Parent and Toddler Group meet every Wednesday and Friday in Tullamore FRC at 10am. \nAll Welcome. \nFor more information contact Marie on 0579320598
URL:https://open-up.ie/calendar-listing/little-twinkles-parent-toddler-group-tullamore-frc/2028-05-17/
LOCATION:Arden View Family Resource Centre
CATEGORIES:Offaly
END:VEVENT
BEGIN:VEVENT
DTSTART;TZID=Europe/Dublin:20280519T100000
DTEND;TZID=Europe/Dublin:20280519T123000
DTSTAMP:20260420T013800
CREATED:20260210T160005Z
LAST-MODIFIED:20260210T160022Z
UID:10004342-1842343200-1842352200@open-up.ie
SUMMARY:Little Twinkles Parent Toddler Group Tullamore FRC
DESCRIPTION:Little Twinkles Parent and Toddler Group meet every Wednesday and Friday in Tullamore FRC at 10am. \nAll Welcome. \nFor more information contact Marie on 0579320598
URL:https://open-up.ie/calendar-listing/little-twinkles-parent-toddler-group-tullamore-frc/2028-05-19/
LOCATION:Arden View Family Resource Centre
CATEGORIES:Offaly
END:VEVENT
BEGIN:VEVENT
DTSTART;TZID=Europe/Dublin:20280523T100000
DTEND;TZID=Europe/Dublin:20280523T130000
DTSTAMP:20260420T013800
CREATED:20260302T164418Z
LAST-MODIFIED:20260302T164418Z
UID:10004682-1842688800-1842699600@open-up.ie
SUMMARY:Primary Care - Social Work Drop in Service
DESCRIPTION:Primary Care  Social Work Drop in Service \nVenue: Community Room in the Library\, JKL St\, Edenderry\, Co Offaly. \nDate(s): 3rd Tuesday of Every Month in 2026 \nTuesday 20th January\,       Tuesday 17th February\,     Tuesday 24th March\, \nTuesday 21st April\,             Tuesday 19th May\,             Tuesday 16th June\, \nTuesday 21st July\,               Tuesday 18th August\,        Tuesday 15th September\, \nTuesday 20th October\,      Tuesday 17th November\, Tuesday 15th December \nTime: 10am – 1pm \nDrop in or Book an appointment for this free and confidential service to see a Primary Care Social Worker in person \n(Booking in advance is advised) \nTo Book an appointment: \nCall 057-8697537 \nHow can a Primary Care Social Worker help? \n\nSupport in navigating the health service.\nSignposting to appropriate community supports.\nAdvocacy re: benefits & entitlements.\nAssist with any other queries or worries.\nEnsure your voice is heard and understood.\n\nDrop In Service Leaflet Edenderry 2026 (003)
URL:https://open-up.ie/calendar-listing/primary-care-social-work-drop-in-service/2028-05-23/
CATEGORIES:Offaly
END:VEVENT
BEGIN:VEVENT
DTSTART;TZID=Europe/Dublin:20280523T190000
DTEND;TZID=Europe/Dublin:20280523T200000
DTSTAMP:20260420T013800
CREATED:20250224T110437Z
LAST-MODIFIED:20250224T110606Z
UID:10001310-1842721200-1842724800@open-up.ie
SUMMARY:ESKER COMMUNITY - Kulele Orchestra
DESCRIPTION:Esker Community ‘kulele Orchestra is a community music group based in Esker Arts in Tullamore and is open to all\, young and old\, and we are always looking for new members who would like to come along and join in the fun of making music together. All instruments and singers are welcome. \n 
URL:https://open-up.ie/calendar-listing/esker-community-kulele-orchestra/2028-05-23/
LOCATION:Tullamore
END:VEVENT
BEGIN:VEVENT
DTSTART;TZID=Europe/Dublin:20280524T100000
DTEND;TZID=Europe/Dublin:20280524T123000
DTSTAMP:20260420T013800
CREATED:20260210T160005Z
LAST-MODIFIED:20260210T160022Z
UID:10004343-1842775200-1842784200@open-up.ie
SUMMARY:Little Twinkles Parent Toddler Group Tullamore FRC
DESCRIPTION:Little Twinkles Parent and Toddler Group meet every Wednesday and Friday in Tullamore FRC at 10am. \nAll Welcome. \nFor more information contact Marie on 0579320598
URL:https://open-up.ie/calendar-listing/little-twinkles-parent-toddler-group-tullamore-frc/2028-05-24/
LOCATION:Arden View Family Resource Centre
CATEGORIES:Offaly
END:VEVENT
BEGIN:VEVENT
DTSTART;TZID=Europe/Dublin:20280526T100000
DTEND;TZID=Europe/Dublin:20280526T123000
DTSTAMP:20260420T013800
CREATED:20260210T160005Z
LAST-MODIFIED:20260210T160022Z
UID:10004344-1842948000-1842957000@open-up.ie
SUMMARY:Little Twinkles Parent Toddler Group Tullamore FRC
DESCRIPTION:Little Twinkles Parent and Toddler Group meet every Wednesday and Friday in Tullamore FRC at 10am. \nAll Welcome. \nFor more information contact Marie on 0579320598
URL:https://open-up.ie/calendar-listing/little-twinkles-parent-toddler-group-tullamore-frc/2028-05-26/
LOCATION:Arden View Family Resource Centre
CATEGORIES:Offaly
END:VEVENT
BEGIN:VEVENT
DTSTART;TZID=Europe/Dublin:20280526T113000
DTEND;TZID=Europe/Dublin:20280526T123000
DTSTAMP:20260420T013800
CREATED:20250428T092006Z
LAST-MODIFIED:20250428T092006Z
UID:10001841-1842953400-1842957000@open-up.ie
SUMMARY:Social Prescribing Drop In Service Tullamore
DESCRIPTION:Social Prescribing Drop In Service \nTullamore Library\, Last Friday of every month\, Friday 30th May\, 11.30am -12.30pm \nCall in to find out more about how Social Prescribing can help link you with activities and supports in your community. \nContact Michelle 087 7470562
URL:https://open-up.ie/calendar-listing/social-prescribing-drop-in-service-tullamore/2028-05-26/
END:VEVENT
BEGIN:VEVENT
DTSTART;TZID=Europe/Dublin:20280530T190000
DTEND;TZID=Europe/Dublin:20280530T200000
DTSTAMP:20260420T013800
CREATED:20250224T110437Z
LAST-MODIFIED:20250224T110606Z
UID:10001311-1843326000-1843329600@open-up.ie
SUMMARY:ESKER COMMUNITY - Kulele Orchestra
DESCRIPTION:Esker Community ‘kulele Orchestra is a community music group based in Esker Arts in Tullamore and is open to all\, young and old\, and we are always looking for new members who would like to come along and join in the fun of making music together. All instruments and singers are welcome. \n 
URL:https://open-up.ie/calendar-listing/esker-community-kulele-orchestra/2028-05-30/
LOCATION:Tullamore
END:VEVENT
BEGIN:VEVENT
DTSTART;TZID=Europe/Dublin:20280531T100000
DTEND;TZID=Europe/Dublin:20280531T123000
DTSTAMP:20260420T013800
CREATED:20260210T160005Z
LAST-MODIFIED:20260210T160022Z
UID:10004345-1843380000-1843389000@open-up.ie
SUMMARY:Little Twinkles Parent Toddler Group Tullamore FRC
DESCRIPTION:Little Twinkles Parent and Toddler Group meet every Wednesday and Friday in Tullamore FRC at 10am. \nAll Welcome. \nFor more information contact Marie on 0579320598
URL:https://open-up.ie/calendar-listing/little-twinkles-parent-toddler-group-tullamore-frc/2028-05-31/
LOCATION:Arden View Family Resource Centre
CATEGORIES:Offaly
END:VEVENT
BEGIN:VEVENT
DTSTART;TZID=Europe/Dublin:20280602T100000
DTEND;TZID=Europe/Dublin:20280602T120000
DTSTAMP:20260420T013800
CREATED:20250107T134539Z
LAST-MODIFIED:20250107T134620Z
UID:10001068-1843552800-1843560000@open-up.ie
SUMMARY:Healthy Literacy Course Portlaoise Family Resource Centre
DESCRIPTION:
URL:https://open-up.ie/calendar-listing/healthy-literacy-course-portlaoise-family-resource-centre/2028-06-02/
LOCATION:Portlaoise Family Resource Centre\, Portlaoise Family Resource Center\, Harpur's Ln\, Portlaoise\, Co. Laois\, Ireland
END:VEVENT
BEGIN:VEVENT
DTSTART;TZID=Europe/Dublin:20280602T100000
DTEND;TZID=Europe/Dublin:20280602T123000
DTSTAMP:20260420T013800
CREATED:20260210T160005Z
LAST-MODIFIED:20260210T160022Z
UID:10004346-1843552800-1843561800@open-up.ie
SUMMARY:Little Twinkles Parent Toddler Group Tullamore FRC
DESCRIPTION:Little Twinkles Parent and Toddler Group meet every Wednesday and Friday in Tullamore FRC at 10am. \nAll Welcome. \nFor more information contact Marie on 0579320598
URL:https://open-up.ie/calendar-listing/little-twinkles-parent-toddler-group-tullamore-frc/2028-06-02/
LOCATION:Arden View Family Resource Centre
CATEGORIES:Offaly
END:VEVENT
BEGIN:VEVENT
DTSTART;TZID=Europe/Dublin:20280606T093000
DTEND;TZID=Europe/Dublin:20280606T113000
DTSTAMP:20260420T013800
CREATED:20250408T094756Z
LAST-MODIFIED:20250408T124106Z
UID:10001752-1843896600-1843903800@open-up.ie
SUMMARY:Speech and Language Therapy Drop In Clinic Tullamore
DESCRIPTION:Speech and Language Therapy Drop In Clinic Tullamore \n1st TUESDAY OF EVERY MONTH \nThis Drop In Clinic operates from the Tullamore Family Resource Centre\, Arden View and not the Health Centre\, Tullamore. \nThe day has changed from a Friday to a Tuesday morning from 9:30-11:30. \nQueries with regard to the Drop in Clinic should be made to Tullamore Primary Care\, Church Avenue\, Tullamore on 057 93 19599/19598 and not Tullamore Health Centre 057 93 41301. \nDrop In Clinic Offaly Speech and Language \n 
URL:https://open-up.ie/calendar-listing/speech-and-language-therapy-drop-in-clinic-tullamore/2028-06-06/
LOCATION:Arden View Family Resource Centre
END:VEVENT
BEGIN:VEVENT
DTSTART;TZID=Europe/Dublin:20280606T100000
DTEND;TZID=Europe/Dublin:20280606T120000
DTSTAMP:20260420T013800
CREATED:20241217T152824Z
LAST-MODIFIED:20241217T153216Z
UID:10000843-1843898400-1843905600@open-up.ie
SUMMARY:La Lech League Breastfeeding Group Portlaoise
DESCRIPTION:La Lech League Breastfeeding Group meets on the 1st Tuesday of every  month in Portlaoise Family Resource Centre. For more information please contact Portlaoise Family Resource Centre on 051-8686151 or 087-6978488. \nhttp://www.portlaoisefrc.ie
URL:https://open-up.ie/calendar-listing/la-lech-league-breast-portlaoise/2028-06-06/
END:VEVENT
BEGIN:VEVENT
DTSTART;TZID=Europe/Dublin:20280606T190000
DTEND;TZID=Europe/Dublin:20280606T200000
DTSTAMP:20260420T013800
CREATED:20250224T110437Z
LAST-MODIFIED:20250224T110606Z
UID:10001312-1843930800-1843934400@open-up.ie
SUMMARY:ESKER COMMUNITY - Kulele Orchestra
DESCRIPTION:Esker Community ‘kulele Orchestra is a community music group based in Esker Arts in Tullamore and is open to all\, young and old\, and we are always looking for new members who would like to come along and join in the fun of making music together. All instruments and singers are welcome. \n 
URL:https://open-up.ie/calendar-listing/esker-community-kulele-orchestra/2028-06-06/
LOCATION:Tullamore
END:VEVENT
BEGIN:VEVENT
DTSTART;TZID=Europe/Dublin:20280607T100000
DTEND;TZID=Europe/Dublin:20280607T123000
DTSTAMP:20260420T013800
CREATED:20260210T160005Z
LAST-MODIFIED:20260210T160022Z
UID:10004347-1843984800-1843993800@open-up.ie
SUMMARY:Little Twinkles Parent Toddler Group Tullamore FRC
DESCRIPTION:Little Twinkles Parent and Toddler Group meet every Wednesday and Friday in Tullamore FRC at 10am. \nAll Welcome. \nFor more information contact Marie on 0579320598
URL:https://open-up.ie/calendar-listing/little-twinkles-parent-toddler-group-tullamore-frc/2028-06-07/
LOCATION:Arden View Family Resource Centre
CATEGORIES:Offaly
END:VEVENT
BEGIN:VEVENT
DTSTART;TZID=Europe/Dublin:20280609T100000
DTEND;TZID=Europe/Dublin:20280609T123000
DTSTAMP:20260420T013800
CREATED:20260210T160005Z
LAST-MODIFIED:20260210T160022Z
UID:10004348-1844157600-1844166600@open-up.ie
SUMMARY:Little Twinkles Parent Toddler Group Tullamore FRC
DESCRIPTION:Little Twinkles Parent and Toddler Group meet every Wednesday and Friday in Tullamore FRC at 10am. \nAll Welcome. \nFor more information contact Marie on 0579320598
URL:https://open-up.ie/calendar-listing/little-twinkles-parent-toddler-group-tullamore-frc/2028-06-09/
LOCATION:Arden View Family Resource Centre
CATEGORIES:Offaly
END:VEVENT
END:VCALENDAR