BEGIN:VCALENDAR
VERSION:2.0
PRODID:-//Open Up - ECPv6.15.20//NONSGML v1.0//EN
CALSCALE:GREGORIAN
METHOD:PUBLISH
X-WR-CALNAME:Open Up
X-ORIGINAL-URL:https://open-up.ie
X-WR-CALDESC:Events for Open Up
REFRESH-INTERVAL;VALUE=DURATION:PT1H
X-Robots-Tag:noindex
X-PUBLISHED-TTL:PT1H
BEGIN:VTIMEZONE
TZID:UTC
BEGIN:STANDARD
TZOFFSETFROM:+0000
TZOFFSETTO:+0000
TZNAME:UTC
DTSTART:20220101T000000
END:STANDARD
END:VTIMEZONE
BEGIN:VEVENT
DTSTART;TZID=UTC:20231011T191500
DTEND;TZID=UTC:20231011T210000
DTSTAMP:20260419T231306
CREATED:20231003T112805Z
LAST-MODIFIED:20231003T113659Z
UID:10000093-1697051700-1697058000@open-up.ie
SUMMARY:Anam Cara Midlands- Parental Bereavement Support
DESCRIPTION:Face to Face meeting for the Midlands will be taking place on Wednesday 11th October at 7.15pm in the
URL:https://open-up.ie/calendar-listing/anam-cara-midlands-parental-bereavement-support/
LOCATION:Mullingar Park Hotel\, Mullingar\, N9184EP\, Ireland
ATTACH;FMTTYPE=image/jpeg:https://open-up.ie/wp-content/uploads/2023/10/Anam-Cara-Logo-Tag-1.jpg
END:VEVENT
BEGIN:VEVENT
DTSTART;TZID=UTC:20231010T190000
DTEND;TZID=UTC:20231010T210000
DTSTAMP:20260419T231306
CREATED:20230918T092724Z
LAST-MODIFIED:20240109T133533Z
UID:10000031-1696964400-1696971600@open-up.ie
SUMMARY:Start from the Heart 10 week x 2 hour programme for Parents - Mountmellick
DESCRIPTION:Introduction evening 19th September 2023
URL:https://open-up.ie/calendar-listing/start-from-the-heart-10-week-x-2-hour-programme-for-parents-mountmellick-3/2023-10-10/
LOCATION:Mountmellick Family Resource Centre
ATTACH;FMTTYPE=image/jpeg:https://open-up.ie/wp-content/uploads/2022/08/SFTH-Mountmellick-.jpg
ORGANIZER;CN="Mountmellick Family Resource Centre":MAILTO:manager@myfrc.ie
END:VEVENT
BEGIN:VEVENT
DTSTART;TZID=UTC:20231009T100000
DTEND;TZID=UTC:20231009T120000
DTSTAMP:20260419T231306
CREATED:20230918T090711Z
LAST-MODIFIED:20230918T091750Z
UID:10000024-1696845600-1696852800@open-up.ie
SUMMARY:Sensory play and activity for 0-4 year olds - Portarlington
DESCRIPTION:Starting Monday September 18th for 6 weeks \nBuilding Blocks Poster Portarlington
URL:https://open-up.ie/calendar-listing/sensory-play-and-activity-for-0-4-year-olds-portarlington/2023-10-09/
LOCATION:Portarlington Primary Care Centre
ATTACH;FMTTYPE=image/jpeg:https://open-up.ie/wp-content/uploads/2023/09/building-blocks.jpg
ORGANIZER;CN="Parents First":MAILTO:dolores@parentsfirst.ie
END:VEVENT
BEGIN:VEVENT
DTSTART;TZID=UTC:20231009T100000
DTEND;TZID=UTC:20231009T100000
DTSTAMP:20260419T231307
CREATED:20230918T091631Z
LAST-MODIFIED:20230918T091631Z
UID:10000013-1696845600-1696845600@open-up.ie
SUMMARY:Start from the Heart 10 week x 2 hour programme for Parents - Tullamore
DESCRIPTION:Starts Monday 25th September 2023 \nSFTH Poster Tullamore
URL:https://open-up.ie/calendar-listing/start-from-the-heart-10-week-x-2-hour-programme-for-parents-tullamore/2023-10-09/
LOCATION:Arden View Family Resource Centre
ATTACH;FMTTYPE=image/jpeg:https://open-up.ie/wp-content/uploads/2023/09/SFTH-Tullamore.jpg
ORGANIZER;CN="Barnardos and Tusla":MAILTO:carol.faulkner@barnardos.ie
END:VEVENT
BEGIN:VEVENT
DTSTART;TZID=UTC:20231003T190000
DTEND;TZID=UTC:20231003T210000
DTSTAMP:20260419T231307
CREATED:20230918T092724Z
LAST-MODIFIED:20240109T133533Z
UID:10000030-1696359600-1696366800@open-up.ie
SUMMARY:Start from the Heart 10 week x 2 hour programme for Parents - Mountmellick
DESCRIPTION:Introduction evening 19th September 2023
URL:https://open-up.ie/calendar-listing/start-from-the-heart-10-week-x-2-hour-programme-for-parents-mountmellick-3/2023-10-03/
LOCATION:Mountmellick Family Resource Centre
ATTACH;FMTTYPE=image/jpeg:https://open-up.ie/wp-content/uploads/2022/08/SFTH-Mountmellick-.jpg
ORGANIZER;CN="Mountmellick Family Resource Centre":MAILTO:manager@myfrc.ie
END:VEVENT
BEGIN:VEVENT
DTSTART;TZID=UTC:20231003T000000
DTEND;TZID=UTC:20231003T000000
DTSTAMP:20260419T231307
CREATED:20230801T103851Z
LAST-MODIFIED:20230801T115226Z
UID:10000001-1696291200-1696291200@open-up.ie
SUMMARY:One Family Parenting Courses
DESCRIPTION:Zoom Courses \nhttps://onefamily.ie/education-development/parents-programmes/parenting-courses-via-zoom/ \nIn-Person Courses \nhttps://onefamily.ie/courses-parents/parenting-in-person-courses/ \nE-Learning Courses \nhttps://parenting.onefamily.ie/?_ga=2.209171666.1930069125.1690452070-2014999445.1676457459&_gl=1%2A1si5bck%2A_gcl_au%2AMzY4MDg4MDQzLjE2ODQxNTQ4MzE.%2A_ga%2AMjAxNDk5OTQ0NS4xNjc2NDU3NDU5%2A_ga_YZB62WBRM3%2AMTY5MDQ1MjA3MC4zMC4xLjE2OTA0NTM1OTMuNTYuMC4w
URL:https://open-up.ie/calendar-listing/one-family-parenting-courses/
ATTACH;FMTTYPE=image/png:https://open-up.ie/wp-content/uploads/2023/08/Zoom-Parenting-Courses-Oct-2023.png
END:VEVENT
BEGIN:VEVENT
DTSTART;TZID=UTC:20231002T210000
DTEND;TZID=UTC:20231002T210000
DTSTAMP:20260419T231307
CREATED:20230801T104235Z
LAST-MODIFIED:20230918T091028Z
UID:10000002-1696280400-1696280400@open-up.ie
SUMMARY:TLC Kids for children who have experienced domestic violence the home
DESCRIPTION:
URL:https://open-up.ie/calendar-listing/tlc-kids-for-children-who-have-experienced-domestic-violence-the-home/
END:VEVENT
BEGIN:VEVENT
DTSTART;TZID=UTC:20231002T100000
DTEND;TZID=UTC:20231002T120000
DTSTAMP:20260419T231307
CREATED:20230918T090711Z
LAST-MODIFIED:20230918T091750Z
UID:10000023-1696240800-1696248000@open-up.ie
SUMMARY:Sensory play and activity for 0-4 year olds - Portarlington
DESCRIPTION:Starting Monday September 18th for 6 weeks \nBuilding Blocks Poster Portarlington
URL:https://open-up.ie/calendar-listing/sensory-play-and-activity-for-0-4-year-olds-portarlington/2023-10-02/
LOCATION:Portarlington Primary Care Centre
ATTACH;FMTTYPE=image/jpeg:https://open-up.ie/wp-content/uploads/2023/09/building-blocks.jpg
ORGANIZER;CN="Parents First":MAILTO:dolores@parentsfirst.ie
END:VEVENT
BEGIN:VEVENT
DTSTART;TZID=UTC:20231002T100000
DTEND;TZID=UTC:20231002T100000
DTSTAMP:20260419T231307
CREATED:20230918T091631Z
LAST-MODIFIED:20230918T091631Z
UID:10000012-1696240800-1696240800@open-up.ie
SUMMARY:Start from the Heart 10 week x 2 hour programme for Parents - Tullamore
DESCRIPTION:Starts Monday 25th September 2023 \nSFTH Poster Tullamore
URL:https://open-up.ie/calendar-listing/start-from-the-heart-10-week-x-2-hour-programme-for-parents-tullamore/2023-10-02/
LOCATION:Arden View Family Resource Centre
ATTACH;FMTTYPE=image/jpeg:https://open-up.ie/wp-content/uploads/2023/09/SFTH-Tullamore.jpg
ORGANIZER;CN="Barnardos and Tusla":MAILTO:carol.faulkner@barnardos.ie
END:VEVENT
BEGIN:VEVENT
DTSTART;TZID=UTC:20230929T090000
DTEND;TZID=UTC:20230929T090000
DTSTAMP:20260419T231307
CREATED:20230801T104310Z
LAST-MODIFIED:20230918T091023Z
UID:10000003-1695978000-1695978000@open-up.ie
SUMMARY:Helping Hands for children who have experienced domestic violence in the home
DESCRIPTION:
URL:https://open-up.ie/calendar-listing/helping-hands-for-children-who-have-experienced-domestic-violence-in-the-home/
END:VEVENT
BEGIN:VEVENT
DTSTART;TZID=UTC:20230926T190000
DTEND;TZID=UTC:20230926T210000
DTSTAMP:20260419T231307
CREATED:20230918T092724Z
LAST-MODIFIED:20240109T133533Z
UID:10000029-1695754800-1695762000@open-up.ie
SUMMARY:Start from the Heart 10 week x 2 hour programme for Parents - Mountmellick
DESCRIPTION:Introduction evening 19th September 2023
URL:https://open-up.ie/calendar-listing/start-from-the-heart-10-week-x-2-hour-programme-for-parents-mountmellick-3/2023-09-26/
LOCATION:Mountmellick Family Resource Centre
ATTACH;FMTTYPE=image/jpeg:https://open-up.ie/wp-content/uploads/2022/08/SFTH-Mountmellick-.jpg
ORGANIZER;CN="Mountmellick Family Resource Centre":MAILTO:manager@myfrc.ie
END:VEVENT
BEGIN:VEVENT
DTSTART;TZID=UTC:20230925T100000
DTEND;TZID=UTC:20230925T120000
DTSTAMP:20260419T231307
CREATED:20230918T090711Z
LAST-MODIFIED:20230918T091750Z
UID:10000022-1695636000-1695643200@open-up.ie
SUMMARY:Sensory play and activity for 0-4 year olds - Portarlington
DESCRIPTION:Starting Monday September 18th for 6 weeks \nBuilding Blocks Poster Portarlington
URL:https://open-up.ie/calendar-listing/sensory-play-and-activity-for-0-4-year-olds-portarlington/2023-09-25/
LOCATION:Portarlington Primary Care Centre
ATTACH;FMTTYPE=image/jpeg:https://open-up.ie/wp-content/uploads/2023/09/building-blocks.jpg
ORGANIZER;CN="Parents First":MAILTO:dolores@parentsfirst.ie
END:VEVENT
BEGIN:VEVENT
DTSTART;TZID=UTC:20230925T100000
DTEND;TZID=UTC:20230925T100000
DTSTAMP:20260419T231307
CREATED:20230918T091631Z
LAST-MODIFIED:20230918T091631Z
UID:10000011-1695636000-1695636000@open-up.ie
SUMMARY:Start from the Heart 10 week x 2 hour programme for Parents - Tullamore
DESCRIPTION:Starts Monday 25th September 2023 \nSFTH Poster Tullamore
URL:https://open-up.ie/calendar-listing/start-from-the-heart-10-week-x-2-hour-programme-for-parents-tullamore/2023-09-25/
LOCATION:Arden View Family Resource Centre
ATTACH;FMTTYPE=image/jpeg:https://open-up.ie/wp-content/uploads/2023/09/SFTH-Tullamore.jpg
ORGANIZER;CN="Barnardos and Tusla":MAILTO:carol.faulkner@barnardos.ie
END:VEVENT
BEGIN:VEVENT
DTSTART;TZID=UTC:20230923T000000
DTEND;TZID=UTC:20231101T000000
DTSTAMP:20260419T231307
CREATED:20230918T092049Z
LAST-MODIFIED:20230918T092232Z
UID:10000027-1695427200-1698796800@open-up.ie
SUMMARY:Offaly and Laois Libraries Parent Support Programme of Events Sept to December 2023
DESCRIPTION:
URL:https://open-up.ie/calendar-listing/offaly-and-laois-libraries-parent-support-programme-of-events-sept-to-december-2023/
LOCATION:Offaly and Laois Libraries
ATTACH;FMTTYPE=image/jpeg:https://open-up.ie/wp-content/uploads/2022/08/parenting-programme.jpg
ORGANIZER;CN="Offaly and Laois Libraries":MAILTO:tullamorelibrary@offalycoco.ie
END:VEVENT
BEGIN:VEVENT
DTSTART;TZID=UTC:20230919T190000
DTEND;TZID=UTC:20230919T210000
DTSTAMP:20260419T231308
CREATED:20240109T132353Z
LAST-MODIFIED:20240109T133412Z
UID:10000044-1695150000-1695157200@open-up.ie
SUMMARY:Start from the Heart 10 week x 2 hour programme for Parents - Mountmellick
DESCRIPTION:Introduction evening 19th September 2023
URL:https://open-up.ie/calendar-listing/start-from-the-heart-10-week-x-2-hour-programme-for-parents-mountmellick-2/
LOCATION:Mountmellick Family Resource Centre
ATTACH;FMTTYPE=image/jpeg:https://open-up.ie/wp-content/uploads/2022/08/SFTH-Mountmellick-.jpg
ORGANIZER;CN="Mountmellick Family Resource Centre":MAILTO:manager@myfrc.ie
END:VEVENT
BEGIN:VEVENT
DTSTART;TZID=UTC:20230919T190000
DTEND;TZID=UTC:20230919T210000
DTSTAMP:20260419T231308
CREATED:20230918T092724Z
LAST-MODIFIED:20240109T133533Z
UID:10000028-1695150000-1695157200@open-up.ie
SUMMARY:Start from the Heart 10 week x 2 hour programme for Parents - Mountmellick
DESCRIPTION:Introduction evening 19th September 2023
URL:https://open-up.ie/calendar-listing/start-from-the-heart-10-week-x-2-hour-programme-for-parents-mountmellick-3/2023-09-19/
LOCATION:Mountmellick Family Resource Centre
ATTACH;FMTTYPE=image/jpeg:https://open-up.ie/wp-content/uploads/2022/08/SFTH-Mountmellick-.jpg
ORGANIZER;CN="Mountmellick Family Resource Centre":MAILTO:manager@myfrc.ie
END:VEVENT
BEGIN:VEVENT
DTSTART;TZID=UTC:20230918T100000
DTEND;TZID=UTC:20230918T120000
DTSTAMP:20260419T231308
CREATED:20230918T090711Z
LAST-MODIFIED:20230918T091750Z
UID:10000010-1695031200-1695038400@open-up.ie
SUMMARY:Sensory play and activity for 0-4 year olds - Portarlington
DESCRIPTION:Starting Monday September 18th for 6 weeks \nBuilding Blocks Poster Portarlington
URL:https://open-up.ie/calendar-listing/sensory-play-and-activity-for-0-4-year-olds-portarlington/2023-09-18/
LOCATION:Portarlington Primary Care Centre
ATTACH;FMTTYPE=image/jpeg:https://open-up.ie/wp-content/uploads/2023/09/building-blocks.jpg
ORGANIZER;CN="Parents First":MAILTO:dolores@parentsfirst.ie
END:VEVENT
BEGIN:VEVENT
DTSTART;TZID=UTC:20230913T000000
DTEND;TZID=UTC:20230913T000000
DTSTAMP:20260419T231308
CREATED:20230918T093029Z
LAST-MODIFIED:20240109T134421Z
UID:10000091-1694563200-1694563200@open-up.ie
SUMMARY:Child to parent violence NVR ( Non-violent resistance ) training
DESCRIPTION:This programme is suitable for any parent/carer who feels controlled\, intimidated or threatened by their child/teenager. It’s also for any parent/carer who feels that they have to adapt their behaviour because of threats\, use of abuse or violence from their child or teenager. \nThis course commenced on 13th September if You are interested please contact Jamie who will be able to advise when the next course will be. jamie.grennan@tusla.ie \nNVR Midlands leaflet CFSN’s
URL:https://open-up.ie/calendar-listing/1076/
LOCATION:Tullamore
ATTACH;FMTTYPE=image/jpeg:https://open-up.ie/wp-content/uploads/2022/08/child-to-parent-non-violent.jpg
ORGANIZER;CN="Prevention Partnership and Family Support TUSLA":MAILTO:jamie.grennan@tusla.ie
END:VEVENT
BEGIN:VEVENT
DTSTART;TZID=UTC:20230901T000000
DTEND;TZID=UTC:20230901T000000
DTSTAMP:20260419T231308
CREATED:20230801T104458Z
LAST-MODIFIED:20230801T115104Z
UID:10000005-1693526400-1693526400@open-up.ie
SUMMARY:Start from the Heart 10 week x 2 hour programme for Parents
DESCRIPTION:Coming Soon
URL:https://open-up.ie/calendar-listing/start-from-the-heart-10-week-x-2-hour-programme-for-parents/
ATTACH;FMTTYPE=image/jpeg:https://open-up.ie/wp-content/uploads/2022/08/start-from-the-heart.jpg
END:VEVENT
BEGIN:VEVENT
DTSTART;TZID=UTC:20230819T080000
DTEND;TZID=UTC:20230819T080000
DTSTAMP:20260419T231308
CREATED:20230801T114721Z
LAST-MODIFIED:20230801T114736Z
UID:10000006-1692432000-1692432000@open-up.ie
SUMMARY:Child to Parent Non-Violent Resistance Programme (NVR)
DESCRIPTION:This programme is suitable for any parent/carer who feels controlled\, intimidated or threatened by their child/teenager. It’s also for any parent/carer who feels that they have to adapt their behaviour because of threats\, use of abuse or violence from their child or teenager.
URL:https://open-up.ie/calendar-listing/child-to-parent-non-violent-resistance-programme-nvr/
ATTACH;FMTTYPE=image/jpeg:https://open-up.ie/wp-content/uploads/2022/08/child-to-parent-non-violent.jpg
END:VEVENT
BEGIN:VEVENT
DTSTART;TZID=UTC:20230801T080000
DTEND;TZID=UTC:20230801T125000
DTSTAMP:20260419T231308
CREATED:20230801T115007Z
LAST-MODIFIED:20230918T091034Z
UID:10000007-1690876800-1690894200@open-up.ie
SUMMARY:Parents Plus with additional needs
DESCRIPTION:
URL:https://open-up.ie/calendar-listing/parents-plus-with-additional-needs/
END:VEVENT
END:VCALENDAR