BEGIN:VCALENDAR
VERSION:2.0
PRODID:-//Open Up - ECPv6.15.20//NONSGML v1.0//EN
CALSCALE:GREGORIAN
METHOD:PUBLISH
X-WR-CALNAME:Open Up
X-ORIGINAL-URL:https://open-up.ie
X-WR-CALDESC:Events for Open Up
REFRESH-INTERVAL;VALUE=DURATION:PT1H
X-Robots-Tag:noindex
X-PUBLISHED-TTL:PT1H
BEGIN:VTIMEZONE
TZID:UTC
BEGIN:STANDARD
TZOFFSETFROM:+0000
TZOFFSETTO:+0000
TZNAME:UTC
DTSTART:20230101T000000
END:STANDARD
END:VTIMEZONE
BEGIN:VEVENT
DTSTART;TZID=UTC:20240201T093000
DTEND;TZID=UTC:20240201T113000
DTSTAMP:20260419T204817
CREATED:20240109T135157Z
LAST-MODIFIED:20240213T113428Z
UID:10000123-1706779800-1706787000@open-up.ie
SUMMARY:Own My Life Course for Adult females
DESCRIPTION:This course has temporarily been paused due to low participation. Please contact Sheila on 057 86 71100 to register your interest and you will be notified when the course resumes.
URL:https://open-up.ie/calendar-listing/own-my-life-course-for-adult-females/2024-02-01/
END:VEVENT
BEGIN:VEVENT
DTSTART;TZID=UTC:20240208T093000
DTEND;TZID=UTC:20240208T113000
DTSTAMP:20260419T204817
CREATED:20240109T135157Z
LAST-MODIFIED:20240213T113428Z
UID:10000124-1707384600-1707391800@open-up.ie
SUMMARY:Own My Life Course for Adult females
DESCRIPTION:This course has temporarily been paused due to low participation. Please contact Sheila on 057 86 71100 to register your interest and you will be notified when the course resumes.
URL:https://open-up.ie/calendar-listing/own-my-life-course-for-adult-females/2024-02-08/
END:VEVENT
BEGIN:VEVENT
DTSTART;TZID=UTC:20240208T193000
DTEND;TZID=UTC:20240208T213000
DTSTAMP:20260419T204817
CREATED:20240201T125528Z
LAST-MODIFIED:20240202T111406Z
UID:10000008-1707420600-1707427800@open-up.ie
SUMMARY:FREE TEEN Triple P Parenting Programme For Parents of Children between 11-16 years
DESCRIPTION:FREE TEEN Triple P Parenting Programme\nFor Parents of Children between 11-16 years \n4-week group programme\, where we meet for 2 hours each week.\nThe Programme gives you tips and strategies to help parents cope positively with\nthe challenges of raising a teenager.\nThis programme looks at:\n Ways to build a stronger relationship with your teenager.\n Tips to reduce family conflict.\n Strategies to manage problem behaviours.\n Ways to support your teenager to become more independent and to stay\nsafe. \nDate Time Location\nThursday 8 th February \n7.30-9.30pm \nClara Family Resource Centre \nBookings and Information\nTo book your place call the Clara Family Resource Centre on 0579331928 or Lauren 0852502590 -Messenger or WhatsApp
URL:https://open-up.ie/calendar-listing/triple-p-o-10-junior-or-teen-programme/
LOCATION:Clara Family Resource centre\, The Parochial Hall\, River Street\, Clara\, Co. Offaly\, R35 TH24\, Ireland
ATTACH;FMTTYPE=image/jpeg:https://open-up.ie/wp-content/uploads/2022/08/junior-or-teen-programme.jpg
END:VEVENT
BEGIN:VEVENT
DTSTART;TZID=UTC:20240215T093000
DTEND;TZID=UTC:20240215T113000
DTSTAMP:20260419T204817
CREATED:20240109T135157Z
LAST-MODIFIED:20240213T113428Z
UID:10000125-1707989400-1707996600@open-up.ie
SUMMARY:Own My Life Course for Adult females
DESCRIPTION:This course has temporarily been paused due to low participation. Please contact Sheila on 057 86 71100 to register your interest and you will be notified when the course resumes.
URL:https://open-up.ie/calendar-listing/own-my-life-course-for-adult-females/2024-02-15/
END:VEVENT
BEGIN:VEVENT
DTSTART;TZID=UTC:20240215T193000
DTEND;TZID=UTC:20240215T213000
DTSTAMP:20260419T204817
CREATED:20240202T112952Z
LAST-MODIFIED:20240202T112953Z
UID:10000118-1708025400-1708032600@open-up.ie
SUMMARY:FREE TEEN Triple P Parenting Programme For Parents of Children between 11-16 years
DESCRIPTION:FREE TEEN Triple P Parenting Programme\nFor Parents of Children between 11-16 years \n4-week group programme\, where we meet for 2 hours each week.\nThe Programme gives you tips and strategies to help parents cope positively with\nthe challenges of raising a teenager.\nThis programme looks at:\n Ways to build a stronger relationship with your teenager.\n Tips to reduce family conflict.\n Strategies to manage problem behaviours.\n Ways to support your teenager to become more independent and to stay\nsafe. \nDate Time Location\nThursday 8 th February \n7.30-9.30pm \nClara Family Resource Centre \nBookings and Information\nTo book your place call the Clara Family Resource Centre on 0579331928 or Lauren 0852502590 -Messenger or WhatsApp
URL:https://open-up.ie/calendar-listing/triple-p-o-10-junior-or-teen-programme-2/2024-02-15/
LOCATION:Clara Family Resource centre\, The Parochial Hall\, River Street\, Clara\, Co. Offaly\, R35 TH24\, Ireland
ATTACH;FMTTYPE=image/jpeg:https://open-up.ie/wp-content/uploads/2022/08/junior-or-teen-programme.jpg
END:VEVENT
BEGIN:VEVENT
DTSTART;TZID=UTC:20240219T000000
DTEND;TZID=UTC:20240219T000000
DTSTAMP:20260419T204817
CREATED:20240202T113404Z
LAST-MODIFIED:20240202T113405Z
UID:10000107-1708300800-1708300800@open-up.ie
SUMMARY:Self-harm and Suicide prevention training HSE
DESCRIPTION:To access free online and face to face self harm\, suicide prevention and bereavement support training\, see link \nhttps://bookwhen.com/suicidepreventiontrainingmidlands \nThese trainings take place throughout the year monthly in different locations so please refer to the link above for each month’s events \nThis link lists the range of support trainings that can be done online\, in person from 1/2 days to longer trainings in person \nFor informal enquiries and details on the range of courses please contact Josephine Rigney \nÈ:  086-8157850.  :: josephine.rigney@hse.ie \n 
URL:https://open-up.ie/calendar-listing/self-harm-and-suicide-prevention-training-hse-2/2024-02-19/
END:VEVENT
BEGIN:VEVENT
DTSTART;TZID=UTC:20240222T093000
DTEND;TZID=UTC:20240222T113000
DTSTAMP:20260419T204817
CREATED:20240109T135157Z
LAST-MODIFIED:20240213T113428Z
UID:10000126-1708594200-1708601400@open-up.ie
SUMMARY:Own My Life Course for Adult females
DESCRIPTION:This course has temporarily been paused due to low participation. Please contact Sheila on 057 86 71100 to register your interest and you will be notified when the course resumes.
URL:https://open-up.ie/calendar-listing/own-my-life-course-for-adult-females/2024-02-22/
END:VEVENT
BEGIN:VEVENT
DTSTART;TZID=UTC:20240222T193000
DTEND;TZID=UTC:20240222T213000
DTSTAMP:20260419T204817
CREATED:20240202T112952Z
LAST-MODIFIED:20240202T112953Z
UID:10000119-1708630200-1708637400@open-up.ie
SUMMARY:FREE TEEN Triple P Parenting Programme For Parents of Children between 11-16 years
DESCRIPTION:FREE TEEN Triple P Parenting Programme\nFor Parents of Children between 11-16 years \n4-week group programme\, where we meet for 2 hours each week.\nThe Programme gives you tips and strategies to help parents cope positively with\nthe challenges of raising a teenager.\nThis programme looks at:\n Ways to build a stronger relationship with your teenager.\n Tips to reduce family conflict.\n Strategies to manage problem behaviours.\n Ways to support your teenager to become more independent and to stay\nsafe. \nDate Time Location\nThursday 8 th February \n7.30-9.30pm \nClara Family Resource Centre \nBookings and Information\nTo book your place call the Clara Family Resource Centre on 0579331928 or Lauren 0852502590 -Messenger or WhatsApp
URL:https://open-up.ie/calendar-listing/triple-p-o-10-junior-or-teen-programme-2/2024-02-22/
LOCATION:Clara Family Resource centre\, The Parochial Hall\, River Street\, Clara\, Co. Offaly\, R35 TH24\, Ireland
ATTACH;FMTTYPE=image/jpeg:https://open-up.ie/wp-content/uploads/2022/08/junior-or-teen-programme.jpg
END:VEVENT
BEGIN:VEVENT
DTSTART;TZID=UTC:20240229T093000
DTEND;TZID=UTC:20240229T113000
DTSTAMP:20260419T204817
CREATED:20240109T135157Z
LAST-MODIFIED:20240213T113428Z
UID:10000127-1709199000-1709206200@open-up.ie
SUMMARY:Own My Life Course for Adult females
DESCRIPTION:This course has temporarily been paused due to low participation. Please contact Sheila on 057 86 71100 to register your interest and you will be notified when the course resumes.
URL:https://open-up.ie/calendar-listing/own-my-life-course-for-adult-females/2024-02-29/
END:VEVENT
BEGIN:VEVENT
DTSTART;TZID=UTC:20240229T193000
DTEND;TZID=UTC:20240229T213000
DTSTAMP:20260419T204817
CREATED:20240202T112952Z
LAST-MODIFIED:20240202T112953Z
UID:10000120-1709235000-1709242200@open-up.ie
SUMMARY:FREE TEEN Triple P Parenting Programme For Parents of Children between 11-16 years
DESCRIPTION:FREE TEEN Triple P Parenting Programme\nFor Parents of Children between 11-16 years \n4-week group programme\, where we meet for 2 hours each week.\nThe Programme gives you tips and strategies to help parents cope positively with\nthe challenges of raising a teenager.\nThis programme looks at:\n Ways to build a stronger relationship with your teenager.\n Tips to reduce family conflict.\n Strategies to manage problem behaviours.\n Ways to support your teenager to become more independent and to stay\nsafe. \nDate Time Location\nThursday 8 th February \n7.30-9.30pm \nClara Family Resource Centre \nBookings and Information\nTo book your place call the Clara Family Resource Centre on 0579331928 or Lauren 0852502590 -Messenger or WhatsApp
URL:https://open-up.ie/calendar-listing/triple-p-o-10-junior-or-teen-programme-2/2024-02-29/
LOCATION:Clara Family Resource centre\, The Parochial Hall\, River Street\, Clara\, Co. Offaly\, R35 TH24\, Ireland
ATTACH;FMTTYPE=image/jpeg:https://open-up.ie/wp-content/uploads/2022/08/junior-or-teen-programme.jpg
END:VEVENT
END:VCALENDAR