BEGIN:VCALENDAR
VERSION:2.0
PRODID:-//Open Up - ECPv6.15.20//NONSGML v1.0//EN
CALSCALE:GREGORIAN
METHOD:PUBLISH
X-ORIGINAL-URL:https://open-up.ie
X-WR-CALDESC:Events for Open Up
REFRESH-INTERVAL;VALUE=DURATION:PT1H
X-Robots-Tag:noindex
X-PUBLISHED-TTL:PT1H
BEGIN:VTIMEZONE
TZID:Europe/Dublin
BEGIN:STANDARD
TZOFFSETFROM:+0000
TZOFFSETTO:+0100
TZNAME:IST
DTSTART:20290325T010000
END:STANDARD
BEGIN:DAYLIGHT
TZOFFSETFROM:+0100
TZOFFSETTO:+0000
TZNAME:GMT
DTSTART:20291028T010000
END:DAYLIGHT
BEGIN:STANDARD
TZOFFSETFROM:+0000
TZOFFSETTO:+0100
TZNAME:IST
DTSTART:20300331T010000
END:STANDARD
BEGIN:DAYLIGHT
TZOFFSETFROM:+0100
TZOFFSETTO:+0000
TZNAME:GMT
DTSTART:20301027T010000
END:DAYLIGHT
BEGIN:STANDARD
TZOFFSETFROM:+0000
TZOFFSETTO:+0100
TZNAME:IST
DTSTART:20310330T010000
END:STANDARD
BEGIN:DAYLIGHT
TZOFFSETFROM:+0100
TZOFFSETTO:+0000
TZNAME:GMT
DTSTART:20311026T010000
END:DAYLIGHT
END:VTIMEZONE
BEGIN:VEVENT
DTSTART;TZID=Europe/Dublin:20300201T100000
DTEND;TZID=Europe/Dublin:20300201T123000
DTSTAMP:20260422T021051
CREATED:20260210T160005Z
LAST-MODIFIED:20260210T160022Z
UID:10004520-1896170400-1896179400@open-up.ie
SUMMARY:Little Twinkles Parent Toddler Group Tullamore FRC
DESCRIPTION:Little Twinkles Parent and Toddler Group meet every Wednesday and Friday in Tullamore FRC at 10am. \nAll Welcome. \nFor more information contact Marie on 0579320598
URL:https://open-up.ie/calendar-listing/little-twinkles-parent-toddler-group-tullamore-frc/2030-02-01/
LOCATION:Arden View Family Resource Centre
CATEGORIES:Offaly
END:VEVENT
BEGIN:VEVENT
DTSTART;TZID=Europe/Dublin:20300205T093000
DTEND;TZID=Europe/Dublin:20300205T113000
DTSTAMP:20260422T021051
CREATED:20250408T094756Z
LAST-MODIFIED:20250408T124106Z
UID:10001772-1896514200-1896521400@open-up.ie
SUMMARY:Speech and Language Therapy Drop In Clinic Tullamore
DESCRIPTION:Speech and Language Therapy Drop In Clinic Tullamore \n1st TUESDAY OF EVERY MONTH \nThis Drop In Clinic operates from the Tullamore Family Resource Centre\, Arden View and not the Health Centre\, Tullamore. \nThe day has changed from a Friday to a Tuesday morning from 9:30-11:30. \nQueries with regard to the Drop in Clinic should be made to Tullamore Primary Care\, Church Avenue\, Tullamore on 057 93 19599/19598 and not Tullamore Health Centre 057 93 41301. \nDrop In Clinic Offaly Speech and Language \n 
URL:https://open-up.ie/calendar-listing/speech-and-language-therapy-drop-in-clinic-tullamore/2030-02-05/
LOCATION:Arden View Family Resource Centre
END:VEVENT
BEGIN:VEVENT
DTSTART;TZID=Europe/Dublin:20300205T190000
DTEND;TZID=Europe/Dublin:20300205T200000
DTSTAMP:20260422T021051
CREATED:20250224T110437Z
LAST-MODIFIED:20250224T110606Z
UID:10001399-1896548400-1896552000@open-up.ie
SUMMARY:ESKER COMMUNITY - Kulele Orchestra
DESCRIPTION:Esker Community ‘kulele Orchestra is a community music group based in Esker Arts in Tullamore and is open to all\, young and old\, and we are always looking for new members who would like to come along and join in the fun of making music together. All instruments and singers are welcome. \n 
URL:https://open-up.ie/calendar-listing/esker-community-kulele-orchestra/2030-02-05/
LOCATION:Tullamore
END:VEVENT
BEGIN:VEVENT
DTSTART;TZID=Europe/Dublin:20300206T100000
DTEND;TZID=Europe/Dublin:20300206T123000
DTSTAMP:20260422T021051
CREATED:20260210T160005Z
LAST-MODIFIED:20260210T160022Z
UID:10004521-1896602400-1896611400@open-up.ie
SUMMARY:Little Twinkles Parent Toddler Group Tullamore FRC
DESCRIPTION:Little Twinkles Parent and Toddler Group meet every Wednesday and Friday in Tullamore FRC at 10am. \nAll Welcome. \nFor more information contact Marie on 0579320598
URL:https://open-up.ie/calendar-listing/little-twinkles-parent-toddler-group-tullamore-frc/2030-02-06/
LOCATION:Arden View Family Resource Centre
CATEGORIES:Offaly
END:VEVENT
BEGIN:VEVENT
DTSTART;TZID=Europe/Dublin:20300208T100000
DTEND;TZID=Europe/Dublin:20300208T123000
DTSTAMP:20260422T021051
CREATED:20260210T160005Z
LAST-MODIFIED:20260210T160022Z
UID:10004522-1896775200-1896784200@open-up.ie
SUMMARY:Little Twinkles Parent Toddler Group Tullamore FRC
DESCRIPTION:Little Twinkles Parent and Toddler Group meet every Wednesday and Friday in Tullamore FRC at 10am. \nAll Welcome. \nFor more information contact Marie on 0579320598
URL:https://open-up.ie/calendar-listing/little-twinkles-parent-toddler-group-tullamore-frc/2030-02-08/
LOCATION:Arden View Family Resource Centre
CATEGORIES:Offaly
END:VEVENT
BEGIN:VEVENT
DTSTART;TZID=Europe/Dublin:20300212T190000
DTEND;TZID=Europe/Dublin:20300212T200000
DTSTAMP:20260422T021051
CREATED:20250224T110437Z
LAST-MODIFIED:20250224T110606Z
UID:10001400-1897153200-1897156800@open-up.ie
SUMMARY:ESKER COMMUNITY - Kulele Orchestra
DESCRIPTION:Esker Community ‘kulele Orchestra is a community music group based in Esker Arts in Tullamore and is open to all\, young and old\, and we are always looking for new members who would like to come along and join in the fun of making music together. All instruments and singers are welcome. \n 
URL:https://open-up.ie/calendar-listing/esker-community-kulele-orchestra/2030-02-12/
LOCATION:Tullamore
END:VEVENT
BEGIN:VEVENT
DTSTART;TZID=Europe/Dublin:20300213T100000
DTEND;TZID=Europe/Dublin:20300213T123000
DTSTAMP:20260422T021051
CREATED:20260210T160005Z
LAST-MODIFIED:20260210T160022Z
UID:10004523-1897207200-1897216200@open-up.ie
SUMMARY:Little Twinkles Parent Toddler Group Tullamore FRC
DESCRIPTION:Little Twinkles Parent and Toddler Group meet every Wednesday and Friday in Tullamore FRC at 10am. \nAll Welcome. \nFor more information contact Marie on 0579320598
URL:https://open-up.ie/calendar-listing/little-twinkles-parent-toddler-group-tullamore-frc/2030-02-13/
LOCATION:Arden View Family Resource Centre
CATEGORIES:Offaly
END:VEVENT
BEGIN:VEVENT
DTSTART;TZID=Europe/Dublin:20300215T100000
DTEND;TZID=Europe/Dublin:20300215T123000
DTSTAMP:20260422T021051
CREATED:20260210T160005Z
LAST-MODIFIED:20260210T160022Z
UID:10004524-1897380000-1897389000@open-up.ie
SUMMARY:Little Twinkles Parent Toddler Group Tullamore FRC
DESCRIPTION:Little Twinkles Parent and Toddler Group meet every Wednesday and Friday in Tullamore FRC at 10am. \nAll Welcome. \nFor more information contact Marie on 0579320598
URL:https://open-up.ie/calendar-listing/little-twinkles-parent-toddler-group-tullamore-frc/2030-02-15/
LOCATION:Arden View Family Resource Centre
CATEGORIES:Offaly
END:VEVENT
BEGIN:VEVENT
DTSTART;TZID=Europe/Dublin:20300219T190000
DTEND;TZID=Europe/Dublin:20300219T200000
DTSTAMP:20260422T021051
CREATED:20250224T110437Z
LAST-MODIFIED:20250224T110606Z
UID:10001401-1897758000-1897761600@open-up.ie
SUMMARY:ESKER COMMUNITY - Kulele Orchestra
DESCRIPTION:Esker Community ‘kulele Orchestra is a community music group based in Esker Arts in Tullamore and is open to all\, young and old\, and we are always looking for new members who would like to come along and join in the fun of making music together. All instruments and singers are welcome. \n 
URL:https://open-up.ie/calendar-listing/esker-community-kulele-orchestra/2030-02-19/
LOCATION:Tullamore
END:VEVENT
BEGIN:VEVENT
DTSTART;TZID=Europe/Dublin:20300220T100000
DTEND;TZID=Europe/Dublin:20300220T123000
DTSTAMP:20260422T021051
CREATED:20260210T160005Z
LAST-MODIFIED:20260210T160022Z
UID:10004525-1897812000-1897821000@open-up.ie
SUMMARY:Little Twinkles Parent Toddler Group Tullamore FRC
DESCRIPTION:Little Twinkles Parent and Toddler Group meet every Wednesday and Friday in Tullamore FRC at 10am. \nAll Welcome. \nFor more information contact Marie on 0579320598
URL:https://open-up.ie/calendar-listing/little-twinkles-parent-toddler-group-tullamore-frc/2030-02-20/
LOCATION:Arden View Family Resource Centre
CATEGORIES:Offaly
END:VEVENT
BEGIN:VEVENT
DTSTART;TZID=Europe/Dublin:20300222T100000
DTEND;TZID=Europe/Dublin:20300222T123000
DTSTAMP:20260422T021051
CREATED:20260210T160005Z
LAST-MODIFIED:20260210T160022Z
UID:10004526-1897984800-1897993800@open-up.ie
SUMMARY:Little Twinkles Parent Toddler Group Tullamore FRC
DESCRIPTION:Little Twinkles Parent and Toddler Group meet every Wednesday and Friday in Tullamore FRC at 10am. \nAll Welcome. \nFor more information contact Marie on 0579320598
URL:https://open-up.ie/calendar-listing/little-twinkles-parent-toddler-group-tullamore-frc/2030-02-22/
LOCATION:Arden View Family Resource Centre
CATEGORIES:Offaly
END:VEVENT
BEGIN:VEVENT
DTSTART;TZID=Europe/Dublin:20300222T113000
DTEND;TZID=Europe/Dublin:20300222T123000
DTSTAMP:20260422T021051
CREATED:20250428T092006Z
LAST-MODIFIED:20250428T092006Z
UID:10001862-1897990200-1897993800@open-up.ie
SUMMARY:Social Prescribing Drop In Service Tullamore
DESCRIPTION:Social Prescribing Drop In Service \nTullamore Library\, Last Friday of every month\, Friday 30th May\, 11.30am -12.30pm \nCall in to find out more about how Social Prescribing can help link you with activities and supports in your community. \nContact Michelle 087 7470562
URL:https://open-up.ie/calendar-listing/social-prescribing-drop-in-service-tullamore/2030-02-22/
END:VEVENT
BEGIN:VEVENT
DTSTART;TZID=Europe/Dublin:20300226T100000
DTEND;TZID=Europe/Dublin:20300226T130000
DTSTAMP:20260422T021051
CREATED:20260302T164418Z
LAST-MODIFIED:20260302T164418Z
UID:10004703-1898330400-1898341200@open-up.ie
SUMMARY:Primary Care - Social Work Drop in Service
DESCRIPTION:Primary Care  Social Work Drop in Service \nVenue: Community Room in the Library\, JKL St\, Edenderry\, Co Offaly. \nDate(s): 3rd Tuesday of Every Month in 2026 \nTuesday 20th January\,       Tuesday 17th February\,     Tuesday 24th March\, \nTuesday 21st April\,             Tuesday 19th May\,             Tuesday 16th June\, \nTuesday 21st July\,               Tuesday 18th August\,        Tuesday 15th September\, \nTuesday 20th October\,      Tuesday 17th November\, Tuesday 15th December \nTime: 10am – 1pm \nDrop in or Book an appointment for this free and confidential service to see a Primary Care Social Worker in person \n(Booking in advance is advised) \nTo Book an appointment: \nCall 057-8697537 \nHow can a Primary Care Social Worker help? \n\nSupport in navigating the health service.\nSignposting to appropriate community supports.\nAdvocacy re: benefits & entitlements.\nAssist with any other queries or worries.\nEnsure your voice is heard and understood.\n\nDrop In Service Leaflet Edenderry 2026 (003)
URL:https://open-up.ie/calendar-listing/primary-care-social-work-drop-in-service/2030-02-26/
CATEGORIES:Offaly
END:VEVENT
BEGIN:VEVENT
DTSTART;TZID=Europe/Dublin:20300227T100000
DTEND;TZID=Europe/Dublin:20300227T123000
DTSTAMP:20260422T021051
CREATED:20260210T160005Z
LAST-MODIFIED:20260210T160022Z
UID:10004527-1898416800-1898425800@open-up.ie
SUMMARY:Little Twinkles Parent Toddler Group Tullamore FRC
DESCRIPTION:Little Twinkles Parent and Toddler Group meet every Wednesday and Friday in Tullamore FRC at 10am. \nAll Welcome. \nFor more information contact Marie on 0579320598
URL:https://open-up.ie/calendar-listing/little-twinkles-parent-toddler-group-tullamore-frc/2030-02-27/
LOCATION:Arden View Family Resource Centre
CATEGORIES:Offaly
END:VEVENT
END:VCALENDAR