BEGIN:VCALENDAR
VERSION:2.0
PRODID:-//Open Up - ECPv6.15.20//NONSGML v1.0//EN
CALSCALE:GREGORIAN
METHOD:PUBLISH
X-ORIGINAL-URL:https://open-up.ie
X-WR-CALDESC:Events for Open Up
REFRESH-INTERVAL;VALUE=DURATION:PT1H
X-Robots-Tag:noindex
X-PUBLISHED-TTL:PT1H
BEGIN:VTIMEZONE
TZID:Europe/Dublin
BEGIN:STANDARD
TZOFFSETFROM:+0000
TZOFFSETTO:+0100
TZNAME:IST
DTSTART:20270328T010000
END:STANDARD
BEGIN:DAYLIGHT
TZOFFSETFROM:+0100
TZOFFSETTO:+0000
TZNAME:GMT
DTSTART:20271031T010000
END:DAYLIGHT
BEGIN:STANDARD
TZOFFSETFROM:+0000
TZOFFSETTO:+0100
TZNAME:IST
DTSTART:20280326T010000
END:STANDARD
BEGIN:DAYLIGHT
TZOFFSETFROM:+0100
TZOFFSETTO:+0000
TZNAME:GMT
DTSTART:20281029T010000
END:DAYLIGHT
BEGIN:STANDARD
TZOFFSETFROM:+0000
TZOFFSETTO:+0100
TZNAME:IST
DTSTART:20290325T010000
END:STANDARD
BEGIN:DAYLIGHT
TZOFFSETFROM:+0100
TZOFFSETTO:+0000
TZNAME:GMT
DTSTART:20291028T010000
END:DAYLIGHT
BEGIN:STANDARD
TZOFFSETFROM:+0000
TZOFFSETTO:+0100
TZNAME:IST
DTSTART:20300331T010000
END:STANDARD
BEGIN:DAYLIGHT
TZOFFSETFROM:+0100
TZOFFSETTO:+0000
TZNAME:GMT
DTSTART:20301027T010000
END:DAYLIGHT
END:VTIMEZONE
BEGIN:VEVENT
DTSTART;TZID=Europe/Dublin:20281011T100000
DTEND;TZID=Europe/Dublin:20281011T123000
DTSTAMP:20260420T091100
CREATED:20260210T160005Z
LAST-MODIFIED:20260210T160022Z
UID:10004383-1854871200-1854880200@open-up.ie
SUMMARY:Little Twinkles Parent Toddler Group Tullamore FRC
DESCRIPTION:Little Twinkles Parent and Toddler Group meet every Wednesday and Friday in Tullamore FRC at 10am. \nAll Welcome. \nFor more information contact Marie on 0579320598
URL:https://open-up.ie/calendar-listing/little-twinkles-parent-toddler-group-tullamore-frc/2028-10-11/
LOCATION:Arden View Family Resource Centre
CATEGORIES:Offaly
END:VEVENT
BEGIN:VEVENT
DTSTART;TZID=Europe/Dublin:20281013T100000
DTEND;TZID=Europe/Dublin:20281013T123000
DTSTAMP:20260420T091100
CREATED:20260210T160005Z
LAST-MODIFIED:20260210T160022Z
UID:10004384-1855044000-1855053000@open-up.ie
SUMMARY:Little Twinkles Parent Toddler Group Tullamore FRC
DESCRIPTION:Little Twinkles Parent and Toddler Group meet every Wednesday and Friday in Tullamore FRC at 10am. \nAll Welcome. \nFor more information contact Marie on 0579320598
URL:https://open-up.ie/calendar-listing/little-twinkles-parent-toddler-group-tullamore-frc/2028-10-13/
LOCATION:Arden View Family Resource Centre
CATEGORIES:Offaly
END:VEVENT
BEGIN:VEVENT
DTSTART;TZID=Europe/Dublin:20281018T100000
DTEND;TZID=Europe/Dublin:20281018T123000
DTSTAMP:20260420T091100
CREATED:20260210T160005Z
LAST-MODIFIED:20260210T160022Z
UID:10004385-1855476000-1855485000@open-up.ie
SUMMARY:Little Twinkles Parent Toddler Group Tullamore FRC
DESCRIPTION:Little Twinkles Parent and Toddler Group meet every Wednesday and Friday in Tullamore FRC at 10am. \nAll Welcome. \nFor more information contact Marie on 0579320598
URL:https://open-up.ie/calendar-listing/little-twinkles-parent-toddler-group-tullamore-frc/2028-10-18/
LOCATION:Arden View Family Resource Centre
CATEGORIES:Offaly
END:VEVENT
BEGIN:VEVENT
DTSTART;TZID=Europe/Dublin:20281020T100000
DTEND;TZID=Europe/Dublin:20281020T123000
DTSTAMP:20260420T091100
CREATED:20260210T160005Z
LAST-MODIFIED:20260210T160022Z
UID:10004386-1855648800-1855657800@open-up.ie
SUMMARY:Little Twinkles Parent Toddler Group Tullamore FRC
DESCRIPTION:Little Twinkles Parent and Toddler Group meet every Wednesday and Friday in Tullamore FRC at 10am. \nAll Welcome. \nFor more information contact Marie on 0579320598
URL:https://open-up.ie/calendar-listing/little-twinkles-parent-toddler-group-tullamore-frc/2028-10-20/
LOCATION:Arden View Family Resource Centre
CATEGORIES:Offaly
END:VEVENT
BEGIN:VEVENT
DTSTART;TZID=Europe/Dublin:20281025T100000
DTEND;TZID=Europe/Dublin:20281025T123000
DTSTAMP:20260420T091100
CREATED:20260210T160005Z
LAST-MODIFIED:20260210T160022Z
UID:10004387-1856080800-1856089800@open-up.ie
SUMMARY:Little Twinkles Parent Toddler Group Tullamore FRC
DESCRIPTION:Little Twinkles Parent and Toddler Group meet every Wednesday and Friday in Tullamore FRC at 10am. \nAll Welcome. \nFor more information contact Marie on 0579320598
URL:https://open-up.ie/calendar-listing/little-twinkles-parent-toddler-group-tullamore-frc/2028-10-25/
LOCATION:Arden View Family Resource Centre
CATEGORIES:Offaly
END:VEVENT
BEGIN:VEVENT
DTSTART;TZID=Europe/Dublin:20281027T100000
DTEND;TZID=Europe/Dublin:20281027T123000
DTSTAMP:20260420T091100
CREATED:20260210T160005Z
LAST-MODIFIED:20260210T160022Z
UID:10004388-1856253600-1856262600@open-up.ie
SUMMARY:Little Twinkles Parent Toddler Group Tullamore FRC
DESCRIPTION:Little Twinkles Parent and Toddler Group meet every Wednesday and Friday in Tullamore FRC at 10am. \nAll Welcome. \nFor more information contact Marie on 0579320598
URL:https://open-up.ie/calendar-listing/little-twinkles-parent-toddler-group-tullamore-frc/2028-10-27/
LOCATION:Arden View Family Resource Centre
CATEGORIES:Offaly
END:VEVENT
BEGIN:VEVENT
DTSTART;TZID=Europe/Dublin:20281101T100000
DTEND;TZID=Europe/Dublin:20281101T123000
DTSTAMP:20260420T091100
CREATED:20260210T160005Z
LAST-MODIFIED:20260210T160022Z
UID:10004389-1856685600-1856694600@open-up.ie
SUMMARY:Little Twinkles Parent Toddler Group Tullamore FRC
DESCRIPTION:Little Twinkles Parent and Toddler Group meet every Wednesday and Friday in Tullamore FRC at 10am. \nAll Welcome. \nFor more information contact Marie on 0579320598
URL:https://open-up.ie/calendar-listing/little-twinkles-parent-toddler-group-tullamore-frc/2028-11-01/
LOCATION:Arden View Family Resource Centre
CATEGORIES:Offaly
END:VEVENT
BEGIN:VEVENT
DTSTART;TZID=Europe/Dublin:20281103T100000
DTEND;TZID=Europe/Dublin:20281103T123000
DTSTAMP:20260420T091100
CREATED:20260210T160005Z
LAST-MODIFIED:20260210T160022Z
UID:10004390-1856858400-1856867400@open-up.ie
SUMMARY:Little Twinkles Parent Toddler Group Tullamore FRC
DESCRIPTION:Little Twinkles Parent and Toddler Group meet every Wednesday and Friday in Tullamore FRC at 10am. \nAll Welcome. \nFor more information contact Marie on 0579320598
URL:https://open-up.ie/calendar-listing/little-twinkles-parent-toddler-group-tullamore-frc/2028-11-03/
LOCATION:Arden View Family Resource Centre
CATEGORIES:Offaly
END:VEVENT
BEGIN:VEVENT
DTSTART;TZID=Europe/Dublin:20281107T093000
DTEND;TZID=Europe/Dublin:20281107T113000
DTSTAMP:20260420T091100
CREATED:20250408T094756Z
LAST-MODIFIED:20250408T124106Z
UID:10001757-1857202200-1857209400@open-up.ie
SUMMARY:Speech and Language Therapy Drop In Clinic Tullamore
DESCRIPTION:Speech and Language Therapy Drop In Clinic Tullamore \n1st TUESDAY OF EVERY MONTH \nThis Drop In Clinic operates from the Tullamore Family Resource Centre\, Arden View and not the Health Centre\, Tullamore. \nThe day has changed from a Friday to a Tuesday morning from 9:30-11:30. \nQueries with regard to the Drop in Clinic should be made to Tullamore Primary Care\, Church Avenue\, Tullamore on 057 93 19599/19598 and not Tullamore Health Centre 057 93 41301. \nDrop In Clinic Offaly Speech and Language \n 
URL:https://open-up.ie/calendar-listing/speech-and-language-therapy-drop-in-clinic-tullamore/2028-11-07/
LOCATION:Arden View Family Resource Centre
END:VEVENT
BEGIN:VEVENT
DTSTART;TZID=Europe/Dublin:20281108T100000
DTEND;TZID=Europe/Dublin:20281108T123000
DTSTAMP:20260420T091100
CREATED:20260210T160005Z
LAST-MODIFIED:20260210T160022Z
UID:10004391-1857290400-1857299400@open-up.ie
SUMMARY:Little Twinkles Parent Toddler Group Tullamore FRC
DESCRIPTION:Little Twinkles Parent and Toddler Group meet every Wednesday and Friday in Tullamore FRC at 10am. \nAll Welcome. \nFor more information contact Marie on 0579320598
URL:https://open-up.ie/calendar-listing/little-twinkles-parent-toddler-group-tullamore-frc/2028-11-08/
LOCATION:Arden View Family Resource Centre
CATEGORIES:Offaly
END:VEVENT
BEGIN:VEVENT
DTSTART;TZID=Europe/Dublin:20281110T100000
DTEND;TZID=Europe/Dublin:20281110T123000
DTSTAMP:20260420T091100
CREATED:20260210T160005Z
LAST-MODIFIED:20260210T160022Z
UID:10004392-1857463200-1857472200@open-up.ie
SUMMARY:Little Twinkles Parent Toddler Group Tullamore FRC
DESCRIPTION:Little Twinkles Parent and Toddler Group meet every Wednesday and Friday in Tullamore FRC at 10am. \nAll Welcome. \nFor more information contact Marie on 0579320598
URL:https://open-up.ie/calendar-listing/little-twinkles-parent-toddler-group-tullamore-frc/2028-11-10/
LOCATION:Arden View Family Resource Centre
CATEGORIES:Offaly
END:VEVENT
BEGIN:VEVENT
DTSTART;TZID=Europe/Dublin:20281115T100000
DTEND;TZID=Europe/Dublin:20281115T123000
DTSTAMP:20260420T091100
CREATED:20260210T160005Z
LAST-MODIFIED:20260210T160022Z
UID:10004393-1857895200-1857904200@open-up.ie
SUMMARY:Little Twinkles Parent Toddler Group Tullamore FRC
DESCRIPTION:Little Twinkles Parent and Toddler Group meet every Wednesday and Friday in Tullamore FRC at 10am. \nAll Welcome. \nFor more information contact Marie on 0579320598
URL:https://open-up.ie/calendar-listing/little-twinkles-parent-toddler-group-tullamore-frc/2028-11-15/
LOCATION:Arden View Family Resource Centre
CATEGORIES:Offaly
END:VEVENT
BEGIN:VEVENT
DTSTART;TZID=Europe/Dublin:20281117T100000
DTEND;TZID=Europe/Dublin:20281117T123000
DTSTAMP:20260420T091100
CREATED:20260210T160005Z
LAST-MODIFIED:20260210T160022Z
UID:10004394-1858068000-1858077000@open-up.ie
SUMMARY:Little Twinkles Parent Toddler Group Tullamore FRC
DESCRIPTION:Little Twinkles Parent and Toddler Group meet every Wednesday and Friday in Tullamore FRC at 10am. \nAll Welcome. \nFor more information contact Marie on 0579320598
URL:https://open-up.ie/calendar-listing/little-twinkles-parent-toddler-group-tullamore-frc/2028-11-17/
LOCATION:Arden View Family Resource Centre
CATEGORIES:Offaly
END:VEVENT
BEGIN:VEVENT
DTSTART;TZID=Europe/Dublin:20281122T100000
DTEND;TZID=Europe/Dublin:20281122T123000
DTSTAMP:20260420T091100
CREATED:20260210T160005Z
LAST-MODIFIED:20260210T160022Z
UID:10004395-1858500000-1858509000@open-up.ie
SUMMARY:Little Twinkles Parent Toddler Group Tullamore FRC
DESCRIPTION:Little Twinkles Parent and Toddler Group meet every Wednesday and Friday in Tullamore FRC at 10am. \nAll Welcome. \nFor more information contact Marie on 0579320598
URL:https://open-up.ie/calendar-listing/little-twinkles-parent-toddler-group-tullamore-frc/2028-11-22/
LOCATION:Arden View Family Resource Centre
CATEGORIES:Offaly
END:VEVENT
BEGIN:VEVENT
DTSTART;TZID=Europe/Dublin:20281124T100000
DTEND;TZID=Europe/Dublin:20281124T123000
DTSTAMP:20260420T091100
CREATED:20260210T160005Z
LAST-MODIFIED:20260210T160022Z
UID:10004396-1858672800-1858681800@open-up.ie
SUMMARY:Little Twinkles Parent Toddler Group Tullamore FRC
DESCRIPTION:Little Twinkles Parent and Toddler Group meet every Wednesday and Friday in Tullamore FRC at 10am. \nAll Welcome. \nFor more information contact Marie on 0579320598
URL:https://open-up.ie/calendar-listing/little-twinkles-parent-toddler-group-tullamore-frc/2028-11-24/
LOCATION:Arden View Family Resource Centre
CATEGORIES:Offaly
END:VEVENT
BEGIN:VEVENT
DTSTART;TZID=Europe/Dublin:20281129T100000
DTEND;TZID=Europe/Dublin:20281129T123000
DTSTAMP:20260420T091100
CREATED:20260210T160005Z
LAST-MODIFIED:20260210T160022Z
UID:10004397-1859104800-1859113800@open-up.ie
SUMMARY:Little Twinkles Parent Toddler Group Tullamore FRC
DESCRIPTION:Little Twinkles Parent and Toddler Group meet every Wednesday and Friday in Tullamore FRC at 10am. \nAll Welcome. \nFor more information contact Marie on 0579320598
URL:https://open-up.ie/calendar-listing/little-twinkles-parent-toddler-group-tullamore-frc/2028-11-29/
LOCATION:Arden View Family Resource Centre
CATEGORIES:Offaly
END:VEVENT
BEGIN:VEVENT
DTSTART;TZID=Europe/Dublin:20281201T100000
DTEND;TZID=Europe/Dublin:20281201T123000
DTSTAMP:20260420T091100
CREATED:20260210T160005Z
LAST-MODIFIED:20260210T160022Z
UID:10004398-1859277600-1859286600@open-up.ie
SUMMARY:Little Twinkles Parent Toddler Group Tullamore FRC
DESCRIPTION:Little Twinkles Parent and Toddler Group meet every Wednesday and Friday in Tullamore FRC at 10am. \nAll Welcome. \nFor more information contact Marie on 0579320598
URL:https://open-up.ie/calendar-listing/little-twinkles-parent-toddler-group-tullamore-frc/2028-12-01/
LOCATION:Arden View Family Resource Centre
CATEGORIES:Offaly
END:VEVENT
BEGIN:VEVENT
DTSTART;TZID=Europe/Dublin:20281205T093000
DTEND;TZID=Europe/Dublin:20281205T113000
DTSTAMP:20260420T091100
CREATED:20250408T094756Z
LAST-MODIFIED:20250408T124106Z
UID:10001758-1859621400-1859628600@open-up.ie
SUMMARY:Speech and Language Therapy Drop In Clinic Tullamore
DESCRIPTION:Speech and Language Therapy Drop In Clinic Tullamore \n1st TUESDAY OF EVERY MONTH \nThis Drop In Clinic operates from the Tullamore Family Resource Centre\, Arden View and not the Health Centre\, Tullamore. \nThe day has changed from a Friday to a Tuesday morning from 9:30-11:30. \nQueries with regard to the Drop in Clinic should be made to Tullamore Primary Care\, Church Avenue\, Tullamore on 057 93 19599/19598 and not Tullamore Health Centre 057 93 41301. \nDrop In Clinic Offaly Speech and Language \n 
URL:https://open-up.ie/calendar-listing/speech-and-language-therapy-drop-in-clinic-tullamore/2028-12-05/
LOCATION:Arden View Family Resource Centre
END:VEVENT
BEGIN:VEVENT
DTSTART;TZID=Europe/Dublin:20281206T100000
DTEND;TZID=Europe/Dublin:20281206T123000
DTSTAMP:20260420T091100
CREATED:20260210T160005Z
LAST-MODIFIED:20260210T160022Z
UID:10004399-1859709600-1859718600@open-up.ie
SUMMARY:Little Twinkles Parent Toddler Group Tullamore FRC
DESCRIPTION:Little Twinkles Parent and Toddler Group meet every Wednesday and Friday in Tullamore FRC at 10am. \nAll Welcome. \nFor more information contact Marie on 0579320598
URL:https://open-up.ie/calendar-listing/little-twinkles-parent-toddler-group-tullamore-frc/2028-12-06/
LOCATION:Arden View Family Resource Centre
CATEGORIES:Offaly
END:VEVENT
BEGIN:VEVENT
DTSTART;TZID=Europe/Dublin:20281208T100000
DTEND;TZID=Europe/Dublin:20281208T123000
DTSTAMP:20260420T091100
CREATED:20260210T160005Z
LAST-MODIFIED:20260210T160022Z
UID:10004400-1859882400-1859891400@open-up.ie
SUMMARY:Little Twinkles Parent Toddler Group Tullamore FRC
DESCRIPTION:Little Twinkles Parent and Toddler Group meet every Wednesday and Friday in Tullamore FRC at 10am. \nAll Welcome. \nFor more information contact Marie on 0579320598
URL:https://open-up.ie/calendar-listing/little-twinkles-parent-toddler-group-tullamore-frc/2028-12-08/
LOCATION:Arden View Family Resource Centre
CATEGORIES:Offaly
END:VEVENT
BEGIN:VEVENT
DTSTART;TZID=Europe/Dublin:20281213T100000
DTEND;TZID=Europe/Dublin:20281213T123000
DTSTAMP:20260420T091100
CREATED:20260210T160005Z
LAST-MODIFIED:20260210T160022Z
UID:10004401-1860314400-1860323400@open-up.ie
SUMMARY:Little Twinkles Parent Toddler Group Tullamore FRC
DESCRIPTION:Little Twinkles Parent and Toddler Group meet every Wednesday and Friday in Tullamore FRC at 10am. \nAll Welcome. \nFor more information contact Marie on 0579320598
URL:https://open-up.ie/calendar-listing/little-twinkles-parent-toddler-group-tullamore-frc/2028-12-13/
LOCATION:Arden View Family Resource Centre
CATEGORIES:Offaly
END:VEVENT
BEGIN:VEVENT
DTSTART;TZID=Europe/Dublin:20281215T100000
DTEND;TZID=Europe/Dublin:20281215T123000
DTSTAMP:20260420T091100
CREATED:20260210T160005Z
LAST-MODIFIED:20260210T160022Z
UID:10004402-1860487200-1860496200@open-up.ie
SUMMARY:Little Twinkles Parent Toddler Group Tullamore FRC
DESCRIPTION:Little Twinkles Parent and Toddler Group meet every Wednesday and Friday in Tullamore FRC at 10am. \nAll Welcome. \nFor more information contact Marie on 0579320598
URL:https://open-up.ie/calendar-listing/little-twinkles-parent-toddler-group-tullamore-frc/2028-12-15/
LOCATION:Arden View Family Resource Centre
CATEGORIES:Offaly
END:VEVENT
BEGIN:VEVENT
DTSTART;TZID=Europe/Dublin:20281220T100000
DTEND;TZID=Europe/Dublin:20281220T123000
DTSTAMP:20260420T091100
CREATED:20260210T160005Z
LAST-MODIFIED:20260210T160022Z
UID:10004403-1860919200-1860928200@open-up.ie
SUMMARY:Little Twinkles Parent Toddler Group Tullamore FRC
DESCRIPTION:Little Twinkles Parent and Toddler Group meet every Wednesday and Friday in Tullamore FRC at 10am. \nAll Welcome. \nFor more information contact Marie on 0579320598
URL:https://open-up.ie/calendar-listing/little-twinkles-parent-toddler-group-tullamore-frc/2028-12-20/
LOCATION:Arden View Family Resource Centre
CATEGORIES:Offaly
END:VEVENT
BEGIN:VEVENT
DTSTART;TZID=Europe/Dublin:20281222T100000
DTEND;TZID=Europe/Dublin:20281222T123000
DTSTAMP:20260420T091100
CREATED:20260210T160005Z
LAST-MODIFIED:20260210T160022Z
UID:10004404-1861092000-1861101000@open-up.ie
SUMMARY:Little Twinkles Parent Toddler Group Tullamore FRC
DESCRIPTION:Little Twinkles Parent and Toddler Group meet every Wednesday and Friday in Tullamore FRC at 10am. \nAll Welcome. \nFor more information contact Marie on 0579320598
URL:https://open-up.ie/calendar-listing/little-twinkles-parent-toddler-group-tullamore-frc/2028-12-22/
LOCATION:Arden View Family Resource Centre
CATEGORIES:Offaly
END:VEVENT
BEGIN:VEVENT
DTSTART;TZID=Europe/Dublin:20281227T100000
DTEND;TZID=Europe/Dublin:20281227T123000
DTSTAMP:20260420T091100
CREATED:20260210T160005Z
LAST-MODIFIED:20260210T160022Z
UID:10004405-1861524000-1861533000@open-up.ie
SUMMARY:Little Twinkles Parent Toddler Group Tullamore FRC
DESCRIPTION:Little Twinkles Parent and Toddler Group meet every Wednesday and Friday in Tullamore FRC at 10am. \nAll Welcome. \nFor more information contact Marie on 0579320598
URL:https://open-up.ie/calendar-listing/little-twinkles-parent-toddler-group-tullamore-frc/2028-12-27/
LOCATION:Arden View Family Resource Centre
CATEGORIES:Offaly
END:VEVENT
BEGIN:VEVENT
DTSTART;TZID=Europe/Dublin:20281229T100000
DTEND;TZID=Europe/Dublin:20281229T123000
DTSTAMP:20260420T091100
CREATED:20260210T160005Z
LAST-MODIFIED:20260210T160022Z
UID:10004406-1861696800-1861705800@open-up.ie
SUMMARY:Little Twinkles Parent Toddler Group Tullamore FRC
DESCRIPTION:Little Twinkles Parent and Toddler Group meet every Wednesday and Friday in Tullamore FRC at 10am. \nAll Welcome. \nFor more information contact Marie on 0579320598
URL:https://open-up.ie/calendar-listing/little-twinkles-parent-toddler-group-tullamore-frc/2028-12-29/
LOCATION:Arden View Family Resource Centre
CATEGORIES:Offaly
END:VEVENT
BEGIN:VEVENT
DTSTART;TZID=Europe/Dublin:20290102T093000
DTEND;TZID=Europe/Dublin:20290102T113000
DTSTAMP:20260420T091100
CREATED:20250408T094756Z
LAST-MODIFIED:20250408T124106Z
UID:10001759-1862040600-1862047800@open-up.ie
SUMMARY:Speech and Language Therapy Drop In Clinic Tullamore
DESCRIPTION:Speech and Language Therapy Drop In Clinic Tullamore \n1st TUESDAY OF EVERY MONTH \nThis Drop In Clinic operates from the Tullamore Family Resource Centre\, Arden View and not the Health Centre\, Tullamore. \nThe day has changed from a Friday to a Tuesday morning from 9:30-11:30. \nQueries with regard to the Drop in Clinic should be made to Tullamore Primary Care\, Church Avenue\, Tullamore on 057 93 19599/19598 and not Tullamore Health Centre 057 93 41301. \nDrop In Clinic Offaly Speech and Language \n 
URL:https://open-up.ie/calendar-listing/speech-and-language-therapy-drop-in-clinic-tullamore/2029-01-02/
LOCATION:Arden View Family Resource Centre
END:VEVENT
BEGIN:VEVENT
DTSTART;TZID=Europe/Dublin:20290103T100000
DTEND;TZID=Europe/Dublin:20290103T123000
DTSTAMP:20260420T091100
CREATED:20260210T160005Z
LAST-MODIFIED:20260210T160022Z
UID:10004407-1862128800-1862137800@open-up.ie
SUMMARY:Little Twinkles Parent Toddler Group Tullamore FRC
DESCRIPTION:Little Twinkles Parent and Toddler Group meet every Wednesday and Friday in Tullamore FRC at 10am. \nAll Welcome. \nFor more information contact Marie on 0579320598
URL:https://open-up.ie/calendar-listing/little-twinkles-parent-toddler-group-tullamore-frc/2029-01-03/
LOCATION:Arden View Family Resource Centre
CATEGORIES:Offaly
END:VEVENT
BEGIN:VEVENT
DTSTART;TZID=Europe/Dublin:20290105T100000
DTEND;TZID=Europe/Dublin:20290105T123000
DTSTAMP:20260420T091100
CREATED:20260210T160005Z
LAST-MODIFIED:20260210T160022Z
UID:10004408-1862301600-1862310600@open-up.ie
SUMMARY:Little Twinkles Parent Toddler Group Tullamore FRC
DESCRIPTION:Little Twinkles Parent and Toddler Group meet every Wednesday and Friday in Tullamore FRC at 10am. \nAll Welcome. \nFor more information contact Marie on 0579320598
URL:https://open-up.ie/calendar-listing/little-twinkles-parent-toddler-group-tullamore-frc/2029-01-05/
LOCATION:Arden View Family Resource Centre
CATEGORIES:Offaly
END:VEVENT
BEGIN:VEVENT
DTSTART;TZID=Europe/Dublin:20290110T100000
DTEND;TZID=Europe/Dublin:20290110T123000
DTSTAMP:20260420T091100
CREATED:20260210T160005Z
LAST-MODIFIED:20260210T160022Z
UID:10004409-1862733600-1862742600@open-up.ie
SUMMARY:Little Twinkles Parent Toddler Group Tullamore FRC
DESCRIPTION:Little Twinkles Parent and Toddler Group meet every Wednesday and Friday in Tullamore FRC at 10am. \nAll Welcome. \nFor more information contact Marie on 0579320598
URL:https://open-up.ie/calendar-listing/little-twinkles-parent-toddler-group-tullamore-frc/2029-01-10/
LOCATION:Arden View Family Resource Centre
CATEGORIES:Offaly
END:VEVENT
END:VCALENDAR