BEGIN:VCALENDAR
VERSION:2.0
PRODID:-//Open Up - ECPv6.15.20//NONSGML v1.0//EN
CALSCALE:GREGORIAN
METHOD:PUBLISH
X-ORIGINAL-URL:https://open-up.ie
X-WR-CALDESC:Events for Open Up
REFRESH-INTERVAL;VALUE=DURATION:PT1H
X-Robots-Tag:noindex
X-PUBLISHED-TTL:PT1H
BEGIN:VTIMEZONE
TZID:Europe/Dublin
BEGIN:STANDARD
TZOFFSETFROM:+0000
TZOFFSETTO:+0100
TZNAME:IST
DTSTART:20280326T010000
END:STANDARD
BEGIN:DAYLIGHT
TZOFFSETFROM:+0100
TZOFFSETTO:+0000
TZNAME:GMT
DTSTART:20281029T010000
END:DAYLIGHT
BEGIN:STANDARD
TZOFFSETFROM:+0000
TZOFFSETTO:+0100
TZNAME:IST
DTSTART:20290325T010000
END:STANDARD
BEGIN:DAYLIGHT
TZOFFSETFROM:+0100
TZOFFSETTO:+0000
TZNAME:GMT
DTSTART:20291028T010000
END:DAYLIGHT
BEGIN:STANDARD
TZOFFSETFROM:+0000
TZOFFSETTO:+0100
TZNAME:IST
DTSTART:20300331T010000
END:STANDARD
BEGIN:DAYLIGHT
TZOFFSETFROM:+0100
TZOFFSETTO:+0000
TZNAME:GMT
DTSTART:20301027T010000
END:DAYLIGHT
END:VTIMEZONE
BEGIN:VEVENT
DTSTART;TZID=Europe/Dublin:20290202T100000
DTEND;TZID=Europe/Dublin:20290202T123000
DTSTAMP:20260420T172741
CREATED:20260210T160005Z
LAST-MODIFIED:20260210T160022Z
UID:10004416-1864720800-1864729800@open-up.ie
SUMMARY:Little Twinkles Parent Toddler Group Tullamore FRC
DESCRIPTION:Little Twinkles Parent and Toddler Group meet every Wednesday and Friday in Tullamore FRC at 10am. \nAll Welcome. \nFor more information contact Marie on 0579320598
URL:https://open-up.ie/calendar-listing/little-twinkles-parent-toddler-group-tullamore-frc/2029-02-02/
LOCATION:Arden View Family Resource Centre
CATEGORIES:Offaly
END:VEVENT
BEGIN:VEVENT
DTSTART;TZID=Europe/Dublin:20290206T093000
DTEND;TZID=Europe/Dublin:20290206T113000
DTSTAMP:20260420T172741
CREATED:20250408T094756Z
LAST-MODIFIED:20250408T124106Z
UID:10001760-1865064600-1865071800@open-up.ie
SUMMARY:Speech and Language Therapy Drop In Clinic Tullamore
DESCRIPTION:Speech and Language Therapy Drop In Clinic Tullamore \n1st TUESDAY OF EVERY MONTH \nThis Drop In Clinic operates from the Tullamore Family Resource Centre\, Arden View and not the Health Centre\, Tullamore. \nThe day has changed from a Friday to a Tuesday morning from 9:30-11:30. \nQueries with regard to the Drop in Clinic should be made to Tullamore Primary Care\, Church Avenue\, Tullamore on 057 93 19599/19598 and not Tullamore Health Centre 057 93 41301. \nDrop In Clinic Offaly Speech and Language \n 
URL:https://open-up.ie/calendar-listing/speech-and-language-therapy-drop-in-clinic-tullamore/2029-02-06/
LOCATION:Arden View Family Resource Centre
END:VEVENT
BEGIN:VEVENT
DTSTART;TZID=Europe/Dublin:20290207T100000
DTEND;TZID=Europe/Dublin:20290207T123000
DTSTAMP:20260420T172741
CREATED:20260210T160005Z
LAST-MODIFIED:20260210T160022Z
UID:10004417-1865152800-1865161800@open-up.ie
SUMMARY:Little Twinkles Parent Toddler Group Tullamore FRC
DESCRIPTION:Little Twinkles Parent and Toddler Group meet every Wednesday and Friday in Tullamore FRC at 10am. \nAll Welcome. \nFor more information contact Marie on 0579320598
URL:https://open-up.ie/calendar-listing/little-twinkles-parent-toddler-group-tullamore-frc/2029-02-07/
LOCATION:Arden View Family Resource Centre
CATEGORIES:Offaly
END:VEVENT
BEGIN:VEVENT
DTSTART;TZID=Europe/Dublin:20290209T100000
DTEND;TZID=Europe/Dublin:20290209T123000
DTSTAMP:20260420T172741
CREATED:20260210T160005Z
LAST-MODIFIED:20260210T160022Z
UID:10004418-1865325600-1865334600@open-up.ie
SUMMARY:Little Twinkles Parent Toddler Group Tullamore FRC
DESCRIPTION:Little Twinkles Parent and Toddler Group meet every Wednesday and Friday in Tullamore FRC at 10am. \nAll Welcome. \nFor more information contact Marie on 0579320598
URL:https://open-up.ie/calendar-listing/little-twinkles-parent-toddler-group-tullamore-frc/2029-02-09/
LOCATION:Arden View Family Resource Centre
CATEGORIES:Offaly
END:VEVENT
BEGIN:VEVENT
DTSTART;TZID=Europe/Dublin:20290214T100000
DTEND;TZID=Europe/Dublin:20290214T123000
DTSTAMP:20260420T172741
CREATED:20260210T160005Z
LAST-MODIFIED:20260210T160022Z
UID:10004419-1865757600-1865766600@open-up.ie
SUMMARY:Little Twinkles Parent Toddler Group Tullamore FRC
DESCRIPTION:Little Twinkles Parent and Toddler Group meet every Wednesday and Friday in Tullamore FRC at 10am. \nAll Welcome. \nFor more information contact Marie on 0579320598
URL:https://open-up.ie/calendar-listing/little-twinkles-parent-toddler-group-tullamore-frc/2029-02-14/
LOCATION:Arden View Family Resource Centre
CATEGORIES:Offaly
END:VEVENT
BEGIN:VEVENT
DTSTART;TZID=Europe/Dublin:20290216T100000
DTEND;TZID=Europe/Dublin:20290216T123000
DTSTAMP:20260420T172741
CREATED:20260210T160005Z
LAST-MODIFIED:20260210T160022Z
UID:10004420-1865930400-1865939400@open-up.ie
SUMMARY:Little Twinkles Parent Toddler Group Tullamore FRC
DESCRIPTION:Little Twinkles Parent and Toddler Group meet every Wednesday and Friday in Tullamore FRC at 10am. \nAll Welcome. \nFor more information contact Marie on 0579320598
URL:https://open-up.ie/calendar-listing/little-twinkles-parent-toddler-group-tullamore-frc/2029-02-16/
LOCATION:Arden View Family Resource Centre
CATEGORIES:Offaly
END:VEVENT
BEGIN:VEVENT
DTSTART;TZID=Europe/Dublin:20290221T100000
DTEND;TZID=Europe/Dublin:20290221T123000
DTSTAMP:20260420T172741
CREATED:20260210T160005Z
LAST-MODIFIED:20260210T160022Z
UID:10004421-1866362400-1866371400@open-up.ie
SUMMARY:Little Twinkles Parent Toddler Group Tullamore FRC
DESCRIPTION:Little Twinkles Parent and Toddler Group meet every Wednesday and Friday in Tullamore FRC at 10am. \nAll Welcome. \nFor more information contact Marie on 0579320598
URL:https://open-up.ie/calendar-listing/little-twinkles-parent-toddler-group-tullamore-frc/2029-02-21/
LOCATION:Arden View Family Resource Centre
CATEGORIES:Offaly
END:VEVENT
BEGIN:VEVENT
DTSTART;TZID=Europe/Dublin:20290223T100000
DTEND;TZID=Europe/Dublin:20290223T123000
DTSTAMP:20260420T172741
CREATED:20260210T160005Z
LAST-MODIFIED:20260210T160022Z
UID:10004422-1866535200-1866544200@open-up.ie
SUMMARY:Little Twinkles Parent Toddler Group Tullamore FRC
DESCRIPTION:Little Twinkles Parent and Toddler Group meet every Wednesday and Friday in Tullamore FRC at 10am. \nAll Welcome. \nFor more information contact Marie on 0579320598
URL:https://open-up.ie/calendar-listing/little-twinkles-parent-toddler-group-tullamore-frc/2029-02-23/
LOCATION:Arden View Family Resource Centre
CATEGORIES:Offaly
END:VEVENT
BEGIN:VEVENT
DTSTART;TZID=Europe/Dublin:20290228T100000
DTEND;TZID=Europe/Dublin:20290228T123000
DTSTAMP:20260420T172741
CREATED:20260210T160005Z
LAST-MODIFIED:20260210T160022Z
UID:10004423-1866967200-1866976200@open-up.ie
SUMMARY:Little Twinkles Parent Toddler Group Tullamore FRC
DESCRIPTION:Little Twinkles Parent and Toddler Group meet every Wednesday and Friday in Tullamore FRC at 10am. \nAll Welcome. \nFor more information contact Marie on 0579320598
URL:https://open-up.ie/calendar-listing/little-twinkles-parent-toddler-group-tullamore-frc/2029-02-28/
LOCATION:Arden View Family Resource Centre
CATEGORIES:Offaly
END:VEVENT
BEGIN:VEVENT
DTSTART;TZID=Europe/Dublin:20290302T100000
DTEND;TZID=Europe/Dublin:20290302T123000
DTSTAMP:20260420T172741
CREATED:20260210T160005Z
LAST-MODIFIED:20260210T160022Z
UID:10004424-1867140000-1867149000@open-up.ie
SUMMARY:Little Twinkles Parent Toddler Group Tullamore FRC
DESCRIPTION:Little Twinkles Parent and Toddler Group meet every Wednesday and Friday in Tullamore FRC at 10am. \nAll Welcome. \nFor more information contact Marie on 0579320598
URL:https://open-up.ie/calendar-listing/little-twinkles-parent-toddler-group-tullamore-frc/2029-03-02/
LOCATION:Arden View Family Resource Centre
CATEGORIES:Offaly
END:VEVENT
BEGIN:VEVENT
DTSTART;TZID=Europe/Dublin:20290306T093000
DTEND;TZID=Europe/Dublin:20290306T113000
DTSTAMP:20260420T172741
CREATED:20250408T094756Z
LAST-MODIFIED:20250408T124106Z
UID:10001761-1867483800-1867491000@open-up.ie
SUMMARY:Speech and Language Therapy Drop In Clinic Tullamore
DESCRIPTION:Speech and Language Therapy Drop In Clinic Tullamore \n1st TUESDAY OF EVERY MONTH \nThis Drop In Clinic operates from the Tullamore Family Resource Centre\, Arden View and not the Health Centre\, Tullamore. \nThe day has changed from a Friday to a Tuesday morning from 9:30-11:30. \nQueries with regard to the Drop in Clinic should be made to Tullamore Primary Care\, Church Avenue\, Tullamore on 057 93 19599/19598 and not Tullamore Health Centre 057 93 41301. \nDrop In Clinic Offaly Speech and Language \n 
URL:https://open-up.ie/calendar-listing/speech-and-language-therapy-drop-in-clinic-tullamore/2029-03-06/
LOCATION:Arden View Family Resource Centre
END:VEVENT
BEGIN:VEVENT
DTSTART;TZID=Europe/Dublin:20290307T100000
DTEND;TZID=Europe/Dublin:20290307T123000
DTSTAMP:20260420T172741
CREATED:20260210T160005Z
LAST-MODIFIED:20260210T160022Z
UID:10004425-1867572000-1867581000@open-up.ie
SUMMARY:Little Twinkles Parent Toddler Group Tullamore FRC
DESCRIPTION:Little Twinkles Parent and Toddler Group meet every Wednesday and Friday in Tullamore FRC at 10am. \nAll Welcome. \nFor more information contact Marie on 0579320598
URL:https://open-up.ie/calendar-listing/little-twinkles-parent-toddler-group-tullamore-frc/2029-03-07/
LOCATION:Arden View Family Resource Centre
CATEGORIES:Offaly
END:VEVENT
BEGIN:VEVENT
DTSTART;TZID=Europe/Dublin:20290309T100000
DTEND;TZID=Europe/Dublin:20290309T123000
DTSTAMP:20260420T172741
CREATED:20260210T160005Z
LAST-MODIFIED:20260210T160022Z
UID:10004426-1867744800-1867753800@open-up.ie
SUMMARY:Little Twinkles Parent Toddler Group Tullamore FRC
DESCRIPTION:Little Twinkles Parent and Toddler Group meet every Wednesday and Friday in Tullamore FRC at 10am. \nAll Welcome. \nFor more information contact Marie on 0579320598
URL:https://open-up.ie/calendar-listing/little-twinkles-parent-toddler-group-tullamore-frc/2029-03-09/
LOCATION:Arden View Family Resource Centre
CATEGORIES:Offaly
END:VEVENT
BEGIN:VEVENT
DTSTART;TZID=Europe/Dublin:20290314T100000
DTEND;TZID=Europe/Dublin:20290314T123000
DTSTAMP:20260420T172741
CREATED:20260210T160005Z
LAST-MODIFIED:20260210T160022Z
UID:10004427-1868176800-1868185800@open-up.ie
SUMMARY:Little Twinkles Parent Toddler Group Tullamore FRC
DESCRIPTION:Little Twinkles Parent and Toddler Group meet every Wednesday and Friday in Tullamore FRC at 10am. \nAll Welcome. \nFor more information contact Marie on 0579320598
URL:https://open-up.ie/calendar-listing/little-twinkles-parent-toddler-group-tullamore-frc/2029-03-14/
LOCATION:Arden View Family Resource Centre
CATEGORIES:Offaly
END:VEVENT
BEGIN:VEVENT
DTSTART;TZID=Europe/Dublin:20290316T100000
DTEND;TZID=Europe/Dublin:20290316T123000
DTSTAMP:20260420T172741
CREATED:20260210T160005Z
LAST-MODIFIED:20260210T160022Z
UID:10004428-1868349600-1868358600@open-up.ie
SUMMARY:Little Twinkles Parent Toddler Group Tullamore FRC
DESCRIPTION:Little Twinkles Parent and Toddler Group meet every Wednesday and Friday in Tullamore FRC at 10am. \nAll Welcome. \nFor more information contact Marie on 0579320598
URL:https://open-up.ie/calendar-listing/little-twinkles-parent-toddler-group-tullamore-frc/2029-03-16/
LOCATION:Arden View Family Resource Centre
CATEGORIES:Offaly
END:VEVENT
BEGIN:VEVENT
DTSTART;TZID=Europe/Dublin:20290321T100000
DTEND;TZID=Europe/Dublin:20290321T123000
DTSTAMP:20260420T172741
CREATED:20260210T160005Z
LAST-MODIFIED:20260210T160022Z
UID:10004429-1868781600-1868790600@open-up.ie
SUMMARY:Little Twinkles Parent Toddler Group Tullamore FRC
DESCRIPTION:Little Twinkles Parent and Toddler Group meet every Wednesday and Friday in Tullamore FRC at 10am. \nAll Welcome. \nFor more information contact Marie on 0579320598
URL:https://open-up.ie/calendar-listing/little-twinkles-parent-toddler-group-tullamore-frc/2029-03-21/
LOCATION:Arden View Family Resource Centre
CATEGORIES:Offaly
END:VEVENT
BEGIN:VEVENT
DTSTART;TZID=Europe/Dublin:20290323T100000
DTEND;TZID=Europe/Dublin:20290323T123000
DTSTAMP:20260420T172741
CREATED:20260210T160005Z
LAST-MODIFIED:20260210T160022Z
UID:10004430-1868954400-1868963400@open-up.ie
SUMMARY:Little Twinkles Parent Toddler Group Tullamore FRC
DESCRIPTION:Little Twinkles Parent and Toddler Group meet every Wednesday and Friday in Tullamore FRC at 10am. \nAll Welcome. \nFor more information contact Marie on 0579320598
URL:https://open-up.ie/calendar-listing/little-twinkles-parent-toddler-group-tullamore-frc/2029-03-23/
LOCATION:Arden View Family Resource Centre
CATEGORIES:Offaly
END:VEVENT
BEGIN:VEVENT
DTSTART;TZID=Europe/Dublin:20290328T100000
DTEND;TZID=Europe/Dublin:20290328T123000
DTSTAMP:20260420T172741
CREATED:20260210T160005Z
LAST-MODIFIED:20260210T160022Z
UID:10004431-1869386400-1869395400@open-up.ie
SUMMARY:Little Twinkles Parent Toddler Group Tullamore FRC
DESCRIPTION:Little Twinkles Parent and Toddler Group meet every Wednesday and Friday in Tullamore FRC at 10am. \nAll Welcome. \nFor more information contact Marie on 0579320598
URL:https://open-up.ie/calendar-listing/little-twinkles-parent-toddler-group-tullamore-frc/2029-03-28/
LOCATION:Arden View Family Resource Centre
CATEGORIES:Offaly
END:VEVENT
BEGIN:VEVENT
DTSTART;TZID=Europe/Dublin:20290330T100000
DTEND;TZID=Europe/Dublin:20290330T123000
DTSTAMP:20260420T172741
CREATED:20260210T160005Z
LAST-MODIFIED:20260210T160022Z
UID:10004432-1869559200-1869568200@open-up.ie
SUMMARY:Little Twinkles Parent Toddler Group Tullamore FRC
DESCRIPTION:Little Twinkles Parent and Toddler Group meet every Wednesday and Friday in Tullamore FRC at 10am. \nAll Welcome. \nFor more information contact Marie on 0579320598
URL:https://open-up.ie/calendar-listing/little-twinkles-parent-toddler-group-tullamore-frc/2029-03-30/
LOCATION:Arden View Family Resource Centre
CATEGORIES:Offaly
END:VEVENT
BEGIN:VEVENT
DTSTART;TZID=Europe/Dublin:20290403T093000
DTEND;TZID=Europe/Dublin:20290403T113000
DTSTAMP:20260420T172741
CREATED:20250408T094756Z
LAST-MODIFIED:20250408T124106Z
UID:10001762-1869903000-1869910200@open-up.ie
SUMMARY:Speech and Language Therapy Drop In Clinic Tullamore
DESCRIPTION:Speech and Language Therapy Drop In Clinic Tullamore \n1st TUESDAY OF EVERY MONTH \nThis Drop In Clinic operates from the Tullamore Family Resource Centre\, Arden View and not the Health Centre\, Tullamore. \nThe day has changed from a Friday to a Tuesday morning from 9:30-11:30. \nQueries with regard to the Drop in Clinic should be made to Tullamore Primary Care\, Church Avenue\, Tullamore on 057 93 19599/19598 and not Tullamore Health Centre 057 93 41301. \nDrop In Clinic Offaly Speech and Language \n 
URL:https://open-up.ie/calendar-listing/speech-and-language-therapy-drop-in-clinic-tullamore/2029-04-03/
LOCATION:Arden View Family Resource Centre
END:VEVENT
BEGIN:VEVENT
DTSTART;TZID=Europe/Dublin:20290404T100000
DTEND;TZID=Europe/Dublin:20290404T123000
DTSTAMP:20260420T172741
CREATED:20260210T160005Z
LAST-MODIFIED:20260210T160022Z
UID:10004433-1869991200-1870000200@open-up.ie
SUMMARY:Little Twinkles Parent Toddler Group Tullamore FRC
DESCRIPTION:Little Twinkles Parent and Toddler Group meet every Wednesday and Friday in Tullamore FRC at 10am. \nAll Welcome. \nFor more information contact Marie on 0579320598
URL:https://open-up.ie/calendar-listing/little-twinkles-parent-toddler-group-tullamore-frc/2029-04-04/
LOCATION:Arden View Family Resource Centre
CATEGORIES:Offaly
END:VEVENT
BEGIN:VEVENT
DTSTART;TZID=Europe/Dublin:20290406T100000
DTEND;TZID=Europe/Dublin:20290406T123000
DTSTAMP:20260420T172741
CREATED:20260210T160005Z
LAST-MODIFIED:20260210T160022Z
UID:10004434-1870164000-1870173000@open-up.ie
SUMMARY:Little Twinkles Parent Toddler Group Tullamore FRC
DESCRIPTION:Little Twinkles Parent and Toddler Group meet every Wednesday and Friday in Tullamore FRC at 10am. \nAll Welcome. \nFor more information contact Marie on 0579320598
URL:https://open-up.ie/calendar-listing/little-twinkles-parent-toddler-group-tullamore-frc/2029-04-06/
LOCATION:Arden View Family Resource Centre
CATEGORIES:Offaly
END:VEVENT
BEGIN:VEVENT
DTSTART;TZID=Europe/Dublin:20290411T100000
DTEND;TZID=Europe/Dublin:20290411T123000
DTSTAMP:20260420T172741
CREATED:20260210T160005Z
LAST-MODIFIED:20260210T160022Z
UID:10004435-1870596000-1870605000@open-up.ie
SUMMARY:Little Twinkles Parent Toddler Group Tullamore FRC
DESCRIPTION:Little Twinkles Parent and Toddler Group meet every Wednesday and Friday in Tullamore FRC at 10am. \nAll Welcome. \nFor more information contact Marie on 0579320598
URL:https://open-up.ie/calendar-listing/little-twinkles-parent-toddler-group-tullamore-frc/2029-04-11/
LOCATION:Arden View Family Resource Centre
CATEGORIES:Offaly
END:VEVENT
BEGIN:VEVENT
DTSTART;TZID=Europe/Dublin:20290413T100000
DTEND;TZID=Europe/Dublin:20290413T123000
DTSTAMP:20260420T172741
CREATED:20260210T160005Z
LAST-MODIFIED:20260210T160022Z
UID:10004436-1870768800-1870777800@open-up.ie
SUMMARY:Little Twinkles Parent Toddler Group Tullamore FRC
DESCRIPTION:Little Twinkles Parent and Toddler Group meet every Wednesday and Friday in Tullamore FRC at 10am. \nAll Welcome. \nFor more information contact Marie on 0579320598
URL:https://open-up.ie/calendar-listing/little-twinkles-parent-toddler-group-tullamore-frc/2029-04-13/
LOCATION:Arden View Family Resource Centre
CATEGORIES:Offaly
END:VEVENT
BEGIN:VEVENT
DTSTART;TZID=Europe/Dublin:20290418T100000
DTEND;TZID=Europe/Dublin:20290418T123000
DTSTAMP:20260420T172741
CREATED:20260210T160005Z
LAST-MODIFIED:20260210T160022Z
UID:10004437-1871200800-1871209800@open-up.ie
SUMMARY:Little Twinkles Parent Toddler Group Tullamore FRC
DESCRIPTION:Little Twinkles Parent and Toddler Group meet every Wednesday and Friday in Tullamore FRC at 10am. \nAll Welcome. \nFor more information contact Marie on 0579320598
URL:https://open-up.ie/calendar-listing/little-twinkles-parent-toddler-group-tullamore-frc/2029-04-18/
LOCATION:Arden View Family Resource Centre
CATEGORIES:Offaly
END:VEVENT
BEGIN:VEVENT
DTSTART;TZID=Europe/Dublin:20290420T100000
DTEND;TZID=Europe/Dublin:20290420T123000
DTSTAMP:20260420T172741
CREATED:20260210T160005Z
LAST-MODIFIED:20260210T160022Z
UID:10004438-1871373600-1871382600@open-up.ie
SUMMARY:Little Twinkles Parent Toddler Group Tullamore FRC
DESCRIPTION:Little Twinkles Parent and Toddler Group meet every Wednesday and Friday in Tullamore FRC at 10am. \nAll Welcome. \nFor more information contact Marie on 0579320598
URL:https://open-up.ie/calendar-listing/little-twinkles-parent-toddler-group-tullamore-frc/2029-04-20/
LOCATION:Arden View Family Resource Centre
CATEGORIES:Offaly
END:VEVENT
BEGIN:VEVENT
DTSTART;TZID=Europe/Dublin:20290425T100000
DTEND;TZID=Europe/Dublin:20290425T123000
DTSTAMP:20260420T172741
CREATED:20260210T160005Z
LAST-MODIFIED:20260210T160022Z
UID:10004439-1871805600-1871814600@open-up.ie
SUMMARY:Little Twinkles Parent Toddler Group Tullamore FRC
DESCRIPTION:Little Twinkles Parent and Toddler Group meet every Wednesday and Friday in Tullamore FRC at 10am. \nAll Welcome. \nFor more information contact Marie on 0579320598
URL:https://open-up.ie/calendar-listing/little-twinkles-parent-toddler-group-tullamore-frc/2029-04-25/
LOCATION:Arden View Family Resource Centre
CATEGORIES:Offaly
END:VEVENT
BEGIN:VEVENT
DTSTART;TZID=Europe/Dublin:20290427T100000
DTEND;TZID=Europe/Dublin:20290427T123000
DTSTAMP:20260420T172741
CREATED:20260210T160005Z
LAST-MODIFIED:20260210T160022Z
UID:10004440-1871978400-1871987400@open-up.ie
SUMMARY:Little Twinkles Parent Toddler Group Tullamore FRC
DESCRIPTION:Little Twinkles Parent and Toddler Group meet every Wednesday and Friday in Tullamore FRC at 10am. \nAll Welcome. \nFor more information contact Marie on 0579320598
URL:https://open-up.ie/calendar-listing/little-twinkles-parent-toddler-group-tullamore-frc/2029-04-27/
LOCATION:Arden View Family Resource Centre
CATEGORIES:Offaly
END:VEVENT
BEGIN:VEVENT
DTSTART;TZID=Europe/Dublin:20290501T093000
DTEND;TZID=Europe/Dublin:20290501T113000
DTSTAMP:20260420T172741
CREATED:20250408T094756Z
LAST-MODIFIED:20250408T124106Z
UID:10001763-1872322200-1872329400@open-up.ie
SUMMARY:Speech and Language Therapy Drop In Clinic Tullamore
DESCRIPTION:Speech and Language Therapy Drop In Clinic Tullamore \n1st TUESDAY OF EVERY MONTH \nThis Drop In Clinic operates from the Tullamore Family Resource Centre\, Arden View and not the Health Centre\, Tullamore. \nThe day has changed from a Friday to a Tuesday morning from 9:30-11:30. \nQueries with regard to the Drop in Clinic should be made to Tullamore Primary Care\, Church Avenue\, Tullamore on 057 93 19599/19598 and not Tullamore Health Centre 057 93 41301. \nDrop In Clinic Offaly Speech and Language \n 
URL:https://open-up.ie/calendar-listing/speech-and-language-therapy-drop-in-clinic-tullamore/2029-05-01/
LOCATION:Arden View Family Resource Centre
END:VEVENT
BEGIN:VEVENT
DTSTART;TZID=Europe/Dublin:20290502T100000
DTEND;TZID=Europe/Dublin:20290502T123000
DTSTAMP:20260420T172741
CREATED:20260210T160005Z
LAST-MODIFIED:20260210T160022Z
UID:10004441-1872410400-1872419400@open-up.ie
SUMMARY:Little Twinkles Parent Toddler Group Tullamore FRC
DESCRIPTION:Little Twinkles Parent and Toddler Group meet every Wednesday and Friday in Tullamore FRC at 10am. \nAll Welcome. \nFor more information contact Marie on 0579320598
URL:https://open-up.ie/calendar-listing/little-twinkles-parent-toddler-group-tullamore-frc/2029-05-02/
LOCATION:Arden View Family Resource Centre
CATEGORIES:Offaly
END:VEVENT
END:VCALENDAR