BEGIN:VCALENDAR
VERSION:2.0
PRODID:-//Open Up - ECPv6.15.20//NONSGML v1.0//EN
CALSCALE:GREGORIAN
METHOD:PUBLISH
X-WR-CALNAME:Open Up
X-ORIGINAL-URL:https://open-up.ie
X-WR-CALDESC:Events for Open Up
REFRESH-INTERVAL;VALUE=DURATION:PT1H
X-Robots-Tag:noindex
X-PUBLISHED-TTL:PT1H
BEGIN:VTIMEZONE
TZID:Europe/Dublin
BEGIN:STANDARD
TZOFFSETFROM:+0000
TZOFFSETTO:+0100
TZNAME:IST
DTSTART:20290325T010000
END:STANDARD
BEGIN:DAYLIGHT
TZOFFSETFROM:+0100
TZOFFSETTO:+0000
TZNAME:GMT
DTSTART:20291028T010000
END:DAYLIGHT
BEGIN:STANDARD
TZOFFSETFROM:+0000
TZOFFSETTO:+0100
TZNAME:IST
DTSTART:20300331T010000
END:STANDARD
BEGIN:DAYLIGHT
TZOFFSETFROM:+0100
TZOFFSETTO:+0000
TZNAME:GMT
DTSTART:20301027T010000
END:DAYLIGHT
BEGIN:STANDARD
TZOFFSETFROM:+0000
TZOFFSETTO:+0100
TZNAME:IST
DTSTART:20310330T010000
END:STANDARD
BEGIN:DAYLIGHT
TZOFFSETFROM:+0100
TZOFFSETTO:+0000
TZNAME:GMT
DTSTART:20311026T010000
END:DAYLIGHT
END:VTIMEZONE
BEGIN:VEVENT
DTSTART;TZID=Europe/Dublin:20300501T100000
DTEND;TZID=Europe/Dublin:20300501T123000
DTSTAMP:20260421T172732
CREATED:20260210T160005Z
LAST-MODIFIED:20260210T160022Z
UID:10004545-1903860000-1903869000@open-up.ie
SUMMARY:Little Twinkles Parent Toddler Group Tullamore FRC
DESCRIPTION:Little Twinkles Parent and Toddler Group meet every Wednesday and Friday in Tullamore FRC at 10am. \nAll Welcome. \nFor more information contact Marie on 0579320598
URL:https://open-up.ie/calendar-listing/little-twinkles-parent-toddler-group-tullamore-frc/2030-05-01/
LOCATION:Arden View Family Resource Centre
CATEGORIES:Offaly
END:VEVENT
BEGIN:VEVENT
DTSTART;TZID=Europe/Dublin:20300503T100000
DTEND;TZID=Europe/Dublin:20300503T123000
DTSTAMP:20260421T172732
CREATED:20260210T160005Z
LAST-MODIFIED:20260210T160022Z
UID:10004546-1904032800-1904041800@open-up.ie
SUMMARY:Little Twinkles Parent Toddler Group Tullamore FRC
DESCRIPTION:Little Twinkles Parent and Toddler Group meet every Wednesday and Friday in Tullamore FRC at 10am. \nAll Welcome. \nFor more information contact Marie on 0579320598
URL:https://open-up.ie/calendar-listing/little-twinkles-parent-toddler-group-tullamore-frc/2030-05-03/
LOCATION:Arden View Family Resource Centre
CATEGORIES:Offaly
END:VEVENT
BEGIN:VEVENT
DTSTART;TZID=Europe/Dublin:20300508T100000
DTEND;TZID=Europe/Dublin:20300508T123000
DTSTAMP:20260421T172732
CREATED:20260210T160005Z
LAST-MODIFIED:20260210T160022Z
UID:10004547-1904464800-1904473800@open-up.ie
SUMMARY:Little Twinkles Parent Toddler Group Tullamore FRC
DESCRIPTION:Little Twinkles Parent and Toddler Group meet every Wednesday and Friday in Tullamore FRC at 10am. \nAll Welcome. \nFor more information contact Marie on 0579320598
URL:https://open-up.ie/calendar-listing/little-twinkles-parent-toddler-group-tullamore-frc/2030-05-08/
LOCATION:Arden View Family Resource Centre
CATEGORIES:Offaly
END:VEVENT
BEGIN:VEVENT
DTSTART;TZID=Europe/Dublin:20300510T100000
DTEND;TZID=Europe/Dublin:20300510T123000
DTSTAMP:20260421T172732
CREATED:20260210T160005Z
LAST-MODIFIED:20260210T160022Z
UID:10004548-1904637600-1904646600@open-up.ie
SUMMARY:Little Twinkles Parent Toddler Group Tullamore FRC
DESCRIPTION:Little Twinkles Parent and Toddler Group meet every Wednesday and Friday in Tullamore FRC at 10am. \nAll Welcome. \nFor more information contact Marie on 0579320598
URL:https://open-up.ie/calendar-listing/little-twinkles-parent-toddler-group-tullamore-frc/2030-05-10/
LOCATION:Arden View Family Resource Centre
CATEGORIES:Offaly
END:VEVENT
BEGIN:VEVENT
DTSTART;TZID=Europe/Dublin:20300515T100000
DTEND;TZID=Europe/Dublin:20300515T123000
DTSTAMP:20260421T172732
CREATED:20260210T160005Z
LAST-MODIFIED:20260210T160022Z
UID:10004549-1905069600-1905078600@open-up.ie
SUMMARY:Little Twinkles Parent Toddler Group Tullamore FRC
DESCRIPTION:Little Twinkles Parent and Toddler Group meet every Wednesday and Friday in Tullamore FRC at 10am. \nAll Welcome. \nFor more information contact Marie on 0579320598
URL:https://open-up.ie/calendar-listing/little-twinkles-parent-toddler-group-tullamore-frc/2030-05-15/
LOCATION:Arden View Family Resource Centre
CATEGORIES:Offaly
END:VEVENT
BEGIN:VEVENT
DTSTART;TZID=Europe/Dublin:20300517T100000
DTEND;TZID=Europe/Dublin:20300517T123000
DTSTAMP:20260421T172732
CREATED:20260210T160005Z
LAST-MODIFIED:20260210T160022Z
UID:10004550-1905242400-1905251400@open-up.ie
SUMMARY:Little Twinkles Parent Toddler Group Tullamore FRC
DESCRIPTION:Little Twinkles Parent and Toddler Group meet every Wednesday and Friday in Tullamore FRC at 10am. \nAll Welcome. \nFor more information contact Marie on 0579320598
URL:https://open-up.ie/calendar-listing/little-twinkles-parent-toddler-group-tullamore-frc/2030-05-17/
LOCATION:Arden View Family Resource Centre
CATEGORIES:Offaly
END:VEVENT
BEGIN:VEVENT
DTSTART;TZID=Europe/Dublin:20300522T100000
DTEND;TZID=Europe/Dublin:20300522T123000
DTSTAMP:20260421T172732
CREATED:20260210T160005Z
LAST-MODIFIED:20260210T160022Z
UID:10004551-1905674400-1905683400@open-up.ie
SUMMARY:Little Twinkles Parent Toddler Group Tullamore FRC
DESCRIPTION:Little Twinkles Parent and Toddler Group meet every Wednesday and Friday in Tullamore FRC at 10am. \nAll Welcome. \nFor more information contact Marie on 0579320598
URL:https://open-up.ie/calendar-listing/little-twinkles-parent-toddler-group-tullamore-frc/2030-05-22/
LOCATION:Arden View Family Resource Centre
CATEGORIES:Offaly
END:VEVENT
BEGIN:VEVENT
DTSTART;TZID=Europe/Dublin:20300524T100000
DTEND;TZID=Europe/Dublin:20300524T123000
DTSTAMP:20260421T172732
CREATED:20260210T160005Z
LAST-MODIFIED:20260210T160022Z
UID:10004552-1905847200-1905856200@open-up.ie
SUMMARY:Little Twinkles Parent Toddler Group Tullamore FRC
DESCRIPTION:Little Twinkles Parent and Toddler Group meet every Wednesday and Friday in Tullamore FRC at 10am. \nAll Welcome. \nFor more information contact Marie on 0579320598
URL:https://open-up.ie/calendar-listing/little-twinkles-parent-toddler-group-tullamore-frc/2030-05-24/
LOCATION:Arden View Family Resource Centre
CATEGORIES:Offaly
END:VEVENT
BEGIN:VEVENT
DTSTART;TZID=Europe/Dublin:20300529T100000
DTEND;TZID=Europe/Dublin:20300529T123000
DTSTAMP:20260421T172732
CREATED:20260210T160005Z
LAST-MODIFIED:20260210T160022Z
UID:10004553-1906279200-1906288200@open-up.ie
SUMMARY:Little Twinkles Parent Toddler Group Tullamore FRC
DESCRIPTION:Little Twinkles Parent and Toddler Group meet every Wednesday and Friday in Tullamore FRC at 10am. \nAll Welcome. \nFor more information contact Marie on 0579320598
URL:https://open-up.ie/calendar-listing/little-twinkles-parent-toddler-group-tullamore-frc/2030-05-29/
LOCATION:Arden View Family Resource Centre
CATEGORIES:Offaly
END:VEVENT
BEGIN:VEVENT
DTSTART;TZID=Europe/Dublin:20300531T100000
DTEND;TZID=Europe/Dublin:20300531T123000
DTSTAMP:20260421T172732
CREATED:20260210T160005Z
LAST-MODIFIED:20260210T160022Z
UID:10004554-1906452000-1906461000@open-up.ie
SUMMARY:Little Twinkles Parent Toddler Group Tullamore FRC
DESCRIPTION:Little Twinkles Parent and Toddler Group meet every Wednesday and Friday in Tullamore FRC at 10am. \nAll Welcome. \nFor more information contact Marie on 0579320598
URL:https://open-up.ie/calendar-listing/little-twinkles-parent-toddler-group-tullamore-frc/2030-05-31/
LOCATION:Arden View Family Resource Centre
CATEGORIES:Offaly
END:VEVENT
BEGIN:VEVENT
DTSTART;TZID=Europe/Dublin:20300605T100000
DTEND;TZID=Europe/Dublin:20300605T123000
DTSTAMP:20260421T172732
CREATED:20260210T160005Z
LAST-MODIFIED:20260210T160022Z
UID:10004555-1906884000-1906893000@open-up.ie
SUMMARY:Little Twinkles Parent Toddler Group Tullamore FRC
DESCRIPTION:Little Twinkles Parent and Toddler Group meet every Wednesday and Friday in Tullamore FRC at 10am. \nAll Welcome. \nFor more information contact Marie on 0579320598
URL:https://open-up.ie/calendar-listing/little-twinkles-parent-toddler-group-tullamore-frc/2030-06-05/
LOCATION:Arden View Family Resource Centre
CATEGORIES:Offaly
END:VEVENT
BEGIN:VEVENT
DTSTART;TZID=Europe/Dublin:20300607T100000
DTEND;TZID=Europe/Dublin:20300607T123000
DTSTAMP:20260421T172732
CREATED:20260210T160005Z
LAST-MODIFIED:20260210T160022Z
UID:10004556-1907056800-1907065800@open-up.ie
SUMMARY:Little Twinkles Parent Toddler Group Tullamore FRC
DESCRIPTION:Little Twinkles Parent and Toddler Group meet every Wednesday and Friday in Tullamore FRC at 10am. \nAll Welcome. \nFor more information contact Marie on 0579320598
URL:https://open-up.ie/calendar-listing/little-twinkles-parent-toddler-group-tullamore-frc/2030-06-07/
LOCATION:Arden View Family Resource Centre
CATEGORIES:Offaly
END:VEVENT
BEGIN:VEVENT
DTSTART;TZID=Europe/Dublin:20300612T100000
DTEND;TZID=Europe/Dublin:20300612T123000
DTSTAMP:20260421T172732
CREATED:20260210T160005Z
LAST-MODIFIED:20260210T160022Z
UID:10004557-1907488800-1907497800@open-up.ie
SUMMARY:Little Twinkles Parent Toddler Group Tullamore FRC
DESCRIPTION:Little Twinkles Parent and Toddler Group meet every Wednesday and Friday in Tullamore FRC at 10am. \nAll Welcome. \nFor more information contact Marie on 0579320598
URL:https://open-up.ie/calendar-listing/little-twinkles-parent-toddler-group-tullamore-frc/2030-06-12/
LOCATION:Arden View Family Resource Centre
CATEGORIES:Offaly
END:VEVENT
BEGIN:VEVENT
DTSTART;TZID=Europe/Dublin:20300614T100000
DTEND;TZID=Europe/Dublin:20300614T123000
DTSTAMP:20260421T172732
CREATED:20260210T160005Z
LAST-MODIFIED:20260210T160022Z
UID:10004558-1907661600-1907670600@open-up.ie
SUMMARY:Little Twinkles Parent Toddler Group Tullamore FRC
DESCRIPTION:Little Twinkles Parent and Toddler Group meet every Wednesday and Friday in Tullamore FRC at 10am. \nAll Welcome. \nFor more information contact Marie on 0579320598
URL:https://open-up.ie/calendar-listing/little-twinkles-parent-toddler-group-tullamore-frc/2030-06-14/
LOCATION:Arden View Family Resource Centre
CATEGORIES:Offaly
END:VEVENT
BEGIN:VEVENT
DTSTART;TZID=Europe/Dublin:20300619T100000
DTEND;TZID=Europe/Dublin:20300619T123000
DTSTAMP:20260421T172732
CREATED:20260210T160005Z
LAST-MODIFIED:20260210T160022Z
UID:10004559-1908093600-1908102600@open-up.ie
SUMMARY:Little Twinkles Parent Toddler Group Tullamore FRC
DESCRIPTION:Little Twinkles Parent and Toddler Group meet every Wednesday and Friday in Tullamore FRC at 10am. \nAll Welcome. \nFor more information contact Marie on 0579320598
URL:https://open-up.ie/calendar-listing/little-twinkles-parent-toddler-group-tullamore-frc/2030-06-19/
LOCATION:Arden View Family Resource Centre
CATEGORIES:Offaly
END:VEVENT
BEGIN:VEVENT
DTSTART;TZID=Europe/Dublin:20300621T100000
DTEND;TZID=Europe/Dublin:20300621T123000
DTSTAMP:20260421T172732
CREATED:20260210T160005Z
LAST-MODIFIED:20260210T160022Z
UID:10004560-1908266400-1908275400@open-up.ie
SUMMARY:Little Twinkles Parent Toddler Group Tullamore FRC
DESCRIPTION:Little Twinkles Parent and Toddler Group meet every Wednesday and Friday in Tullamore FRC at 10am. \nAll Welcome. \nFor more information contact Marie on 0579320598
URL:https://open-up.ie/calendar-listing/little-twinkles-parent-toddler-group-tullamore-frc/2030-06-21/
LOCATION:Arden View Family Resource Centre
CATEGORIES:Offaly
END:VEVENT
BEGIN:VEVENT
DTSTART;TZID=Europe/Dublin:20300626T100000
DTEND;TZID=Europe/Dublin:20300626T123000
DTSTAMP:20260421T172732
CREATED:20260210T160005Z
LAST-MODIFIED:20260210T160022Z
UID:10004561-1908698400-1908707400@open-up.ie
SUMMARY:Little Twinkles Parent Toddler Group Tullamore FRC
DESCRIPTION:Little Twinkles Parent and Toddler Group meet every Wednesday and Friday in Tullamore FRC at 10am. \nAll Welcome. \nFor more information contact Marie on 0579320598
URL:https://open-up.ie/calendar-listing/little-twinkles-parent-toddler-group-tullamore-frc/2030-06-26/
LOCATION:Arden View Family Resource Centre
CATEGORIES:Offaly
END:VEVENT
BEGIN:VEVENT
DTSTART;TZID=Europe/Dublin:20300628T100000
DTEND;TZID=Europe/Dublin:20300628T123000
DTSTAMP:20260421T172732
CREATED:20260210T160005Z
LAST-MODIFIED:20260210T160022Z
UID:10004562-1908871200-1908880200@open-up.ie
SUMMARY:Little Twinkles Parent Toddler Group Tullamore FRC
DESCRIPTION:Little Twinkles Parent and Toddler Group meet every Wednesday and Friday in Tullamore FRC at 10am. \nAll Welcome. \nFor more information contact Marie on 0579320598
URL:https://open-up.ie/calendar-listing/little-twinkles-parent-toddler-group-tullamore-frc/2030-06-28/
LOCATION:Arden View Family Resource Centre
CATEGORIES:Offaly
END:VEVENT
BEGIN:VEVENT
DTSTART;TZID=Europe/Dublin:20300703T100000
DTEND;TZID=Europe/Dublin:20300703T123000
DTSTAMP:20260421T172732
CREATED:20260210T160005Z
LAST-MODIFIED:20260210T160022Z
UID:10004563-1909303200-1909312200@open-up.ie
SUMMARY:Little Twinkles Parent Toddler Group Tullamore FRC
DESCRIPTION:Little Twinkles Parent and Toddler Group meet every Wednesday and Friday in Tullamore FRC at 10am. \nAll Welcome. \nFor more information contact Marie on 0579320598
URL:https://open-up.ie/calendar-listing/little-twinkles-parent-toddler-group-tullamore-frc/2030-07-03/
LOCATION:Arden View Family Resource Centre
CATEGORIES:Offaly
END:VEVENT
BEGIN:VEVENT
DTSTART;TZID=Europe/Dublin:20300705T100000
DTEND;TZID=Europe/Dublin:20300705T123000
DTSTAMP:20260421T172732
CREATED:20260210T160005Z
LAST-MODIFIED:20260210T160022Z
UID:10004564-1909476000-1909485000@open-up.ie
SUMMARY:Little Twinkles Parent Toddler Group Tullamore FRC
DESCRIPTION:Little Twinkles Parent and Toddler Group meet every Wednesday and Friday in Tullamore FRC at 10am. \nAll Welcome. \nFor more information contact Marie on 0579320598
URL:https://open-up.ie/calendar-listing/little-twinkles-parent-toddler-group-tullamore-frc/2030-07-05/
LOCATION:Arden View Family Resource Centre
CATEGORIES:Offaly
END:VEVENT
BEGIN:VEVENT
DTSTART;TZID=Europe/Dublin:20300710T100000
DTEND;TZID=Europe/Dublin:20300710T123000
DTSTAMP:20260421T172732
CREATED:20260210T160005Z
LAST-MODIFIED:20260210T160022Z
UID:10004565-1909908000-1909917000@open-up.ie
SUMMARY:Little Twinkles Parent Toddler Group Tullamore FRC
DESCRIPTION:Little Twinkles Parent and Toddler Group meet every Wednesday and Friday in Tullamore FRC at 10am. \nAll Welcome. \nFor more information contact Marie on 0579320598
URL:https://open-up.ie/calendar-listing/little-twinkles-parent-toddler-group-tullamore-frc/2030-07-10/
LOCATION:Arden View Family Resource Centre
CATEGORIES:Offaly
END:VEVENT
BEGIN:VEVENT
DTSTART;TZID=Europe/Dublin:20300712T100000
DTEND;TZID=Europe/Dublin:20300712T123000
DTSTAMP:20260421T172733
CREATED:20260210T160005Z
LAST-MODIFIED:20260210T160022Z
UID:10004566-1910080800-1910089800@open-up.ie
SUMMARY:Little Twinkles Parent Toddler Group Tullamore FRC
DESCRIPTION:Little Twinkles Parent and Toddler Group meet every Wednesday and Friday in Tullamore FRC at 10am. \nAll Welcome. \nFor more information contact Marie on 0579320598
URL:https://open-up.ie/calendar-listing/little-twinkles-parent-toddler-group-tullamore-frc/2030-07-12/
LOCATION:Arden View Family Resource Centre
CATEGORIES:Offaly
END:VEVENT
BEGIN:VEVENT
DTSTART;TZID=Europe/Dublin:20300717T100000
DTEND;TZID=Europe/Dublin:20300717T123000
DTSTAMP:20260421T172733
CREATED:20260210T160005Z
LAST-MODIFIED:20260210T160022Z
UID:10004567-1910512800-1910521800@open-up.ie
SUMMARY:Little Twinkles Parent Toddler Group Tullamore FRC
DESCRIPTION:Little Twinkles Parent and Toddler Group meet every Wednesday and Friday in Tullamore FRC at 10am. \nAll Welcome. \nFor more information contact Marie on 0579320598
URL:https://open-up.ie/calendar-listing/little-twinkles-parent-toddler-group-tullamore-frc/2030-07-17/
LOCATION:Arden View Family Resource Centre
CATEGORIES:Offaly
END:VEVENT
BEGIN:VEVENT
DTSTART;TZID=Europe/Dublin:20300719T100000
DTEND;TZID=Europe/Dublin:20300719T123000
DTSTAMP:20260421T172733
CREATED:20260210T160005Z
LAST-MODIFIED:20260210T160022Z
UID:10004568-1910685600-1910694600@open-up.ie
SUMMARY:Little Twinkles Parent Toddler Group Tullamore FRC
DESCRIPTION:Little Twinkles Parent and Toddler Group meet every Wednesday and Friday in Tullamore FRC at 10am. \nAll Welcome. \nFor more information contact Marie on 0579320598
URL:https://open-up.ie/calendar-listing/little-twinkles-parent-toddler-group-tullamore-frc/2030-07-19/
LOCATION:Arden View Family Resource Centre
CATEGORIES:Offaly
END:VEVENT
BEGIN:VEVENT
DTSTART;TZID=Europe/Dublin:20300724T100000
DTEND;TZID=Europe/Dublin:20300724T123000
DTSTAMP:20260421T172733
CREATED:20260210T160005Z
LAST-MODIFIED:20260210T160022Z
UID:10004569-1911117600-1911126600@open-up.ie
SUMMARY:Little Twinkles Parent Toddler Group Tullamore FRC
DESCRIPTION:Little Twinkles Parent and Toddler Group meet every Wednesday and Friday in Tullamore FRC at 10am. \nAll Welcome. \nFor more information contact Marie on 0579320598
URL:https://open-up.ie/calendar-listing/little-twinkles-parent-toddler-group-tullamore-frc/2030-07-24/
LOCATION:Arden View Family Resource Centre
CATEGORIES:Offaly
END:VEVENT
BEGIN:VEVENT
DTSTART;TZID=Europe/Dublin:20300726T100000
DTEND;TZID=Europe/Dublin:20300726T123000
DTSTAMP:20260421T172733
CREATED:20260210T160005Z
LAST-MODIFIED:20260210T160022Z
UID:10004570-1911290400-1911299400@open-up.ie
SUMMARY:Little Twinkles Parent Toddler Group Tullamore FRC
DESCRIPTION:Little Twinkles Parent and Toddler Group meet every Wednesday and Friday in Tullamore FRC at 10am. \nAll Welcome. \nFor more information contact Marie on 0579320598
URL:https://open-up.ie/calendar-listing/little-twinkles-parent-toddler-group-tullamore-frc/2030-07-26/
LOCATION:Arden View Family Resource Centre
CATEGORIES:Offaly
END:VEVENT
BEGIN:VEVENT
DTSTART;TZID=Europe/Dublin:20300731T100000
DTEND;TZID=Europe/Dublin:20300731T123000
DTSTAMP:20260421T172733
CREATED:20260210T160005Z
LAST-MODIFIED:20260210T160022Z
UID:10004571-1911722400-1911731400@open-up.ie
SUMMARY:Little Twinkles Parent Toddler Group Tullamore FRC
DESCRIPTION:Little Twinkles Parent and Toddler Group meet every Wednesday and Friday in Tullamore FRC at 10am. \nAll Welcome. \nFor more information contact Marie on 0579320598
URL:https://open-up.ie/calendar-listing/little-twinkles-parent-toddler-group-tullamore-frc/2030-07-31/
LOCATION:Arden View Family Resource Centre
CATEGORIES:Offaly
END:VEVENT
BEGIN:VEVENT
DTSTART;TZID=Europe/Dublin:20300802T100000
DTEND;TZID=Europe/Dublin:20300802T123000
DTSTAMP:20260421T172733
CREATED:20260210T160005Z
LAST-MODIFIED:20260210T160022Z
UID:10004572-1911895200-1911904200@open-up.ie
SUMMARY:Little Twinkles Parent Toddler Group Tullamore FRC
DESCRIPTION:Little Twinkles Parent and Toddler Group meet every Wednesday and Friday in Tullamore FRC at 10am. \nAll Welcome. \nFor more information contact Marie on 0579320598
URL:https://open-up.ie/calendar-listing/little-twinkles-parent-toddler-group-tullamore-frc/2030-08-02/
LOCATION:Arden View Family Resource Centre
CATEGORIES:Offaly
END:VEVENT
BEGIN:VEVENT
DTSTART;TZID=Europe/Dublin:20300807T100000
DTEND;TZID=Europe/Dublin:20300807T123000
DTSTAMP:20260421T172733
CREATED:20260210T160005Z
LAST-MODIFIED:20260210T160022Z
UID:10004573-1912327200-1912336200@open-up.ie
SUMMARY:Little Twinkles Parent Toddler Group Tullamore FRC
DESCRIPTION:Little Twinkles Parent and Toddler Group meet every Wednesday and Friday in Tullamore FRC at 10am. \nAll Welcome. \nFor more information contact Marie on 0579320598
URL:https://open-up.ie/calendar-listing/little-twinkles-parent-toddler-group-tullamore-frc/2030-08-07/
LOCATION:Arden View Family Resource Centre
CATEGORIES:Offaly
END:VEVENT
BEGIN:VEVENT
DTSTART;TZID=Europe/Dublin:20300809T100000
DTEND;TZID=Europe/Dublin:20300809T123000
DTSTAMP:20260421T172733
CREATED:20260210T160005Z
LAST-MODIFIED:20260210T160022Z
UID:10004574-1912500000-1912509000@open-up.ie
SUMMARY:Little Twinkles Parent Toddler Group Tullamore FRC
DESCRIPTION:Little Twinkles Parent and Toddler Group meet every Wednesday and Friday in Tullamore FRC at 10am. \nAll Welcome. \nFor more information contact Marie on 0579320598
URL:https://open-up.ie/calendar-listing/little-twinkles-parent-toddler-group-tullamore-frc/2030-08-09/
LOCATION:Arden View Family Resource Centre
CATEGORIES:Offaly
END:VEVENT
END:VCALENDAR