BEGIN:VCALENDAR
VERSION:2.0
PRODID:-//Open Up - ECPv6.15.20//NONSGML v1.0//EN
CALSCALE:GREGORIAN
METHOD:PUBLISH
X-WR-CALNAME:Open Up
X-ORIGINAL-URL:https://open-up.ie
X-WR-CALDESC:Events for Open Up
REFRESH-INTERVAL;VALUE=DURATION:PT1H
X-Robots-Tag:noindex
X-PUBLISHED-TTL:PT1H
BEGIN:VTIMEZONE
TZID:Europe/Dublin
BEGIN:STANDARD
TZOFFSETFROM:+0000
TZOFFSETTO:+0100
TZNAME:IST
DTSTART:20300331T010000
END:STANDARD
BEGIN:DAYLIGHT
TZOFFSETFROM:+0100
TZOFFSETTO:+0000
TZNAME:GMT
DTSTART:20301027T010000
END:DAYLIGHT
BEGIN:STANDARD
TZOFFSETFROM:+0000
TZOFFSETTO:+0100
TZNAME:IST
DTSTART:20310330T010000
END:STANDARD
BEGIN:DAYLIGHT
TZOFFSETFROM:+0100
TZOFFSETTO:+0000
TZNAME:GMT
DTSTART:20311026T010000
END:DAYLIGHT
BEGIN:STANDARD
TZOFFSETFROM:+0000
TZOFFSETTO:+0100
TZNAME:IST
DTSTART:20320328T010000
END:STANDARD
BEGIN:DAYLIGHT
TZOFFSETFROM:+0100
TZOFFSETTO:+0000
TZNAME:GMT
DTSTART:20321031T010000
END:DAYLIGHT
END:VTIMEZONE
BEGIN:VEVENT
DTSTART;TZID=Europe/Dublin:20310115T100000
DTEND;TZID=Europe/Dublin:20310115T123000
DTSTAMP:20260424T134600
CREATED:20260210T160005Z
LAST-MODIFIED:20260210T160022Z
UID:10004619-1926237600-1926246600@open-up.ie
SUMMARY:Little Twinkles Parent Toddler Group Tullamore FRC
DESCRIPTION:Little Twinkles Parent and Toddler Group meet every Wednesday and Friday in Tullamore FRC at 10am. \nAll Welcome. \nFor more information contact Marie on 0579320598
URL:https://open-up.ie/calendar-listing/little-twinkles-parent-toddler-group-tullamore-frc/2031-01-15/
LOCATION:Arden View Family Resource Centre
CATEGORIES:Offaly
END:VEVENT
BEGIN:VEVENT
DTSTART;TZID=Europe/Dublin:20310117T100000
DTEND;TZID=Europe/Dublin:20310117T123000
DTSTAMP:20260424T134600
CREATED:20260210T160005Z
LAST-MODIFIED:20260210T160022Z
UID:10004620-1926410400-1926419400@open-up.ie
SUMMARY:Little Twinkles Parent Toddler Group Tullamore FRC
DESCRIPTION:Little Twinkles Parent and Toddler Group meet every Wednesday and Friday in Tullamore FRC at 10am. \nAll Welcome. \nFor more information contact Marie on 0579320598
URL:https://open-up.ie/calendar-listing/little-twinkles-parent-toddler-group-tullamore-frc/2031-01-17/
LOCATION:Arden View Family Resource Centre
CATEGORIES:Offaly
END:VEVENT
BEGIN:VEVENT
DTSTART;TZID=Europe/Dublin:20310122T100000
DTEND;TZID=Europe/Dublin:20310122T123000
DTSTAMP:20260424T134600
CREATED:20260210T160005Z
LAST-MODIFIED:20260210T160022Z
UID:10004621-1926842400-1926851400@open-up.ie
SUMMARY:Little Twinkles Parent Toddler Group Tullamore FRC
DESCRIPTION:Little Twinkles Parent and Toddler Group meet every Wednesday and Friday in Tullamore FRC at 10am. \nAll Welcome. \nFor more information contact Marie on 0579320598
URL:https://open-up.ie/calendar-listing/little-twinkles-parent-toddler-group-tullamore-frc/2031-01-22/
LOCATION:Arden View Family Resource Centre
CATEGORIES:Offaly
END:VEVENT
BEGIN:VEVENT
DTSTART;TZID=Europe/Dublin:20310124T100000
DTEND;TZID=Europe/Dublin:20310124T123000
DTSTAMP:20260424T134600
CREATED:20260210T160005Z
LAST-MODIFIED:20260210T160022Z
UID:10004622-1927015200-1927024200@open-up.ie
SUMMARY:Little Twinkles Parent Toddler Group Tullamore FRC
DESCRIPTION:Little Twinkles Parent and Toddler Group meet every Wednesday and Friday in Tullamore FRC at 10am. \nAll Welcome. \nFor more information contact Marie on 0579320598
URL:https://open-up.ie/calendar-listing/little-twinkles-parent-toddler-group-tullamore-frc/2031-01-24/
LOCATION:Arden View Family Resource Centre
CATEGORIES:Offaly
END:VEVENT
BEGIN:VEVENT
DTSTART;TZID=Europe/Dublin:20310129T100000
DTEND;TZID=Europe/Dublin:20310129T123000
DTSTAMP:20260424T134600
CREATED:20260210T160005Z
LAST-MODIFIED:20260210T160022Z
UID:10004623-1927447200-1927456200@open-up.ie
SUMMARY:Little Twinkles Parent Toddler Group Tullamore FRC
DESCRIPTION:Little Twinkles Parent and Toddler Group meet every Wednesday and Friday in Tullamore FRC at 10am. \nAll Welcome. \nFor more information contact Marie on 0579320598
URL:https://open-up.ie/calendar-listing/little-twinkles-parent-toddler-group-tullamore-frc/2031-01-29/
LOCATION:Arden View Family Resource Centre
CATEGORIES:Offaly
END:VEVENT
BEGIN:VEVENT
DTSTART;TZID=Europe/Dublin:20310131T100000
DTEND;TZID=Europe/Dublin:20310131T123000
DTSTAMP:20260424T134600
CREATED:20260210T160005Z
LAST-MODIFIED:20260210T160022Z
UID:10004624-1927620000-1927629000@open-up.ie
SUMMARY:Little Twinkles Parent Toddler Group Tullamore FRC
DESCRIPTION:Little Twinkles Parent and Toddler Group meet every Wednesday and Friday in Tullamore FRC at 10am. \nAll Welcome. \nFor more information contact Marie on 0579320598
URL:https://open-up.ie/calendar-listing/little-twinkles-parent-toddler-group-tullamore-frc/2031-01-31/
LOCATION:Arden View Family Resource Centre
CATEGORIES:Offaly
END:VEVENT
BEGIN:VEVENT
DTSTART;TZID=Europe/Dublin:20310205T100000
DTEND;TZID=Europe/Dublin:20310205T123000
DTSTAMP:20260424T134600
CREATED:20260210T160005Z
LAST-MODIFIED:20260210T160022Z
UID:10004625-1928052000-1928061000@open-up.ie
SUMMARY:Little Twinkles Parent Toddler Group Tullamore FRC
DESCRIPTION:Little Twinkles Parent and Toddler Group meet every Wednesday and Friday in Tullamore FRC at 10am. \nAll Welcome. \nFor more information contact Marie on 0579320598
URL:https://open-up.ie/calendar-listing/little-twinkles-parent-toddler-group-tullamore-frc/2031-02-05/
LOCATION:Arden View Family Resource Centre
CATEGORIES:Offaly
END:VEVENT
BEGIN:VEVENT
DTSTART;TZID=Europe/Dublin:20310207T100000
DTEND;TZID=Europe/Dublin:20310207T123000
DTSTAMP:20260424T134600
CREATED:20260210T160005Z
LAST-MODIFIED:20260210T160022Z
UID:10004626-1928224800-1928233800@open-up.ie
SUMMARY:Little Twinkles Parent Toddler Group Tullamore FRC
DESCRIPTION:Little Twinkles Parent and Toddler Group meet every Wednesday and Friday in Tullamore FRC at 10am. \nAll Welcome. \nFor more information contact Marie on 0579320598
URL:https://open-up.ie/calendar-listing/little-twinkles-parent-toddler-group-tullamore-frc/2031-02-07/
LOCATION:Arden View Family Resource Centre
CATEGORIES:Offaly
END:VEVENT
END:VCALENDAR