BEGIN:VCALENDAR
VERSION:2.0
PRODID:-//Open Up - ECPv6.15.20//NONSGML v1.0//EN
CALSCALE:GREGORIAN
METHOD:PUBLISH
X-WR-CALNAME:Open Up
X-ORIGINAL-URL:https://open-up.ie
X-WR-CALDESC:Events for Open Up
REFRESH-INTERVAL;VALUE=DURATION:PT1H
X-Robots-Tag:noindex
X-PUBLISHED-TTL:PT1H
BEGIN:VTIMEZONE
TZID:Europe/Dublin
BEGIN:STANDARD
TZOFFSETFROM:+0000
TZOFFSETTO:+0100
TZNAME:IST
DTSTART:20240331T010000
END:STANDARD
BEGIN:DAYLIGHT
TZOFFSETFROM:+0100
TZOFFSETTO:+0000
TZNAME:GMT
DTSTART:20241027T010000
END:DAYLIGHT
BEGIN:STANDARD
TZOFFSETFROM:+0000
TZOFFSETTO:+0100
TZNAME:IST
DTSTART:20250330T010000
END:STANDARD
BEGIN:DAYLIGHT
TZOFFSETFROM:+0100
TZOFFSETTO:+0000
TZNAME:GMT
DTSTART:20251026T010000
END:DAYLIGHT
BEGIN:STANDARD
TZOFFSETFROM:+0000
TZOFFSETTO:+0100
TZNAME:IST
DTSTART:20260329T010000
END:STANDARD
BEGIN:DAYLIGHT
TZOFFSETFROM:+0100
TZOFFSETTO:+0000
TZNAME:GMT
DTSTART:20261025T010000
END:DAYLIGHT
END:VTIMEZONE
BEGIN:VEVENT
DTSTART;TZID=Europe/Dublin:20251210T190000
DTEND;TZID=Europe/Dublin:20251210T200000
DTSTAMP:20260420T101304
CREATED:20251201T130436Z
LAST-MODIFIED:20251201T130436Z
UID:10002051-1765393200-1765396800@open-up.ie
SUMMARY:Community Christmas Remembrance Event - Portlaoise Family Resource Centre
DESCRIPTION:Community Christmas Remembrance Event \nPortlaoise Family Resource Centre\, Treo Nua Building \nWednesday 10th December at 7pm \nAll welcome\, come along and place the name of your loved one on the Christmas tree\, choir will sing\, reflections\, light refreshments provided
URL:https://open-up.ie/calendar-listing/community-christmas-remembrance-event-portlaoise-family-resource-centre/
LOCATION:Treo Nua Resource Centre\, Harpur's Ln\, Knockmay\, Portlaoise\, Co. Laois\, Portlaoise\, Ireland
CATEGORIES:Laois
END:VEVENT
END:VCALENDAR