BEGIN:VCALENDAR
VERSION:2.0
PRODID:-//Open Up - ECPv6.15.20//NONSGML v1.0//EN
CALSCALE:GREGORIAN
METHOD:PUBLISH
X-WR-CALNAME:Open Up
X-ORIGINAL-URL:https://open-up.ie
X-WR-CALDESC:Events for Open Up
REFRESH-INTERVAL;VALUE=DURATION:PT1H
X-Robots-Tag:noindex
X-PUBLISHED-TTL:PT1H
BEGIN:VTIMEZONE
TZID:Europe/Dublin
BEGIN:STANDARD
TZOFFSETFROM:+0000
TZOFFSETTO:+0100
TZNAME:IST
DTSTART:20280326T010000
END:STANDARD
BEGIN:DAYLIGHT
TZOFFSETFROM:+0100
TZOFFSETTO:+0000
TZNAME:GMT
DTSTART:20281029T010000
END:DAYLIGHT
BEGIN:STANDARD
TZOFFSETFROM:+0000
TZOFFSETTO:+0100
TZNAME:IST
DTSTART:20290325T010000
END:STANDARD
BEGIN:DAYLIGHT
TZOFFSETFROM:+0100
TZOFFSETTO:+0000
TZNAME:GMT
DTSTART:20291028T010000
END:DAYLIGHT
BEGIN:STANDARD
TZOFFSETFROM:+0000
TZOFFSETTO:+0100
TZNAME:IST
DTSTART:20300331T010000
END:STANDARD
BEGIN:DAYLIGHT
TZOFFSETFROM:+0100
TZOFFSETTO:+0000
TZNAME:GMT
DTSTART:20301027T010000
END:DAYLIGHT
END:VTIMEZONE
BEGIN:VEVENT
DTSTART;TZID=Europe/Dublin:20290123T190000
DTEND;TZID=Europe/Dublin:20290123T200000
DTSTAMP:20260419T133650
CREATED:20250224T110437Z
LAST-MODIFIED:20250224T110606Z
UID:10001345-1863889200-1863892800@open-up.ie
SUMMARY:ESKER COMMUNITY - Kulele Orchestra
DESCRIPTION:Esker Community ‘kulele Orchestra is a community music group based in Esker Arts in Tullamore and is open to all\, young and old\, and we are always looking for new members who would like to come along and join in the fun of making music together. All instruments and singers are welcome. \n 
URL:https://open-up.ie/calendar-listing/esker-community-kulele-orchestra/2029-01-23/
LOCATION:Tullamore
END:VEVENT
BEGIN:VEVENT
DTSTART;TZID=Europe/Dublin:20290130T190000
DTEND;TZID=Europe/Dublin:20290130T200000
DTSTAMP:20260419T133650
CREATED:20250224T110437Z
LAST-MODIFIED:20250224T110606Z
UID:10001346-1864494000-1864497600@open-up.ie
SUMMARY:ESKER COMMUNITY - Kulele Orchestra
DESCRIPTION:Esker Community ‘kulele Orchestra is a community music group based in Esker Arts in Tullamore and is open to all\, young and old\, and we are always looking for new members who would like to come along and join in the fun of making music together. All instruments and singers are welcome. \n 
URL:https://open-up.ie/calendar-listing/esker-community-kulele-orchestra/2029-01-30/
LOCATION:Tullamore
END:VEVENT
BEGIN:VEVENT
DTSTART;TZID=Europe/Dublin:20290206T190000
DTEND;TZID=Europe/Dublin:20290206T200000
DTSTAMP:20260419T133651
CREATED:20250224T110437Z
LAST-MODIFIED:20250224T110606Z
UID:10001347-1865098800-1865102400@open-up.ie
SUMMARY:ESKER COMMUNITY - Kulele Orchestra
DESCRIPTION:Esker Community ‘kulele Orchestra is a community music group based in Esker Arts in Tullamore and is open to all\, young and old\, and we are always looking for new members who would like to come along and join in the fun of making music together. All instruments and singers are welcome. \n 
URL:https://open-up.ie/calendar-listing/esker-community-kulele-orchestra/2029-02-06/
LOCATION:Tullamore
END:VEVENT
BEGIN:VEVENT
DTSTART;TZID=Europe/Dublin:20290213T190000
DTEND;TZID=Europe/Dublin:20290213T200000
DTSTAMP:20260419T133651
CREATED:20250224T110437Z
LAST-MODIFIED:20250224T110606Z
UID:10001348-1865703600-1865707200@open-up.ie
SUMMARY:ESKER COMMUNITY - Kulele Orchestra
DESCRIPTION:Esker Community ‘kulele Orchestra is a community music group based in Esker Arts in Tullamore and is open to all\, young and old\, and we are always looking for new members who would like to come along and join in the fun of making music together. All instruments and singers are welcome. \n 
URL:https://open-up.ie/calendar-listing/esker-community-kulele-orchestra/2029-02-13/
LOCATION:Tullamore
END:VEVENT
BEGIN:VEVENT
DTSTART;TZID=Europe/Dublin:20290220T190000
DTEND;TZID=Europe/Dublin:20290220T200000
DTSTAMP:20260419T133651
CREATED:20250224T110437Z
LAST-MODIFIED:20250224T110606Z
UID:10001349-1866308400-1866312000@open-up.ie
SUMMARY:ESKER COMMUNITY - Kulele Orchestra
DESCRIPTION:Esker Community ‘kulele Orchestra is a community music group based in Esker Arts in Tullamore and is open to all\, young and old\, and we are always looking for new members who would like to come along and join in the fun of making music together. All instruments and singers are welcome. \n 
URL:https://open-up.ie/calendar-listing/esker-community-kulele-orchestra/2029-02-20/
LOCATION:Tullamore
END:VEVENT
BEGIN:VEVENT
DTSTART;TZID=Europe/Dublin:20290227T190000
DTEND;TZID=Europe/Dublin:20290227T200000
DTSTAMP:20260419T133651
CREATED:20250224T110437Z
LAST-MODIFIED:20250224T110606Z
UID:10001350-1866913200-1866916800@open-up.ie
SUMMARY:ESKER COMMUNITY - Kulele Orchestra
DESCRIPTION:Esker Community ‘kulele Orchestra is a community music group based in Esker Arts in Tullamore and is open to all\, young and old\, and we are always looking for new members who would like to come along and join in the fun of making music together. All instruments and singers are welcome. \n 
URL:https://open-up.ie/calendar-listing/esker-community-kulele-orchestra/2029-02-27/
LOCATION:Tullamore
END:VEVENT
BEGIN:VEVENT
DTSTART;TZID=Europe/Dublin:20290306T190000
DTEND;TZID=Europe/Dublin:20290306T200000
DTSTAMP:20260419T133651
CREATED:20250224T110437Z
LAST-MODIFIED:20250224T110606Z
UID:10001351-1867518000-1867521600@open-up.ie
SUMMARY:ESKER COMMUNITY - Kulele Orchestra
DESCRIPTION:Esker Community ‘kulele Orchestra is a community music group based in Esker Arts in Tullamore and is open to all\, young and old\, and we are always looking for new members who would like to come along and join in the fun of making music together. All instruments and singers are welcome. \n 
URL:https://open-up.ie/calendar-listing/esker-community-kulele-orchestra/2029-03-06/
LOCATION:Tullamore
END:VEVENT
BEGIN:VEVENT
DTSTART;TZID=Europe/Dublin:20290313T190000
DTEND;TZID=Europe/Dublin:20290313T200000
DTSTAMP:20260419T133651
CREATED:20250224T110437Z
LAST-MODIFIED:20250224T110606Z
UID:10001352-1868122800-1868126400@open-up.ie
SUMMARY:ESKER COMMUNITY - Kulele Orchestra
DESCRIPTION:Esker Community ‘kulele Orchestra is a community music group based in Esker Arts in Tullamore and is open to all\, young and old\, and we are always looking for new members who would like to come along and join in the fun of making music together. All instruments and singers are welcome. \n 
URL:https://open-up.ie/calendar-listing/esker-community-kulele-orchestra/2029-03-13/
LOCATION:Tullamore
END:VEVENT
BEGIN:VEVENT
DTSTART;TZID=Europe/Dublin:20290320T190000
DTEND;TZID=Europe/Dublin:20290320T200000
DTSTAMP:20260419T133651
CREATED:20250224T110437Z
LAST-MODIFIED:20250224T110606Z
UID:10001353-1868727600-1868731200@open-up.ie
SUMMARY:ESKER COMMUNITY - Kulele Orchestra
DESCRIPTION:Esker Community ‘kulele Orchestra is a community music group based in Esker Arts in Tullamore and is open to all\, young and old\, and we are always looking for new members who would like to come along and join in the fun of making music together. All instruments and singers are welcome. \n 
URL:https://open-up.ie/calendar-listing/esker-community-kulele-orchestra/2029-03-20/
LOCATION:Tullamore
END:VEVENT
BEGIN:VEVENT
DTSTART;TZID=Europe/Dublin:20290327T190000
DTEND;TZID=Europe/Dublin:20290327T200000
DTSTAMP:20260419T133651
CREATED:20250224T110437Z
LAST-MODIFIED:20250224T110606Z
UID:10001354-1869332400-1869336000@open-up.ie
SUMMARY:ESKER COMMUNITY - Kulele Orchestra
DESCRIPTION:Esker Community ‘kulele Orchestra is a community music group based in Esker Arts in Tullamore and is open to all\, young and old\, and we are always looking for new members who would like to come along and join in the fun of making music together. All instruments and singers are welcome. \n 
URL:https://open-up.ie/calendar-listing/esker-community-kulele-orchestra/2029-03-27/
LOCATION:Tullamore
END:VEVENT
BEGIN:VEVENT
DTSTART;TZID=Europe/Dublin:20290403T190000
DTEND;TZID=Europe/Dublin:20290403T200000
DTSTAMP:20260419T133651
CREATED:20250224T110437Z
LAST-MODIFIED:20250224T110606Z
UID:10001355-1869937200-1869940800@open-up.ie
SUMMARY:ESKER COMMUNITY - Kulele Orchestra
DESCRIPTION:Esker Community ‘kulele Orchestra is a community music group based in Esker Arts in Tullamore and is open to all\, young and old\, and we are always looking for new members who would like to come along and join in the fun of making music together. All instruments and singers are welcome. \n 
URL:https://open-up.ie/calendar-listing/esker-community-kulele-orchestra/2029-04-03/
LOCATION:Tullamore
END:VEVENT
BEGIN:VEVENT
DTSTART;TZID=Europe/Dublin:20290410T190000
DTEND;TZID=Europe/Dublin:20290410T200000
DTSTAMP:20260419T133651
CREATED:20250224T110437Z
LAST-MODIFIED:20250224T110606Z
UID:10001356-1870542000-1870545600@open-up.ie
SUMMARY:ESKER COMMUNITY - Kulele Orchestra
DESCRIPTION:Esker Community ‘kulele Orchestra is a community music group based in Esker Arts in Tullamore and is open to all\, young and old\, and we are always looking for new members who would like to come along and join in the fun of making music together. All instruments and singers are welcome. \n 
URL:https://open-up.ie/calendar-listing/esker-community-kulele-orchestra/2029-04-10/
LOCATION:Tullamore
END:VEVENT
BEGIN:VEVENT
DTSTART;TZID=Europe/Dublin:20290417T190000
DTEND;TZID=Europe/Dublin:20290417T200000
DTSTAMP:20260419T133651
CREATED:20250224T110437Z
LAST-MODIFIED:20250224T110606Z
UID:10001357-1871146800-1871150400@open-up.ie
SUMMARY:ESKER COMMUNITY - Kulele Orchestra
DESCRIPTION:Esker Community ‘kulele Orchestra is a community music group based in Esker Arts in Tullamore and is open to all\, young and old\, and we are always looking for new members who would like to come along and join in the fun of making music together. All instruments and singers are welcome. \n 
URL:https://open-up.ie/calendar-listing/esker-community-kulele-orchestra/2029-04-17/
LOCATION:Tullamore
END:VEVENT
BEGIN:VEVENT
DTSTART;TZID=Europe/Dublin:20290424T190000
DTEND;TZID=Europe/Dublin:20290424T200000
DTSTAMP:20260419T133651
CREATED:20250224T110437Z
LAST-MODIFIED:20250224T110606Z
UID:10001358-1871751600-1871755200@open-up.ie
SUMMARY:ESKER COMMUNITY - Kulele Orchestra
DESCRIPTION:Esker Community ‘kulele Orchestra is a community music group based in Esker Arts in Tullamore and is open to all\, young and old\, and we are always looking for new members who would like to come along and join in the fun of making music together. All instruments and singers are welcome. \n 
URL:https://open-up.ie/calendar-listing/esker-community-kulele-orchestra/2029-04-24/
LOCATION:Tullamore
END:VEVENT
BEGIN:VEVENT
DTSTART;TZID=Europe/Dublin:20290501T190000
DTEND;TZID=Europe/Dublin:20290501T200000
DTSTAMP:20260419T133651
CREATED:20250224T110437Z
LAST-MODIFIED:20250224T110606Z
UID:10001359-1872356400-1872360000@open-up.ie
SUMMARY:ESKER COMMUNITY - Kulele Orchestra
DESCRIPTION:Esker Community ‘kulele Orchestra is a community music group based in Esker Arts in Tullamore and is open to all\, young and old\, and we are always looking for new members who would like to come along and join in the fun of making music together. All instruments and singers are welcome. \n 
URL:https://open-up.ie/calendar-listing/esker-community-kulele-orchestra/2029-05-01/
LOCATION:Tullamore
END:VEVENT
BEGIN:VEVENT
DTSTART;TZID=Europe/Dublin:20290508T190000
DTEND;TZID=Europe/Dublin:20290508T200000
DTSTAMP:20260419T133651
CREATED:20250224T110437Z
LAST-MODIFIED:20250224T110606Z
UID:10001360-1872961200-1872964800@open-up.ie
SUMMARY:ESKER COMMUNITY - Kulele Orchestra
DESCRIPTION:Esker Community ‘kulele Orchestra is a community music group based in Esker Arts in Tullamore and is open to all\, young and old\, and we are always looking for new members who would like to come along and join in the fun of making music together. All instruments and singers are welcome. \n 
URL:https://open-up.ie/calendar-listing/esker-community-kulele-orchestra/2029-05-08/
LOCATION:Tullamore
END:VEVENT
BEGIN:VEVENT
DTSTART;TZID=Europe/Dublin:20290515T190000
DTEND;TZID=Europe/Dublin:20290515T200000
DTSTAMP:20260419T133651
CREATED:20250224T110437Z
LAST-MODIFIED:20250224T110606Z
UID:10001361-1873566000-1873569600@open-up.ie
SUMMARY:ESKER COMMUNITY - Kulele Orchestra
DESCRIPTION:Esker Community ‘kulele Orchestra is a community music group based in Esker Arts in Tullamore and is open to all\, young and old\, and we are always looking for new members who would like to come along and join in the fun of making music together. All instruments and singers are welcome. \n 
URL:https://open-up.ie/calendar-listing/esker-community-kulele-orchestra/2029-05-15/
LOCATION:Tullamore
END:VEVENT
BEGIN:VEVENT
DTSTART;TZID=Europe/Dublin:20290522T190000
DTEND;TZID=Europe/Dublin:20290522T200000
DTSTAMP:20260419T133651
CREATED:20250224T110437Z
LAST-MODIFIED:20250224T110606Z
UID:10001362-1874170800-1874174400@open-up.ie
SUMMARY:ESKER COMMUNITY - Kulele Orchestra
DESCRIPTION:Esker Community ‘kulele Orchestra is a community music group based in Esker Arts in Tullamore and is open to all\, young and old\, and we are always looking for new members who would like to come along and join in the fun of making music together. All instruments and singers are welcome. \n 
URL:https://open-up.ie/calendar-listing/esker-community-kulele-orchestra/2029-05-22/
LOCATION:Tullamore
END:VEVENT
BEGIN:VEVENT
DTSTART;TZID=Europe/Dublin:20290529T190000
DTEND;TZID=Europe/Dublin:20290529T200000
DTSTAMP:20260419T133651
CREATED:20250224T110437Z
LAST-MODIFIED:20250224T110606Z
UID:10001363-1874775600-1874779200@open-up.ie
SUMMARY:ESKER COMMUNITY - Kulele Orchestra
DESCRIPTION:Esker Community ‘kulele Orchestra is a community music group based in Esker Arts in Tullamore and is open to all\, young and old\, and we are always looking for new members who would like to come along and join in the fun of making music together. All instruments and singers are welcome. \n 
URL:https://open-up.ie/calendar-listing/esker-community-kulele-orchestra/2029-05-29/
LOCATION:Tullamore
END:VEVENT
BEGIN:VEVENT
DTSTART;TZID=Europe/Dublin:20290605T190000
DTEND;TZID=Europe/Dublin:20290605T200000
DTSTAMP:20260419T133651
CREATED:20250224T110437Z
LAST-MODIFIED:20250224T110606Z
UID:10001364-1875380400-1875384000@open-up.ie
SUMMARY:ESKER COMMUNITY - Kulele Orchestra
DESCRIPTION:Esker Community ‘kulele Orchestra is a community music group based in Esker Arts in Tullamore and is open to all\, young and old\, and we are always looking for new members who would like to come along and join in the fun of making music together. All instruments and singers are welcome. \n 
URL:https://open-up.ie/calendar-listing/esker-community-kulele-orchestra/2029-06-05/
LOCATION:Tullamore
END:VEVENT
BEGIN:VEVENT
DTSTART;TZID=Europe/Dublin:20290612T190000
DTEND;TZID=Europe/Dublin:20290612T200000
DTSTAMP:20260419T133651
CREATED:20250224T110437Z
LAST-MODIFIED:20250224T110606Z
UID:10001365-1875985200-1875988800@open-up.ie
SUMMARY:ESKER COMMUNITY - Kulele Orchestra
DESCRIPTION:Esker Community ‘kulele Orchestra is a community music group based in Esker Arts in Tullamore and is open to all\, young and old\, and we are always looking for new members who would like to come along and join in the fun of making music together. All instruments and singers are welcome. \n 
URL:https://open-up.ie/calendar-listing/esker-community-kulele-orchestra/2029-06-12/
LOCATION:Tullamore
END:VEVENT
BEGIN:VEVENT
DTSTART;TZID=Europe/Dublin:20290619T190000
DTEND;TZID=Europe/Dublin:20290619T200000
DTSTAMP:20260419T133651
CREATED:20250224T110437Z
LAST-MODIFIED:20250224T110606Z
UID:10001366-1876590000-1876593600@open-up.ie
SUMMARY:ESKER COMMUNITY - Kulele Orchestra
DESCRIPTION:Esker Community ‘kulele Orchestra is a community music group based in Esker Arts in Tullamore and is open to all\, young and old\, and we are always looking for new members who would like to come along and join in the fun of making music together. All instruments and singers are welcome. \n 
URL:https://open-up.ie/calendar-listing/esker-community-kulele-orchestra/2029-06-19/
LOCATION:Tullamore
END:VEVENT
BEGIN:VEVENT
DTSTART;TZID=Europe/Dublin:20290626T190000
DTEND;TZID=Europe/Dublin:20290626T200000
DTSTAMP:20260419T133651
CREATED:20250224T110437Z
LAST-MODIFIED:20250224T110606Z
UID:10001367-1877194800-1877198400@open-up.ie
SUMMARY:ESKER COMMUNITY - Kulele Orchestra
DESCRIPTION:Esker Community ‘kulele Orchestra is a community music group based in Esker Arts in Tullamore and is open to all\, young and old\, and we are always looking for new members who would like to come along and join in the fun of making music together. All instruments and singers are welcome. \n 
URL:https://open-up.ie/calendar-listing/esker-community-kulele-orchestra/2029-06-26/
LOCATION:Tullamore
END:VEVENT
BEGIN:VEVENT
DTSTART;TZID=Europe/Dublin:20290703T190000
DTEND;TZID=Europe/Dublin:20290703T200000
DTSTAMP:20260419T133651
CREATED:20250224T110437Z
LAST-MODIFIED:20250224T110606Z
UID:10001368-1877799600-1877803200@open-up.ie
SUMMARY:ESKER COMMUNITY - Kulele Orchestra
DESCRIPTION:Esker Community ‘kulele Orchestra is a community music group based in Esker Arts in Tullamore and is open to all\, young and old\, and we are always looking for new members who would like to come along and join in the fun of making music together. All instruments and singers are welcome. \n 
URL:https://open-up.ie/calendar-listing/esker-community-kulele-orchestra/2029-07-03/
LOCATION:Tullamore
END:VEVENT
BEGIN:VEVENT
DTSTART;TZID=Europe/Dublin:20290710T190000
DTEND;TZID=Europe/Dublin:20290710T200000
DTSTAMP:20260419T133651
CREATED:20250224T110437Z
LAST-MODIFIED:20250224T110606Z
UID:10001369-1878404400-1878408000@open-up.ie
SUMMARY:ESKER COMMUNITY - Kulele Orchestra
DESCRIPTION:Esker Community ‘kulele Orchestra is a community music group based in Esker Arts in Tullamore and is open to all\, young and old\, and we are always looking for new members who would like to come along and join in the fun of making music together. All instruments and singers are welcome. \n 
URL:https://open-up.ie/calendar-listing/esker-community-kulele-orchestra/2029-07-10/
LOCATION:Tullamore
END:VEVENT
BEGIN:VEVENT
DTSTART;TZID=Europe/Dublin:20290717T190000
DTEND;TZID=Europe/Dublin:20290717T200000
DTSTAMP:20260419T133651
CREATED:20250224T110437Z
LAST-MODIFIED:20250224T110606Z
UID:10001370-1879009200-1879012800@open-up.ie
SUMMARY:ESKER COMMUNITY - Kulele Orchestra
DESCRIPTION:Esker Community ‘kulele Orchestra is a community music group based in Esker Arts in Tullamore and is open to all\, young and old\, and we are always looking for new members who would like to come along and join in the fun of making music together. All instruments and singers are welcome. \n 
URL:https://open-up.ie/calendar-listing/esker-community-kulele-orchestra/2029-07-17/
LOCATION:Tullamore
END:VEVENT
BEGIN:VEVENT
DTSTART;TZID=Europe/Dublin:20290724T190000
DTEND;TZID=Europe/Dublin:20290724T200000
DTSTAMP:20260419T133651
CREATED:20250224T110437Z
LAST-MODIFIED:20250224T110606Z
UID:10001371-1879614000-1879617600@open-up.ie
SUMMARY:ESKER COMMUNITY - Kulele Orchestra
DESCRIPTION:Esker Community ‘kulele Orchestra is a community music group based in Esker Arts in Tullamore and is open to all\, young and old\, and we are always looking for new members who would like to come along and join in the fun of making music together. All instruments and singers are welcome. \n 
URL:https://open-up.ie/calendar-listing/esker-community-kulele-orchestra/2029-07-24/
LOCATION:Tullamore
END:VEVENT
BEGIN:VEVENT
DTSTART;TZID=Europe/Dublin:20290731T190000
DTEND;TZID=Europe/Dublin:20290731T200000
DTSTAMP:20260419T133651
CREATED:20250224T110437Z
LAST-MODIFIED:20250224T110606Z
UID:10001372-1880218800-1880222400@open-up.ie
SUMMARY:ESKER COMMUNITY - Kulele Orchestra
DESCRIPTION:Esker Community ‘kulele Orchestra is a community music group based in Esker Arts in Tullamore and is open to all\, young and old\, and we are always looking for new members who would like to come along and join in the fun of making music together. All instruments and singers are welcome. \n 
URL:https://open-up.ie/calendar-listing/esker-community-kulele-orchestra/2029-07-31/
LOCATION:Tullamore
END:VEVENT
BEGIN:VEVENT
DTSTART;TZID=Europe/Dublin:20290807T190000
DTEND;TZID=Europe/Dublin:20290807T200000
DTSTAMP:20260419T133651
CREATED:20250224T110437Z
LAST-MODIFIED:20250224T110606Z
UID:10001373-1880823600-1880827200@open-up.ie
SUMMARY:ESKER COMMUNITY - Kulele Orchestra
DESCRIPTION:Esker Community ‘kulele Orchestra is a community music group based in Esker Arts in Tullamore and is open to all\, young and old\, and we are always looking for new members who would like to come along and join in the fun of making music together. All instruments and singers are welcome. \n 
URL:https://open-up.ie/calendar-listing/esker-community-kulele-orchestra/2029-08-07/
LOCATION:Tullamore
END:VEVENT
BEGIN:VEVENT
DTSTART;TZID=Europe/Dublin:20290814T190000
DTEND;TZID=Europe/Dublin:20290814T200000
DTSTAMP:20260419T133651
CREATED:20250224T110437Z
LAST-MODIFIED:20250224T110606Z
UID:10001374-1881428400-1881432000@open-up.ie
SUMMARY:ESKER COMMUNITY - Kulele Orchestra
DESCRIPTION:Esker Community ‘kulele Orchestra is a community music group based in Esker Arts in Tullamore and is open to all\, young and old\, and we are always looking for new members who would like to come along and join in the fun of making music together. All instruments and singers are welcome. \n 
URL:https://open-up.ie/calendar-listing/esker-community-kulele-orchestra/2029-08-14/
LOCATION:Tullamore
END:VEVENT
END:VCALENDAR